Report for POE-Loop-AnyEvent-0.004

Back
From: metabase:user:320bfe00-2aae-11df-837a-5e0a49663a4f
Subject: PASS POE-Loop-AnyEvent-0.004 v5.19.8 GNU/Linux
Date: 2014-02-18T03:29:54Z

This distribution has been tested as part of the CPAN Testers
project, supporting the Perl programming language.  See
http://wiki.cpantesters.org/ for more information or email
questions to cpan-testers-discuss@perl.org


--
Dear Chris Williams,

This is a computer-generated report for POE-Loop-AnyEvent-0.004
on perl 5.19.8, created by CPAN-Reporter-1.2010.

Thank you for uploading your work to CPAN.  Congratulations!
All tests were successful.

Sections of this report:

    * Tester comments
    * Program output
    * Prerequisites
    * Environment and other context

------------------------------
TESTER COMMENTS
------------------------------

Additional comments from tester:

this report is from an automated smoke testing program
and was not reviewed by a human for accuracy

------------------------------
PROGRAM OUTPUT
------------------------------

Output from '/usr/bin/make test':

PERL_DL_NONLAZY=1 /home/sand/src/perl/repoperls/installed-perls/perl/v5.19.8/9980/bin/perl "-MExtUtils::Command::MM" "-MTest::Harness" "-e" "undef *Test::Harness::Switches; test_harness(0, 'blib/lib', 'blib/arch')" t/*.t t/poe_loop_anyevent/*.t
# Testing POE 1.358, Perl 5.019008, /home/sand/src/perl/repoperls/installed-perls/perl/v5.19.8/9980/bin/perl on linux
t/00_info.t ......................................... ok
Too late to run CHECK block at /home/sand/src/perl/repoperls/installed-perls/perl/v5.19.8/9980/lib/site_perl/5.19.8/x86_64-linux-thread-multi/EV.pm line 123.
# Testing POE 1.358, POE::Test::Loops 1.354, Using Loop(POE::Loop::AnyEvent), Perl 5.019008, /home/sand/src/perl/repoperls/installed-perls/perl/v5.19.8/9980/bin/perl on linux
t/poe_loop_anyevent/00_info.t ....................... ok
t/poe_loop_anyevent/all_errors.t .................... skipped: most of these should move into other test files
Too late to run CHECK block at /home/sand/src/perl/repoperls/installed-perls/perl/v5.19.8/9980/lib/site_perl/5.19.8/x86_64-linux-thread-multi/EV.pm line 123.
t/poe_loop_anyevent/comp_tcp.t ...................... ok
Too late to run CHECK block at /home/sand/src/perl/repoperls/installed-perls/perl/v5.19.8/9980/lib/site_perl/5.19.8/x86_64-linux-thread-multi/EV.pm line 123.
# You might see a 'disconnect' error during this test.
# It may be ignored.
t/poe_loop_anyevent/comp_tcp_concurrent.t ........... ok
Too late to run CHECK block at /home/sand/src/perl/repoperls/installed-perls/perl/v5.19.8/9980/lib/site_perl/5.19.8/x86_64-linux-thread-multi/EV.pm line 123.
t/poe_loop_anyevent/connect_errors.t ................ ok
Too late to run CHECK block at /home/sand/src/perl/repoperls/installed-perls/perl/v5.19.8/9980/lib/site_perl/5.19.8/x86_64-linux-thread-multi/EV.pm line 123.
t/poe_loop_anyevent/k_alarms.t ...................... ok
Too late to run CHECK block at /home/sand/src/perl/repoperls/installed-perls/perl/v5.19.8/9980/lib/site_perl/5.19.8/x86_64-linux-thread-multi/EV.pm line 123.
t/poe_loop_anyevent/k_aliases.t ..................... ok
Too late to run CHECK block at /home/sand/src/perl/repoperls/installed-perls/perl/v5.19.8/9980/lib/site_perl/5.19.8/x86_64-linux-thread-multi/EV.pm line 123.
t/poe_loop_anyevent/k_detach.t ...................... ok
Too late to run CHECK block at /home/sand/src/perl/repoperls/installed-perls/perl/v5.19.8/9980/lib/site_perl/5.19.8/x86_64-linux-thread-multi/EV.pm line 123.
t/poe_loop_anyevent/k_run_returns.t ................. ok
Too late to run CHECK block at /home/sand/src/perl/repoperls/installed-perls/perl/v5.19.8/9980/lib/site_perl/5.19.8/x86_64-linux-thread-multi/EV.pm line 123.
t/poe_loop_anyevent/k_selects.t ..................... ok
Too late to run CHECK block at /home/sand/src/perl/repoperls/installed-perls/perl/v5.19.8/9980/lib/site_perl/5.19.8/x86_64-linux-thread-multi/EV.pm line 123.
# Waiting 2 seconds for child processes to settle.
t/poe_loop_anyevent/k_sig_child.t ................... ok
Too late to run CHECK block at /home/sand/src/perl/repoperls/installed-perls/perl/v5.19.8/9980/lib/site_perl/5.19.8/x86_64-linux-thread-multi/EV.pm line 123.
# Waiting 2 seconds for child processes to settle.
t/poe_loop_anyevent/k_signals.t ..................... ok
Too late to run CHECK block at /home/sand/src/perl/repoperls/installed-perls/perl/v5.19.8/9980/lib/site_perl/5.19.8/x86_64-linux-thread-multi/EV.pm line 123.
t/poe_loop_anyevent/k_signals_rerun.t ............... ok
Too late to run CHECK block at /home/sand/src/perl/repoperls/installed-perls/perl/v5.19.8/9980/lib/site_perl/5.19.8/x86_64-linux-thread-multi/EV.pm line 123.
t/poe_loop_anyevent/sbk_signal_init.t ............... ok
Too late to run CHECK block at /home/sand/src/perl/repoperls/installed-perls/perl/v5.19.8/9980/lib/site_perl/5.19.8/x86_64-linux-thread-multi/EV.pm line 123.
t/poe_loop_anyevent/ses_nfa.t ....................... ok
Too late to run CHECK block at /home/sand/src/perl/repoperls/installed-perls/perl/v5.19.8/9980/lib/site_perl/5.19.8/x86_64-linux-thread-multi/EV.pm line 123.
# This test generates some STDERR during trace testing.
=== 3375 === 23 -> _start (from /home/sand/src/perl/repoperls/installed-perls/perl/v5.19.8/9980/lib/site_perl/5.19.8/POE/Kernel.pm at 1479)
=== 3375 === 23 -> woot (from /home/sand/src/perl/repoperls/installed-perls/perl/v5.19.8/9980/lib/site_perl/5.19.8/POE/Test/Loops/ses_session.pm at 706)
=== 3375 === 23 -> narf (from /home/sand/src/perl/repoperls/installed-perls/perl/v5.19.8/9980/lib/site_perl/5.19.8/POE/Test/Loops/ses_session.pm at 707)
=== 3375 === 23 -> _stop (from /home/sand/src/perl/repoperls/installed-perls/perl/v5.19.8/9980/lib/site_perl/5.19.8/POE/Resource/Sessions.pm at 571)
t/poe_loop_anyevent/ses_session.t ................... ok
Too late to run CHECK block at /home/sand/src/perl/repoperls/installed-perls/perl/v5.19.8/9980/lib/site_perl/5.19.8/x86_64-linux-thread-multi/EV.pm line 123.
t/poe_loop_anyevent/wheel_accept.t .................. ok
t/poe_loop_anyevent/wheel_curses.t .................. skipped: Need help with Curses functions blocking under ptys
Too late to run CHECK block at /home/sand/src/perl/repoperls/installed-perls/perl/v5.19.8/9980/lib/site_perl/5.19.8/x86_64-linux-thread-multi/EV.pm line 123.
t/poe_loop_anyevent/wheel_readline.t ................ ok
Too late to run CHECK block at /home/sand/src/perl/repoperls/installed-perls/perl/v5.19.8/9980/lib/site_perl/5.19.8/x86_64-linux-thread-multi/EV.pm line 123.
t/poe_loop_anyevent/wheel_readwrite.t ............... ok
Too late to run CHECK block at /home/sand/src/perl/repoperls/installed-perls/perl/v5.19.8/9980/lib/site_perl/5.19.8/x86_64-linux-thread-multi/EV.pm line 123.
t/poe_loop_anyevent/wheel_run.t ..................... ok
Too late to run CHECK block at /home/sand/src/perl/repoperls/installed-perls/perl/v5.19.8/9980/lib/site_perl/5.19.8/x86_64-linux-thread-multi/EV.pm line 123.
t/poe_loop_anyevent/wheel_run_size.t ................ ok
t/poe_loop_anyevent/wheel_sf_ipv6.t ................. skipped: Socket::GetAddrInfo is needed for IPv6 tests
Too late to run CHECK block at /home/sand/src/perl/repoperls/installed-perls/perl/v5.19.8/9980/lib/site_perl/5.19.8/x86_64-linux-thread-multi/EV.pm line 123.
t/poe_loop_anyevent/wheel_sf_tcp.t .................. ok
Too late to run CHECK block at /home/sand/src/perl/repoperls/installed-perls/perl/v5.19.8/9980/lib/site_perl/5.19.8/x86_64-linux-thread-multi/EV.pm line 123.
t/poe_loop_anyevent/wheel_sf_udp.t .................. ok
Too late to run CHECK block at /home/sand/src/perl/repoperls/installed-perls/perl/v5.19.8/9980/lib/site_perl/5.19.8/x86_64-linux-thread-multi/EV.pm line 123.
t/poe_loop_anyevent/wheel_sf_unix.t ................. ok
Too late to run CHECK block at /home/sand/src/perl/repoperls/installed-perls/perl/v5.19.8/9980/lib/site_perl/5.19.8/x86_64-linux-thread-multi/EV.pm line 123.
t/poe_loop_anyevent/wheel_tail.t .................... ok
Too late to run CHECK block at /home/sand/src/perl/repoperls/installed-perls/perl/v5.19.8/9980/lib/site_perl/5.19.8/x86_64-linux-thread-multi/EV.pm line 123.
t/poe_loop_anyevent/z_kogman_sig_order.t ............ ok
Too late to run CHECK block at /home/sand/src/perl/repoperls/installed-perls/perl/v5.19.8/9980/lib/site_perl/5.19.8/x86_64-linux-thread-multi/EV.pm line 123.
t/poe_loop_anyevent/z_leolo_wheel_run.t ............. ok
Too late to run CHECK block at /home/sand/src/perl/repoperls/installed-perls/perl/v5.19.8/9980/lib/site_perl/5.19.8/x86_64-linux-thread-multi/EV.pm line 123.
# Using '/bin/true' as our thing to run under system()
t/poe_loop_anyevent/z_merijn_sigchld_system.t ....... ok
Too late to run CHECK block at /home/sand/src/perl/repoperls/installed-perls/perl/v5.19.8/9980/lib/site_perl/5.19.8/x86_64-linux-thread-multi/EV.pm line 123.
t/poe_loop_anyevent/z_rt39872_sigchld.t ............. ok
Too late to run CHECK block at /home/sand/src/perl/repoperls/installed-perls/perl/v5.19.8/9980/lib/site_perl/5.19.8/x86_64-linux-thread-multi/EV.pm line 123.
# Parent 4218 waiting 3sec for slow systems to settle.
# sending sigusr1
# sent sigusr1
t/poe_loop_anyevent/z_rt39872_sigchld_stop.t ........ ok
Too late to run CHECK block at /home/sand/src/perl/repoperls/installed-perls/perl/v5.19.8/9980/lib/site_perl/5.19.8/x86_64-linux-thread-multi/EV.pm line 123.
t/poe_loop_anyevent/z_rt53302_fh_watchers.t ......... ok
Too late to run CHECK block at /home/sand/src/perl/repoperls/installed-perls/perl/v5.19.8/9980/lib/site_perl/5.19.8/x86_64-linux-thread-multi/EV.pm line 123.
t/poe_loop_anyevent/z_rt54319_bazerka_followtail.t .. ok
Too late to run CHECK block at /home/sand/src/perl/repoperls/installed-perls/perl/v5.19.8/9980/lib/site_perl/5.19.8/x86_64-linux-thread-multi/EV.pm line 123.
t/poe_loop_anyevent/z_steinert_signal_integrity.t ... ok
t/release-pod-syntax.t .............................. skipped: these tests are for release candidate testing
All tests successful.
Files=37, Tests=494, 70 wallclock secs ( 0.17 usr  0.04 sys +  4.30 cusr  0.56 csys =  5.07 CPU)
Result: PASS

------------------------------
PREREQUISITES
------------------------------

Prerequisite modules loaded:

requires:

    Module              Need  Have   
    ------------------- ----- -------
    AnyEvent            0     7.07   
    POE                 1.289 1.358  

build_requires:

    Module              Need  Have   
    ------------------- ----- -------
    ExtUtils::MakeMaker 0     6.89_01

configure_requires:

    Module              Need  Have   
    ------------------- ----- -------
    ExtUtils::MakeMaker 6.30  6.89_01
    POE::Test::Loops    1.035 1.354  


------------------------------
ENVIRONMENT AND OTHER CONTEXT
------------------------------

Environment variables:

    AUTOMATED_TESTING = 1
    LANG = en_US.UTF-8
    LANGUAGE = en_US:en
    PATH = /usr/lib/ccache:/home/sand/bin:/usr/local/bin:/usr/bin:/bin:/usr/bin/X11:/usr/games:/usr/local/perl/bin:/usr/X11/bin:/sbin:/usr/sbin
    PERL5LIB = 
    PERL5OPT = 
    PERL5_CPANPLUS_IS_RUNNING = 2412
    PERL5_CPAN_IS_RUNNING = 2412
    PERL_MM_USE_DEFAULT = 1
    SHELL = /usr/bin/zsh
    TERM = screen

Perl special variables (and OS-specific diagnostics, for MSWin32):

    $^X = /home/sand/src/perl/repoperls/installed-perls/perl/v5.19.8/9980/bin/perl
    $UID/$EUID = 1005 / 1005
    $GID = 1005 1005
    $EGID = 1005 1005

Perl module toolchain versions installed:

    Module              Have    
    ------------------- --------
    CPAN                2.03    
    CPAN::Meta          2.133380
    Cwd                 3.45    
    ExtUtils::CBuilder  0.280213
    ExtUtils::Command   1.18    
    ExtUtils::Install   1.61    
    ExtUtils::MakeMaker 6.89_01 
    ExtUtils::Manifest  1.63    
    ExtUtils::ParseXS   3.23    
    File::Spec          3.45    
    JSON                2.90    
    JSON::PP            2.27203 
    Module::Build       0.4205  
    Module::Signature   0.73    
    Parse::CPAN::Meta   1.4413  
    Test::Harness       3.30    
    Test::More          1.001002
    YAML                0.90    
    YAML::Syck          1.27    
    version             0.9908  


--

Summary of my perl5 (revision 5 version 19 subversion 8) configuration:
  Commit id: f1a26846dca563375a36bab4a5086c67edf623c1
  Platform:
    osname=linux, osvers=3.12-1-amd64, archname=x86_64-linux-thread-multi
    uname='linux k83 3.12-1-amd64 #1 smp debian 3.12.6-2 (2013-12-29) x86_64 gnulinux '
    config_args='-Dprefix=/home/sand/src/perl/repoperls/installed-perls/perl/v5.19.8/9980 -Dmyhostname=k83 -Dinstallusrbinperl=n -Uversiononly -Dusedevel -des -Ui_db -Duseithreads -Uuselongdouble -DDEBUGGING=-g'
    hint=recommended, useposix=true, d_sigaction=define
    useithreads=define, usemultiplicity=define
    use64bitint=define, use64bitall=define, uselongdouble=undef
    usemymalloc=n, bincompat5005=undef
  Compiler:
    cc='cc', ccflags ='-D_REENTRANT -D_GNU_SOURCE -fno-strict-aliasing -pipe -fstack-protector -I/usr/local/include -D_LARGEFILE_SOURCE -D_FILE_OFFSET_BITS=64',
    optimize='-O2 -g',
    cppflags='-D_REENTRANT -D_GNU_SOURCE -fno-strict-aliasing -pipe -fstack-protector -I/usr/local/include'
    ccversion='', gccversion='4.8.2', gccosandvers=''
    intsize=4, longsize=8, ptrsize=8, doublesize=8, byteorder=12345678
    d_longlong=define, longlongsize=8, d_longdbl=define, longdblsize=16
    ivtype='long', ivsize=8, nvtype='double', nvsize=8, Off_t='off_t', lseeksize=8
    alignbytes=8, prototype=define
  Linker and Libraries:
    ld='cc', ldflags =' -fstack-protector -L/usr/local/lib'
    libpth=/usr/local/lib /usr/lib/gcc/x86_64-linux-gnu/4.8/include-fixed /usr/include/x86_64-linux-gnu /usr/lib /lib/x86_64-linux-gnu /lib/../lib /usr/lib/x86_64-linux-gnu /usr/lib/../lib /lib
    libs=-lnsl -lgdbm -ldb -ldl -lm -lcrypt -lutil -lpthread -lc -lgdbm_compat
    perllibs=-lnsl -ldl -lm -lcrypt -lutil -lpthread -lc
    libc=, so=so, useshrplib=false, libperl=libperl.a
    gnulibc_version='2.17'
  Dynamic Linking:
    dlsrc=dl_dlopen.xs, dlext=so, d_dlsymun=undef, ccdlflags='-Wl,-E'
    cccdlflags='-fPIC', lddlflags='-shared -O2 -g -L/usr/local/lib -fstack-protector'


Characteristics of this binary (from libperl): 
  Compile-time options: HAS_TIMES MULTIPLICITY PERLIO_LAYERS
                        PERL_DONT_CREATE_GVSV
                        PERL_HASH_FUNC_ONE_AT_A_TIME_HARD
                        PERL_IMPLICIT_CONTEXT PERL_MALLOC_WRAP
                        PERL_NEW_COPY_ON_WRITE PERL_PRESERVE_IVUV
                        PERL_USE_DEVEL USE_64_BIT_ALL USE_64_BIT_INT
                        USE_ITHREADS USE_LARGE_FILES USE_LOCALE
                        USE_LOCALE_COLLATE USE_LOCALE_CTYPE
                        USE_LOCALE_NUMERIC USE_PERLIO USE_PERL_ATOF
                        USE_REENTRANT_API
  Built under linux
  Compiled at Jan 21 2014 06:01:25
  %ENV:
    PERL5LIB=""
    PERL5OPT=""
    PERL5_CPANPLUS_IS_RUNNING="2412"
    PERL5_CPAN_IS_RUNNING="2412"
    PERL_MM_USE_DEFAULT="1"
  @INC:
    /home/sand/src/perl/repoperls/installed-perls/perl/v5.19.8/9980/lib/site_perl/5.19.8/x86_64-linux-thread-multi
    /home/sand/src/perl/repoperls/installed-perls/perl/v5.19.8/9980/lib/site_perl/5.19.8
    /home/sand/src/perl/repoperls/installed-perls/perl/v5.19.8/9980/lib/5.19.8/x86_64-linux-thread-multi
    /home/sand/src/perl/repoperls/installed-perls/perl/v5.19.8/9980/lib/5.19.8
    .