XML-Feed v0.65 Perl 5 v5.16.3 MSWin32-x64-multi-thread

Status
Pass
From
twata
Dist
XML-Feed v0.65
Platform
Perl 5 v5.16.3 MSWin32-x64-multi-thread
Date
2024-07-20 10:34:30
ID
ef2cc98e-6f2f-1014-a971-964bcb952333
This distribution has been tested as part of the CPAN Testers
project, supporting the Perl programming language.  See
http://wiki.cpantesters.org/ for more information or email
questions to cpan-testers-discuss@perl.org


--
Dear Dave Cross,

This is a computer-generated report for XML-Feed-0.65
on perl 5.16.3, created by CPAN-Reporter-1.2019.

Thank you for uploading your work to CPAN.  Congratulations!
All tests were successful.

Sections of this report:

    * Tester comments
    * Program output
    * Prerequisites
    * Environment and other context

------------------------------
TESTER COMMENTS
------------------------------

Additional comments from tester:

none provided

------------------------------
PROGRAM OUTPUT
------------------------------

Output from 'C:\Strawberry\perl\bin\perl.exe ./Build test':

t\00-compile.t .................. ok
t\01-parse.t .................... ok
t\02-create.t ................... ok
t\04-splice-atom.t .............. ok
t\04-splice-rss.t ............... ok
t\05-atom10-link.t .............. ok
t\06-atom10.t ................... ok
t\07-atom10-create.t ............ ok
t\08-convert-summary-bug.t ...... ok
t\09-missing-content-bug.t ...... ok
t\10-mix-and-match.t ............ ok
t\11-xml-base-atom.t ............ ok
t\11-xml-base-rss.t ............. ok
t\12-multi-categories-atom.t .... ok
t\12-multi-categories-rss.t ..... ok
t\12-multi-subjects-rss.t ....... ok
t\13-category-hash-bug.t ........ ok
t\14-enclosures.t ............... ok
t\14-multi-enclosures.t ......... ok
t\15-odd-date.t ................. ok
t\16-convert-mult-categories.t .. ok
t\17-double.t ................... ok
t\18-double2.t .................. ok
t\19-double3.t .................. ok
t\20-no-enclosures.t ............ ok
t\21-rss2-permalinks.t .......... ok
t\22-bug73160.t ................. ok
t\23-eval.t ..................... ok
t\24-identify-feed.t ............ ok
t\25-date-format-bug.t .......... ok
t\26-content-encoded.t .......... ok
t\27-dummy-content-encoded.t .... ok
t\28-rss-guid.t ................. ok
t\29-date-parsing.t ............. ok
t\30-date-format-timezone.t ..... ok
t\has-version.t ................. ok
t\pod-coverage.t ................ ok
t\pod.t ......................... ok
t\relative-links.t .............. ok
All tests successful.
Files=39, Tests=836, 66 wallclock secs ( 0.30 usr +  0.11 sys =  0.41 CPU)
Result: PASS

------------------------------
PREREQUISITES
------------------------------

Prerequisite modules loaded:

requires:

    Module                     Need    Have    
    -------------------------- ------- --------
    Class::ErrorHandler        0       0.01    
    DateTime                   0       1.65    
    DateTime::Format::Flexible 0       0.33    
    DateTime::Format::ISO8601  0       0.16    
    DateTime::Format::Mail     0       0.403   
    DateTime::Format::Natural  0       1.18    
    DateTime::Format::W3CDTF   0       0.08    
    Feed::Find                 0       0.13    
    HTML::Entities             0       3.82    
    HTML::TokeParser           0       3.82    
    List::Util                 0       1.63    
    LWP::UserAgent             0       6.77    
    Module::Pluggable          0       5.2     
    perl                       v5.10.0 5.016003
    Scalar::Util               0       1.63    
    Test::More                 0       1.302199
    URI::Fetch                 0       0.15    
    XML::Atom                  0.38    0.43    
    XML::LibXML                1.66    2.0210  
    XML::RSS                   1.47    1.63    

build_requires:

    Module                     Need    Have    
    -------------------------- ------- --------
    URI                        0       5.28    
    XML::XPath                 0       1.48    

configure_requires:

    Module                     Need    Have    
    -------------------------- ------- --------
    Module::Build              0.42    0.42_35 


------------------------------
ENVIRONMENT AND OTHER CONTEXT
------------------------------

Environment variables:

    COMSPEC = C:\WINDOWS\system32\cmd.exe
    NONINTERACTIVE_TESTING = 1
    NUMBER_OF_PROCESSORS = 4
    PATH = C:\home\pianokey\perl5\bin;C:\WINDOWS\system32;C:\WINDOWS;C:\WINDOWS\System32\Wbem;C:\WINDOWS\System32\WindowsPowerShell\v1.0\;C:\Strawberry\c\bin;C:\Strawberry\perl\site\bin;C:\Strawberry\perl\bin
    PERL5LIB = C:\home\pianokey\perl5\lib\perl5
    PERL5OPT = 
    PERL5_CPANPLUS_IS_RUNNING = 8100
    PERL5_CPAN_IS_RUNNING = 8100
    PERL_LOCAL_LIB_ROOT = C:\home\pianokey\perl5
    PERL_MB_OPT = --install_base "C:\\home\\pianokey\\perl5"
    PERL_MM_OPT = INSTALL_BASE=C:\\home\\pianokey\\perl5
    PERL_MM_USE_DEFAULT = 1
    PERL_USE_UNSAFE_INC = 1
    PROCESSOR_IDENTIFIER = Intel64 Family 6 Model 58 Stepping 9, GenuineIntel
    TEMP = C:\Users\USER\AppData\Local\Temp
    TERM = dumb

Perl special variables (and OS-specific diagnostics, for MSWin32):

    $^X = C:\Strawberry\perl\bin\perl.exe
    $UID/$EUID = 0 / 0
    $GID = 0
    $EGID = 0
    Win32::GetOSName = Win8
    Win32::GetOSVersion = , 6, 2, 9200, 2, 0, 0, 256, 1
    Win32::FsType = NTFS
    Win32::IsAdminUser = 0

Perl module toolchain versions installed:

    Module              Have    
    ------------------- --------
    CPAN                2.34    
    CPAN::Meta          2.150010
    Cwd                 3.75    
    ExtUtils::CBuilder  0.280236
    ExtUtils::Command   7.71_01 
    ExtUtils::Install   2.22    
    ExtUtils::MakeMaker 7.71_01 
    ExtUtils::Manifest  1.75    
    ExtUtils::ParseXS   3.51    
    File::Spec          3.75    
    JSON                4.10    
    JSON::PP            4.17_01 
    Module::Build       0.42_35 
    Module::Signature   0.88    
    Parse::CPAN::Meta   2.150010
    Test2               1.302199
    Test::Harness       3.49_02 
    Test::More          1.302199
    YAML                1.31    
    YAML::Syck          1.34    
    version             0.9932  


--

Summary of my perl5 (revision 5 version 16 subversion 3) configuration:
   
  Platform:
    osname=MSWin32, osvers=4.0, archname=MSWin32-x64-multi-thread
    uname='Win32 strawberry-perl 5.16.3.1 #1 Tue Mar 12 12:12:07 2013 x64'
    config_args='undef'
    hint=recommended, useposix=true, d_sigaction=undef
    useithreads=define, usemultiplicity=define
    useperlio=define, d_sfio=undef, uselargefiles=define, usesocks=undef
    use64bitint=define, use64bitall=undef, uselongdouble=undef
    usemymalloc=n, bincompat5005=undef
  Compiler:
    cc='gcc', ccflags =' -s -O2 -DWIN32 -DWIN64 -DCONSERVATIVE  -DPERL_TEXTMODE_SCRIPTS -DPERL_IMPLICIT_CONTEXT -DPERL_IMPLICIT_SYS -fno-strict-aliasing -mms-bitfields',
    optimize='-s -O2',
    cppflags='-DWIN32'
    ccversion='', gccversion='4.6.3', gccosandvers=''
    intsize=4, longsize=4, ptrsize=8, doublesize=8, byteorder=12345678
    d_longlong=define, longlongsize=8, d_longdbl=define, longdblsize=12
    ivtype='long long', ivsize=8, nvtype='double', nvsize=8, Off_t='long long', lseeksize=8
    alignbytes=8, prototype=define
  Linker and Libraries:
    ld='g++', ldflags ='-s -L"C:\Strawberry\perl\lib\CORE" -L"C:\Strawberry\c\lib"'
    libpth=C:\Strawberry\c\lib C:\Strawberry\c\x86_64-w64-mingw32\lib
    libs=-lmoldname -lkernel32 -luser32 -lgdi32 -lwinspool -lcomdlg32 -ladvapi32 -lshell32 -lole32 -loleaut32 -lnetapi32 -luuid -lws2_32 -lmpr -lwinmm -lversion -lodbc32 -lodbccp32 -lcomctl32
    perllibs=-lmoldname -lkernel32 -luser32 -lgdi32 -lwinspool -lcomdlg32 -ladvapi32 -lshell32 -lole32 -loleaut32 -lnetapi32 -luuid -lws2_32 -lmpr -lwinmm -lversion -lodbc32 -lodbccp32 -lcomctl32
    libc=, so=dll, useshrplib=true, libperl=libperl516.a
    gnulibc_version=''
  Dynamic Linking:
    dlsrc=dl_win32.xs, dlext=dll, d_dlsymun=undef, ccdlflags=' '
    cccdlflags=' ', lddlflags='-mdll -s -L"C:\Strawberry\perl\lib\CORE" -L"C:\Strawberry\c\lib"'


Characteristics of this binary (from libperl): 
  Compile-time options: HAS_TIMES HAVE_INTERP_INTERN MULTIPLICITY
                        PERLIO_LAYERS PERL_DONT_CREATE_GVSV
                        PERL_IMPLICIT_CONTEXT PERL_IMPLICIT_SYS
                        PERL_MALLOC_WRAP PERL_PRESERVE_IVUV PL_OP_SLAB_ALLOC
                        USE_64_BIT_INT USE_ITHREADS USE_LARGE_FILES
                        USE_LOCALE USE_LOCALE_COLLATE USE_LOCALE_CTYPE
                        USE_LOCALE_NUMERIC USE_PERLIO USE_PERL_ATOF
  Built under MSWin32
  Compiled at Mar 12 2013 12:16:40
  %ENV:
    PERL5LIB="C:\home\pianokey\perl5\lib\perl5"
    PERL5_CPANPLUS_IS_RUNNING="8100"
    PERL5_CPAN_IS_RUNNING="8100"
    PERL_LOCAL_LIB_ROOT="C:\home\pianokey\perl5"
    PERL_MB_OPT="--install_base "C:\\home\\pianokey\\perl5""
    PERL_MM_OPT="INSTALL_BASE=C:\\home\\pianokey\\perl5"
    PERL_MM_USE_DEFAULT="1"
    PERL_USE_UNSAFE_INC="1"
  @INC:
    C:\home\pianokey\perl5\lib\perl5/MSWin32-x64-multi-thread
    C:\home\pianokey\perl5\lib\perl5
    C:/Strawberry/perl/site/lib
    C:/Strawberry/perl/vendor/lib
    C:/Strawberry/perl/lib
    .