Report for Plack-Middleware-MethodOverride-0.12

Back
From: metabase:user:314402c4-2aae-11df-837a-5e0a49663a4f
Subject: PASS Plack-Middleware-MethodOverride-0.12 v5.21.8 FreeBSD
Date: 2015-02-15T09:13:41Z

This distribution has been tested as part of the CPAN Testers
project, supporting the Perl programming language.  See
http://wiki.cpantesters.org/ for more information or email
questions to cpan-testers-discuss@perl.org


--
Dear Aristotle Pagaltzis,

This is a computer-generated report for Plack-Middleware-MethodOverride-0.12
on perl 5.21.8, created by CPAN-Reporter-1.2011.

Thank you for uploading your work to CPAN.  Congratulations!
All tests were successful.

Sections of this report:

    * Tester comments
    * Program output
    * Prerequisites
    * Environment and other context

------------------------------
TESTER COMMENTS
------------------------------

Additional comments from tester:

none provided

------------------------------
PROGRAM OUTPUT
------------------------------

Output from '/usr/bin/make test':

PERL_DL_NONLAZY=1 "/usr/perl5.21.8/bin/perl5.21.8" "-MExtUtils::Command::MM" "-MTest::Harness" "-e" "undef *Test::Harness::Switches; test_harness(0, 'blib/lib', 'blib/arch')" t/*.t
t/00-compile.t .... ok
Use of uninitialized value in uc at /usr/local/src/CPAN/build/Plack-Middleware-MethodOverride-0.12-jc4xuY/blib/lib/Plack/Middleware/MethodOverride.pm line 30.
t/base.t .......... ok
t/pod-spelling.t .. skipped: Test::Spelling required for testing POD spelling
t/pod.t ........... ok
All tests successful.
Files=4, Tests=35,  3 wallclock secs ( 0.11 usr  0.02 sys +  1.49 cusr  0.43 csys =  2.05 CPU)
Result: PASS

------------------------------
PREREQUISITES
------------------------------

Prerequisite modules loaded:

requires:

    Module                Need     Have        
    --------------------- -------- ------------
    parent                0        0.228       
    perl                  5.008001 5.021008    
    Plack::Middleware     0        0           
    Plack::Request        0        1.0033      
    Plack::Util::Accessor 0        0           
    strict                0        1.09        

build_requires:

    Module                Need     Have        
    --------------------- -------- ------------
    ExtUtils::MakeMaker   0        7.04        
    File::Find            0        1.29        
    File::Temp            0        0.2304      
    Plack::Test           0        0           
    Test::More            0        1.301001_097
    URI                   0        1.65        
    warnings              0        1.30        

configure_requires:

    Module                Need     Have        
    --------------------- -------- ------------
    ExtUtils::MakeMaker   0        7.04        


------------------------------
ENVIRONMENT AND OTHER CONTEXT
------------------------------

Environment variables:

    DBIC_NO_WARN_BAD_PERL = 1
    PATH = /usr/local/bin:/usr/bin:/bin:/usr/local/sbin:/usr/sbin:/sbin:/home/e/eserte/bin/freebsd9.1:/home/e/eserte/bin/sh:/home/e/eserte/bin:/usr/games:/home/e/eserte/devel:/home/e/eserte/src/srezic-misc/scripts
    PERL5LIB = /usr/local/src/CPAN/build/Plack-Middleware-ReverseProxy-0.15-_hY_QA/blib/arch:/usr/local/src/CPAN/build/Plack-Middleware-ReverseProxy-0.15-_hY_QA/blib/lib:/usr/local/src/CPAN/build/MooseX-Emulate-Class-Accessor-Fast-0.00903-h4kHKD/blib/arch:/usr/local/src/CPAN/build/MooseX-Emulate-Class-Accessor-Fast-0.00903-h4kHKD/blib/lib:/usr/local/src/CPAN/build/MooseX-MethodAttributes-0.29-6zDlad/blib/arch:/usr/local/src/CPAN/build/MooseX-MethodAttributes-0.29-6zDlad/blib/lib:/usr/local/src/CPAN/build/Plack-Middleware-FixMissingBodyInRedirect-0.12-WYh4KH/blib/arch:/usr/local/src/CPAN/build/Plack-Middleware-FixMissingBodyInRedirect-0.12-WYh4KH/blib/lib:/usr/local/src/CPAN/build/Tree-Simple-1.25-wyZC2s/blib/arch:/usr/local/src/CPAN/build/Tree-Simple-1.25-wyZC2s/blib/lib
    PERL5OPT = 
    PERL5_CPANPLUS_IS_RUNNING = 90501
    PERL5_CPAN_IS_RUNNING = 90501
    PERL5_CPAN_IS_RUNNING_IN_RECURSION = 90206,90501
    PERLDOC = -MPod::Perldoc::ToTextOverstrike
    PERL_BATCH = yes
    PERL_CPAN_REPORTER_CONFIG = /var/tmp/cpansmoker-1000/9gFqyE_n_l_config.ini
    PERL_EXTUTILS_AUTOINSTALL = --defaultdeps
    PERL_HTML_DISPLAY_CLASS = HTML::Display::Mozilla
    SHELL = /usr/local/bin/zsh
    TERM = screen
    TMPDIR = /var/tmp/cpansmoker-1000

Perl special variables (and OS-specific diagnostics, for MSWin32):

    $^X = /usr/perl5.21.8/bin/perl5.21.8
    $UID/$EUID = 1000 / 1000
    $GID = 1000 1000 0 5 1023 1024
    $EGID = 1000 1000 0 5 1023 1024

Perl module toolchain versions installed:

    Module              Have        
    ------------------- ------------
    CPAN                2.05        
    CPAN::Meta          2.143240    
    Cwd                 3.54        
    ExtUtils::CBuilder  0.280221    
    ExtUtils::Command   1.20        
    ExtUtils::Install   2.04        
    ExtUtils::MakeMaker 7.04        
    ExtUtils::Manifest  1.70        
    ExtUtils::ParseXS   3.27        
    File::Spec          3.53        
    JSON                2.90        
    JSON::PP            2.27300     
    Module::Build       0.4211      
    Module::Signature   n/a         
    Parse::CPAN::Meta   1.4414      
    Test::Harness       3.35        
    Test::More          1.301001_097
    YAML                1.14        
    YAML::Syck          1.29        
    version             0.9909      


--

Summary of my perl5 (revision 5 version 21 subversion 8) configuration:
   
  Platform:
    osname=freebsd, osvers=9.2-release, archname=amd64-freebsd
    uname='freebsd cvrsnica.herceg.de 9.2-release freebsd 9.2-release #0 r255898: thu sep 26 22:50:31 utc 2013 root@bake.isc.freebsd.org:usrobjusrsrcsysgeneric amd64 '
    config_args='-D useshrplib=true -Dprefix=/usr/perl5.21.8 -Dusemymalloc=n -D cc=ccache cc -D usedevel=define -Duse64bit -de -D hintfile=myfreebsd'
    hint=recommended, useposix=true, d_sigaction=define
    useithreads=undef, usemultiplicity=undef
    use64bitint=define, use64bitall=define, uselongdouble=undef
    usemymalloc=n, bincompat5005=undef
  Compiler:
    cc='ccache cc', ccflags ='-DHAS_FPSETMASK -DHAS_FLOATINGPOINT_H -fno-strict-aliasing -pipe -fstack-protector -I/usr/local/include -D_FORTIFY_SOURCE=2',
    optimize='-O',
    cppflags='-DHAS_FPSETMASK -DHAS_FLOATINGPOINT_H -fno-strict-aliasing -pipe -fstack-protector -I/usr/local/include'
    ccversion='', gccversion='4.2.1 20070831 patched [FreeBSD]', gccosandvers=''
    intsize=4, longsize=8, ptrsize=8, doublesize=8, byteorder=12345678, doublekind=3
    d_longlong=define, longlongsize=8, d_longdbl=define, longdblsize=16, longdblkind=3
    ivtype='long', ivsize=8, nvtype='double', nvsize=8, Off_t='off_t', lseeksize=8
    alignbytes=8, prototype=define
  Linker and Libraries:
    ld='ccache cc', ldflags ='-Wl,-E  -fstack-protector -L/usr/local/lib'
    libpth=/usr/lib /usr/local/lib /usr/include/gcc/4.2 /usr/lib
    libs=-lpthread -lgdbm -lm -lcrypt -lutil -lc
    perllibs=-lpthread -lm -lcrypt -lutil -lc
    libc=, so=so, useshrplib=true, libperl=libperl.so
    gnulibc_version=''
  Dynamic Linking:
    dlsrc=dl_dlopen.xs, dlext=so, d_dlsymun=undef, ccdlflags='  -Wl,-R/usr/perl5.21.8/lib/5.21.8/amd64-freebsd/CORE'
    cccdlflags='-DPIC -fPIC', lddlflags='-shared  -L/usr/local/lib -fstack-protector'


Characteristics of this binary (from libperl): 
  Compile-time options: HAS_TIMES PERLIO_LAYERS PERL_DONT_CREATE_GVSV
                        PERL_HASH_FUNC_ONE_AT_A_TIME_HARD PERL_MALLOC_WRAP
                        PERL_NEW_COPY_ON_WRITE PERL_PRESERVE_IVUV
                        PERL_USE_DEVEL USE_64_BIT_ALL USE_64_BIT_INT
                        USE_LARGE_FILES USE_LOCALE USE_LOCALE_COLLATE
                        USE_LOCALE_CTYPE USE_LOCALE_NUMERIC USE_LOCALE_TIME
                        USE_PERLIO USE_PERL_ATOF
  Built under freebsd
  Compiled at Jan 20 2015 21:38:19
  %ENV:
    PERL5LIB="/usr/local/src/CPAN/build/Plack-Middleware-ReverseProxy-0.15-_hY_QA/blib/arch:/usr/local/src/CPAN/build/Plack-Middleware-ReverseProxy-0.15-_hY_QA/blib/lib:/usr/local/src/CPAN/build/MooseX-Emulate-Class-Accessor-Fast-0.00903-h4kHKD/blib/arch:/usr/local/src/CPAN/build/MooseX-Emulate-Class-Accessor-Fast-0.00903-h4kHKD/blib/lib:/usr/local/src/CPAN/build/MooseX-MethodAttributes-0.29-6zDlad/blib/arch:/usr/local/src/CPAN/build/MooseX-MethodAttributes-0.29-6zDlad/blib/lib:/usr/local/src/CPAN/build/Plack-Middleware-FixMissingBodyInRedirect-0.12-WYh4KH/blib/arch:/usr/local/src/CPAN/build/Plack-Middleware-FixMissingBodyInRedirect-0.12-WYh4KH/blib/lib:/usr/local/src/CPAN/build/Tree-Simple-1.25-wyZC2s/blib/arch:/usr/local/src/CPAN/build/Tree-Simple-1.25-wyZC2s/blib/lib"
    PERL5OPT=""
    PERL5_CPANPLUS_IS_RUNNING="90501"
    PERL5_CPAN_IS_RUNNING="90501"
    PERL5_CPAN_IS_RUNNING_IN_RECURSION="90206,90501"
    PERLDOC="-MPod::Perldoc::ToTextOverstrike"
    PERL_BATCH="yes"
    PERL_CPAN_REPORTER_CONFIG="/var/tmp/cpansmoker-1000/9gFqyE_n_l_config.ini"
    PERL_EXTUTILS_AUTOINSTALL="--defaultdeps"
    PERL_HTML_DISPLAY_CLASS="HTML::Display::Mozilla"
  @INC:
    /usr/local/src/CPAN/build/Plack-Middleware-ReverseProxy-0.15-_hY_QA/blib/arch
    /usr/local/src/CPAN/build/Plack-Middleware-ReverseProxy-0.15-_hY_QA/blib/lib
    /usr/local/src/CPAN/build/MooseX-Emulate-Class-Accessor-Fast-0.00903-h4kHKD/blib/arch
    /usr/local/src/CPAN/build/MooseX-Emulate-Class-Accessor-Fast-0.00903-h4kHKD/blib/lib
    /usr/local/src/CPAN/build/MooseX-MethodAttributes-0.29-6zDlad/blib/arch
    /usr/local/src/CPAN/build/MooseX-MethodAttributes-0.29-6zDlad/blib/lib
    /usr/local/src/CPAN/build/Plack-Middleware-FixMissingBodyInRedirect-0.12-WYh4KH/blib/arch
    /usr/local/src/CPAN/build/Plack-Middleware-FixMissingBodyInRedirect-0.12-WYh4KH/blib/lib
    /usr/local/src/CPAN/build/Tree-Simple-1.25-wyZC2s/blib/arch
    /usr/local/src/CPAN/build/Tree-Simple-1.25-wyZC2s/blib/lib
    /usr/perl5.21.8/lib/site_perl/5.21.8/amd64-freebsd
    /usr/perl5.21.8/lib/site_perl/5.21.8
    /usr/perl5.21.8/lib/5.21.8/amd64-freebsd
    /usr/perl5.21.8/lib/5.21.8
    .