Report for Gtk2-1.2495

Back
From: metabase:user:314402c4-2aae-11df-837a-5e0a49663a4f
Subject: PASS Gtk2-1.2495 v5.20.1 FreeBSD
Date: 2015-03-14T19:54:33Z

This distribution has been tested as part of the CPAN Testers
project, supporting the Perl programming language.  See
http://wiki.cpantesters.org/ for more information or email
questions to cpan-testers-discuss@perl.org


--
Dear Brian Manning,

This is a computer-generated report for Gtk2-1.2495
on perl 5.20.1, created by CPAN-Reporter-1.2011.

Thank you for uploading your work to CPAN.  Congratulations!
All tests were successful.

Sections of this report:

    * Tester comments
    * Program output
    * Prerequisites
    * Environment and other context

------------------------------
TESTER COMMENTS
------------------------------

Additional comments from tester:

none provided

------------------------------
PROGRAM OUTPUT
------------------------------

Output from '/usr/bin/make test':

Running Mkbootstrap for Gtk2 ()
chmod 644 "Gtk2.bs"
PERL_DL_NONLAZY=1 "/usr/perl5.20.1Dp/bin/perl" "-MExtUtils::Command::MM" "-MTest::Harness" "-e" "undef *Test::Harness::Switches; test_harness(0, 'blib/lib', 'blib/arch')" t/*.t
# Testing Gtk2 1.2495
#    Running against gtk+ 2.24.25
#   Compiled against gtk+ 2.24.25
Xlib:  extension "RANDR" missing on display ":5".
t/00.Gtk2.t ........................ ok
Xlib:  extension "RANDR" missing on display ":5".
t/01.GtkWindow.t ................... ok
Xlib:  extension "RANDR" missing on display ":5".
t/02.GtkContainer.t ................ ok
t/constants.t ...................... ok
Xlib:  extension "RANDR" missing on display ":5".
t/Gdk.t ............................ ok
Xlib:  extension "RANDR" missing on display ":5".
t/GdkCairo.t ....................... ok
Xlib:  extension "RANDR" missing on display ":5".
t/GdkColor.t ....................... ok
Xlib:  extension "RANDR" missing on display ":5".
t/GdkCursor.t ...................... ok
Xlib:  extension "RANDR" missing on display ":5".
Xlib:  extension "RANDR" missing on display ":5".
Xlib:  extension "RANDR" missing on display ":5".
t/GdkDisplay.t ..................... ok
Xlib:  extension "RANDR" missing on display ":5".
t/GdkDisplayManager.t .............. ok
Xlib:  extension "RANDR" missing on display ":5".
t/GdkDrawable.t .................... ok
Xlib:  extension "RANDR" missing on display ":5".
t/GdkEvent.t ....................... ok
Xlib:  extension "RANDR" missing on display ":5".
t/GdkGC.t .......................... ok
Xlib:  extension "RANDR" missing on display ":5".
t/GdkImage.t ....................... ok
Xlib:  extension "RANDR" missing on display ":5".
t/GdkInput.t ....................... ok
Xlib:  extension "RANDR" missing on display ":5".
t/GdkKeys.t ........................ ok
Xlib:  extension "RANDR" missing on display ":5".
t/GdkPango.t ....................... ok
Xlib:  extension "RANDR" missing on display ":5".
t/GdkPixbuf.t ...................... ok
t/GdkPixbufLoader.t ................ ok
t/GdkPixbufSimpleAnim.t ............ ok
Xlib:  extension "RANDR" missing on display ":5".
Gdk-WARNING **: XID collision, trouble ahead at t/GdkPixmap.t line 16.
Gdk-WARNING **: XID collision, trouble ahead at t/GdkPixmap.t line 25.
Gdk-WARNING **: XID collision, trouble ahead at t/GdkPixmap.t line 40.
t/GdkPixmap.t ...................... ok
Xlib:  extension "RANDR" missing on display ":5".
t/GdkProperty.t .................... ok
t/GdkRegion.t ...................... ok
Xlib:  extension "RANDR" missing on display ":5".
t/GdkRgb.t ......................... ok
Xlib:  extension "RANDR" missing on display ":5".
t/GdkScreen.t ...................... ok
Xlib:  extension "RANDR" missing on display ":5".
t/GdkSelection.t ................... ok
Xlib:  extension "RANDR" missing on display ":5".
t/GdkVisual.t ...................... ok
Xlib:  extension "RANDR" missing on display ":5".
t/GdkWindow.t ...................... ok
Xlib:  extension "RANDR" missing on display ":5".
t/GdkX11.t ......................... ok
Xlib:  extension "RANDR" missing on display ":5".
t/GtkAboutDialog.t ................. ok
Xlib:  extension "RANDR" missing on display ":5".
t/GtkAccelGroup.t .................. ok
Xlib:  extension "RANDR" missing on display ":5".
t/GtkAccelLabel.t .................. ok
Xlib:  extension "RANDR" missing on display ":5".
t/GtkAccelMap.t .................... ok
Xlib:  extension "RANDR" missing on display ":5".
t/GtkAction.t ...................... ok
Xlib:  extension "RANDR" missing on display ":5".
t/GtkActionGroup.t ................. ok
Xlib:  extension "RANDR" missing on display ":5".
t/GtkActivatable.t ................. ok
t/GtkAdjustment.t .................. ok
t/GtkAlignment.t ................... ok
t/GtkArrow.t ....................... ok
t/GtkAspectFrame.t ................. ok
Xlib:  extension "RANDR" missing on display ":5".
t/GtkAssistant.t ................... ok
Xlib:  extension "RANDR" missing on display ":5".
t/GtkBin.t ......................... ok
Xlib:  extension "RANDR" missing on display ":5".
t/GtkBindings.t .................... ok
Xlib:  extension "RANDR" missing on display ":5".
t/GtkBox.t ......................... ok
Xlib:  extension "RANDR" missing on display ":5".
t/GtkBuildable.t ................... ok
Xlib:  extension "RANDR" missing on display ":5".
GLib-GObject-WARNING **: gsignal.c:1207: unable to lookup signal "changed" for non instantiatable type 'GtkBuildable' at /usr/perl5.20.1Dp/lib/site_perl/5.20.1/amd64-freebsd-ld/Glib/Object/Subclass.pm line 235.
t/GtkBuildableIface.t .............. ok
Xlib:  extension "RANDR" missing on display ":5".
t/GtkBuilder.t ..................... ok
Xlib:  extension "RANDR" missing on display ":5".
t/GtkButton.t ...................... ok
Xlib:  extension "RANDR" missing on display ":5".
t/GtkButtonBox.t ................... ok
Xlib:  extension "RANDR" missing on display ":5".
t/GtkCalendar.t .................... ok
Xlib:  extension "RANDR" missing on display ":5".
GLib-GObject-CRITICAL **: Object class EditableTest doesn't implement property 'editing-canceled' from interface 'GtkCellEditable' at /usr/perl5.20.1Dp/lib/site_perl/5.20.1/amd64-freebsd-ld/Glib/Object/Subclass.pm line 235.
t/GtkCellEditable.t ................ ok
Xlib:  extension "RANDR" missing on display ":5".
t/GtkCellLayout.t .................. ok
Xlib:  extension "RANDR" missing on display ":5".
t/GtkCellLayoutIface.t ............. ok
Xlib:  extension "RANDR" missing on display ":5".
t/GtkCellRenderer.t ................ ok
t/GtkCellRendererAccel.t ........... ok
t/GtkCellRendererCombo.t ........... ok
Xlib:  extension "RANDR" missing on display ":5".
t/GtkCellRendererIface-Chaining.t .. ok
t/GtkCellRendererPixbuf.t .......... ok
t/GtkCellRendererProgress.t ........ ok
t/GtkCellRendererSpin.t ............ ok
t/GtkCellRendererSpinner.t ......... ok
t/GtkCellRendererText.t ............ ok
t/GtkCellRendererToggle.t .......... ok
Xlib:  extension "RANDR" missing on display ":5".
t/GtkCellView.t .................... ok
Xlib:  extension "RANDR" missing on display ":5".
t/GtkCheckButton.t ................. ok
Xlib:  extension "RANDR" missing on display ":5".
t/GtkCheckMenuItem.t ............... ok
Xlib:  extension "RANDR" missing on display ":5".
t/GtkClipboard.t ................... ok
Xlib:  extension "RANDR" missing on display ":5".
t/GtkColorButton.t ................. ok
Xlib:  extension "RANDR" missing on display ":5".
t/GtkColorSelection.t .............. ok
Xlib:  extension "RANDR" missing on display ":5".
t/GtkColorSelectionDialog.t ........ ok
Xlib:  extension "RANDR" missing on display ":5".
t/GtkCombo.t ....................... ok
Xlib:  extension "RANDR" missing on display ":5".
t/GtkComboBox.t .................... ok
Xlib:  extension "RANDR" missing on display ":5".
t/GtkComboBoxEntry.t ............... ok
Xlib:  extension "RANDR" missing on display ":5".
t/GtkCurve.t ....................... ok
Xlib:  extension "RANDR" missing on display ":5".
t/GtkDialog.t ...................... ok
t/GtkDrawingArea.t ................. ok
Xlib:  extension "RANDR" missing on display ":5".
t/GtkEditable.t .................... ok
Xlib:  extension "RANDR" missing on display ":5".
t/GtkEntry.t ....................... ok
Xlib:  extension "RANDR" missing on display ":5".
t/GtkEntryBuffer.t ................. ok
Xlib:  extension "RANDR" missing on display ":5".
t/GtkEntryCompletion.t ............. ok
t/GtkEventBox.t .................... ok
Xlib:  extension "RANDR" missing on display ":5".
t/GtkExpander.t .................... ok
t/GtkFileChooser.t ................. skipped: this test is unreliable
Xlib:  extension "RANDR" missing on display ":5".
t/GtkFileChooserButton.t ........... ok
Xlib:  extension "RANDR" missing on display ":5".
t/GtkFileChooserDialog.t ........... ok
Xlib:  extension "RANDR" missing on display ":5".
t/GtkFileChooserWidget.t ........... ok
t/GtkFileFilter.t .................. ok
Xlib:  extension "RANDR" missing on display ":5".
t/GtkFileSelection.t ............... ok
t/GtkFixed.t ....................... ok
Xlib:  extension "RANDR" missing on display ":5".
t/GtkFontButton.t .................. ok
Xlib:  extension "RANDR" missing on display ":5".
t/GtkFontSelection.t ............... ok
t/GtkFrame.t ....................... ok
Xlib:  extension "RANDR" missing on display ":5".
t/GtkGammaCurve.t .................. ok
Xlib:  extension "RANDR" missing on display ":5".
t/GtkGC.t .......................... ok
t/GtkHandleBox.t ................... ok
t/GtkHBox.t ........................ ok
t/GtkHButtonBox.t .................. ok
t/GtkHPaned.t ...................... ok
t/GtkHRuler.t ...................... ok
Xlib:  extension "RANDR" missing on display ":5".
t/GtkHScale.t ...................... ok
t/GtkHScrollbar.t .................. ok
t/GtkHSeparator.t .................. ok
t/GtkHSV.t ......................... ok
Xlib:  extension "RANDR" missing on display ":5".
t/GtkIconFactory.t ................. ok
Xlib:  extension "RANDR" missing on display ":5".
t/GtkIconTheme.t ................... ok
Xlib:  extension "RANDR" missing on display ":5".
t/GtkIconView.t .................... ok
Xlib:  extension "RANDR" missing on display ":5".
t/GtkImage.t ....................... ok
Xlib:  extension "RANDR" missing on display ":5".
t/GtkImageMenuItem.t ............... ok
Xlib:  extension "RANDR" missing on display ":5".
t/GtkIMContext.t ................... ok
Xlib:  extension "RANDR" missing on display ":5".
t/GtkInfoBar.t ..................... ok
Xlib:  extension "RANDR" missing on display ":5".
t/GtkInputDialog.t ................. ok
Xlib:  extension "RANDR" missing on display ":5".
t/GtkInvisible.t ................... ok
Xlib:  extension "RANDR" missing on display ":5".
t/GtkItemFactory.t ................. ok
Xlib:  extension "RANDR" missing on display ":5".
t/GtkLabel.t ....................... ok
Xlib:  extension "RANDR" missing on display ":5".
t/GtkLayout.t ...................... ok
Xlib:  extension "RANDR" missing on display ":5".
t/GtkLinkButton.t .................. ok
Xlib:  extension "RANDR" missing on display ":5".
t/GtkListStore.t ................... ok
Xlib:  extension "RANDR" missing on display ":5".
t/GtkMenu.t ........................ ok
t/GtkMenuBar.t ..................... ok
Xlib:  extension "RANDR" missing on display ":5".
t/GtkMenuItem.t .................... ok
Xlib:  extension "RANDR" missing on display ":5".
t/GtkMenuShell.t ................... ok
Xlib:  extension "RANDR" missing on display ":5".
t/GtkMenuToolButton.t .............. ok
Xlib:  extension "RANDR" missing on display ":5".
t/GtkMessageDialog.t ............... ok
t/GtkMisc.t ........................ ok
Xlib:  extension "RANDR" missing on display ":5".
t/GtkNotebook.t .................... ok
t/GtkObject.t ...................... ok
Xlib:  extension "RANDR" missing on display ":5".
t/GtkOffscreenWindow.t ............. ok
Xlib:  extension "RANDR" missing on display ":5".
t/GtkOptionMenu.t .................. ok
Xlib:  extension "RANDR" missing on display ":5".
t/GtkOrientable.t .................. ok
Xlib:  extension "RANDR" missing on display ":5".
t/GtkPageSetup.t ................... ok
Xlib:  extension "RANDR" missing on display ":5".
t/GtkPaned.t ....................... ok
Xlib:  extension "RANDR" missing on display ":5".
t/GtkPaperSize.t ................... ok
Xlib:  extension "RANDR" missing on display ":5".
t/GtkPrintContext.t ................ ok
Xlib:  extension "RANDR" missing on display ":5".
t/GtkPrintOperation.t .............. ok
Xlib:  extension "RANDR" missing on display ":5".
t/GtkPrintOperationPreview.t ....... ok
Xlib:  extension "RANDR" missing on display ":5".
t/GtkPrintSettings.t ............... ok
t/GtkProgressBar.t ................. ok
t/GtkRadioAction.t ................. ok
Xlib:  extension "RANDR" missing on display ":5".
t/GtkRadioButton.t ................. ok
Xlib:  extension "RANDR" missing on display ":5".
t/GtkRadioMenuItem.t ............... ok
Xlib:  extension "RANDR" missing on display ":5".
t/GtkRadioToolButton.t ............. ok
Xlib:  extension "RANDR" missing on display ":5".
t/GtkRange.t ....................... ok
Xlib:  extension "RANDR" missing on display ":5".
t/GtkRc.t .......................... ok
Xlib:  extension "RANDR" missing on display ":5".
t/GtkRecentAction.t ................ ok
Xlib:  extension "RANDR" missing on display ":5".
GLib-CRITICAL **: Source ID 6 was not found when attempting to remove it at t/GtkRecentChooser.t line 67.
GLib-CRITICAL **: Source ID 10 was not found when attempting to remove it at /home/cpansand/.cpan/build/Gtk2-1.2495-o9hy_F/blib/lib/Gtk2/TestHelper.pm line 84.
GLib-CRITICAL **: Source ID 13 was not found when attempting to remove it.
t/GtkRecentChooser.t ............... ok
Xlib:  extension "RANDR" missing on display ":5".
t/GtkRecentChooserDialog.t ......... ok
Xlib:  extension "RANDR" missing on display ":5".
t/GtkRecentChooserMenu.t ........... ok
Xlib:  extension "RANDR" missing on display ":5".
t/GtkRecentChooserWidget.t ......... ok
Xlib:  extension "RANDR" missing on display ":5".
t/GtkRecentFilter.t ................ ok
Xlib:  extension "RANDR" missing on display ":5".
t/GtkRecentManager.t ............... ok
t/GtkRuler.t ....................... ok
Xlib:  extension "RANDR" missing on display ":5".
t/GtkScale.t ....................... ok
Xlib:  extension "RANDR" missing on display ":5".
t/GtkScaleButton.t ................. ok
Xlib:  extension "RANDR" missing on display ":5".
t/GtkScrolledWindow.t .............. ok
Xlib:  extension "RANDR" missing on display ":5".
t/GtkSelection.t ................... ok
t/GtkSeparatorMenuItem.t ........... ok
Xlib:  extension "RANDR" missing on display ":5".
t/GtkSeparatorToolItem.t ........... ok
t/GtkShow.t ........................ skipped: can only test interactively
Xlib:  extension "RANDR" missing on display ":5".
t/GtkSimpleList.t .................. ok
Xlib:  extension "RANDR" missing on display ":5".
t/GtkSimpleMenu.t .................. ok
t/GtkSizeGroup.t ................... ok
Xlib:  extension "RANDR" missing on display ":5".
t/GtkSpinButton.t .................. ok
t/GtkSpinner.t ..................... ok
t/GtkStatusbar.t ................... ok
Xlib:  extension "RANDR" missing on display ":5".
t/GtkStatusIcon.t .................. ok
t/GtkStock.t ....................... ok
Xlib:  extension "RANDR" missing on display ":5".
t/GtkStyle.t ....................... ok
Xlib:  extension "RANDR" missing on display ":5".
t/GtkTable.t ....................... ok
t/GtkTearoffMenuItem.t ............. ok
Xlib:  extension "RANDR" missing on display ":5".
t/GtkTextBuffer.t .................. ok
Xlib:  extension "RANDR" missing on display ":5".
GLib-WARNING **: (gerror.c:381):g_error_new_valist: runtime check failed: (domain != 0) at t/GtkTextBufferRichText.t line 210, <DATA> line 1.
t/GtkTextBufferRichText.t .......... ok
Xlib:  extension "RANDR" missing on display ":5".
t/GtkTextChildAnchor.t ............. ok
t/GtkTextIter.t .................... ok
t/GtkTextMark.t .................... ok
Xlib:  extension "RANDR" missing on display ":5".
t/GtkTextTag.t ..................... ok
t/GtkTextTagTable.t ................ ok
Xlib:  extension "RANDR" missing on display ":5".
t/GtkTextView.t .................... ok
Xlib:  extension "RANDR" missing on display ":5".
t/GtkToggleAction.t ................ ok
Xlib:  extension "RANDR" missing on display ":5".
t/GtkToggleButton.t ................ ok
Xlib:  extension "RANDR" missing on display ":5".
t/GtkToggleToolButton.t ............ ok
Xlib:  extension "RANDR" missing on display ":5".
t/GtkToolbar.t ..................... ok
Xlib:  extension "RANDR" missing on display ":5".
t/GtkToolButton.t .................. ok
Xlib:  extension "RANDR" missing on display ":5".
t/GtkToolItem.t .................... ok
Xlib:  extension "RANDR" missing on display ":5".
t/GtkToolItemGroup.t ............... ok
Xlib:  extension "RANDR" missing on display ":5".
t/GtkToolPalette.t ................. ok
Xlib:  extension "RANDR" missing on display ":5".
t/GtkToolShell.t ................... ok
Xlib:  extension "RANDR" missing on display ":5".
t/GtkTooltip.t ..................... ok
Xlib:  extension "RANDR" missing on display ":5".
t/GtkTooltips.t .................... ok
t/GtkTreeDnd.t ..................... ok
t/GtkTreeModel.t ................... ok
t/GtkTreeModelFilter.t ............. ok
t/GtkTreeModelIface.t .............. ok
t/GtkTreeModelSort.t ............... ok
Xlib:  extension "RANDR" missing on display ":5".
t/GtkTreeSelection.t ............... ok
t/GtkTreeSortable.t ................ ok
t/GtkTreeStore.t ................... ok
t/GtkTreeView-Dnd.t ................ skipped: this test is interactive
Xlib:  extension "RANDR" missing on display ":5".
t/GtkTreeView.t .................... ok
Xlib:  extension "RANDR" missing on display ":5".
t/GtkUIManager.t ................... ok
t/GtkVBox.t ........................ ok
t/GtkVButtonBox.t .................. ok
Xlib:  extension "RANDR" missing on display ":5".
t/GtkViewport.t .................... ok
Xlib:  extension "RANDR" missing on display ":5".
t/GtkVolumeButton.t ................ ok
t/GtkVPaned.t ...................... ok
t/GtkVRuler.t ...................... ok
Xlib:  extension "RANDR" missing on display ":5".
t/GtkVScale.t ...................... ok
t/GtkVScrollbar.t .................. ok
t/GtkVSeparator.t .................. ok
Xlib:  extension "RANDR" missing on display ":5".
t/GtkWidget.t ...................... ok
Xlib:  extension "RANDR" missing on display ":5".
t/options.t ........................ ok
Xlib:  extension "RANDR" missing on display ":5".
t/pango-compat.t ................... ok
Xlib:  extension "RANDR" missing on display ":5".
t/PangoAttributes.t ................ ok
t/PangoCairo.t ..................... ok
Xlib:  extension "RANDR" missing on display ":5".
t/PangoContext.t ................... ok
Xlib:  extension "RANDR" missing on display ":5".
t/PangoFont.t ...................... ok
Xlib:  extension "RANDR" missing on display ":5".
t/PangoFontMap.t ................... ok
Xlib:  extension "RANDR" missing on display ":5".
t/PangoFontset.t ................... ok
t/PangoGravity.t ................... ok
Xlib:  extension "RANDR" missing on display ":5".
t/PangoLayout.t .................... ok
t/PangoMatrix.t .................... ok
Xlib:  extension "RANDR" missing on display ":5".
t/PangoRenderer.t .................. ok
Xlib:  extension "RANDR" missing on display ":5".
t/PangoScript.t .................... ok
t/PangoTabs.t ...................... ok
t/PangoTypes.t ..................... ok
Xlib:  extension "RANDR" missing on display ":5".
t/set-scroll-adjustments-signal.t .. ok
Xlib:  extension "RANDR" missing on display ":5".
t/signal-chaining.t ................ ok
Xlib:  extension "RANDR" missing on display ":5".
t/tied-objects.t ................... ok
t/version-checks.t ................. ok
All tests successful.
Files=228, Tests=5062, 64 wallclock secs ( 1.68 usr  1.09 sys + 46.97 cusr  8.12 csys = 57.85 CPU)
Result: PASS

------------------------------
PREREQUISITES
------------------------------

Prerequisite modules loaded:

requires:

    Module              Need  Have 
    ------------------- ----- -----
    Cairo               1.000 1.105
    ExtUtils::Depends   0.300 0.404
    ExtUtils::PkgConfig 1.030 1.15 
    Glib                1.280 1.307
    Pango               1.220 1.226

build_requires:

    Module              Need  Have 
    ------------------- ----- -----
    ExtUtils::MakeMaker 0     7.04 

configure_requires:

    Module              Need  Have 
    ------------------- ----- -----
    Cairo               1.000 1.105
    ExtUtils::Depends   0.300 0.404
    ExtUtils::MakeMaker 0     7.04 
    ExtUtils::PkgConfig 1.030 1.15 
    Glib                1.280 1.307
    Pango               1.220 1.226


------------------------------
ENVIRONMENT AND OTHER CONTEXT
------------------------------

Environment variables:

    DBIC_NO_WARN_BAD_PERL = 1
    LC_ALL = de_DE.ISO8859-1
    PATH = /usr/local/bin:/usr/bin:/bin:/usr/local/sbin:/usr/sbin:/sbin:/home/cpansand/bin/freebsd10.0:/home/cpansand/bin/sh:/home/cpansand/bin:/usr/games:/home/cpansand/devel:/home/eserte/src/srezic-misc/scripts
    PERL = /usr/perl5.20.1Dp/bin/perl
    PERL5LIB = 
    PERL5OPT = 
    PERL5_CPANPLUS_IS_RUNNING = 99853
    PERL5_CPAN_IS_RUNNING = 99853
    PERL5_CPAN_IS_RUNNING_IN_RECURSION = 23083,99853
    PERLDOC = -MPod::Perldoc::ToTextOverstrike
    PERL_BATCH = yes
    PERL_CPAN_REPORTER_CONFIG = /var/tmp/cpansmoker-1023/ZKn695lnF1_config.ini
    PERL_EXTUTILS_AUTOINSTALL = --defaultdeps
    PERL_HTML_DISPLAY_CLASS = HTML::Display::Mozilla
    SHELL = /usr/local/bin/zsh
    TERM = screen
    TMPDIR = /var/tmp/cpansmoker-1023

Perl special variables (and OS-specific diagnostics, for MSWin32):

    $^X = /usr/perl5.20.1Dp/bin/perl
    $UID/$EUID = 1023 / 1023
    $GID = 1023 1023
    $EGID = 1023 1023

Perl module toolchain versions installed:

    Module              Have    
    ------------------- --------
    CPAN                2.05    
    CPAN::Meta          2.143240
    Cwd                 3.48    
    ExtUtils::CBuilder  0.280217
    ExtUtils::Command   1.18    
    ExtUtils::Install   1.67    
    ExtUtils::MakeMaker 7.04    
    ExtUtils::Manifest  1.70    
    ExtUtils::ParseXS   3.24    
    File::Spec          3.48    
    JSON                2.90    
    JSON::PP            2.27203 
    Module::Build       0.4211  
    Module::Signature   n/a     
    Parse::CPAN::Meta   1.4414  
    Test::Harness       3.30    
    Test::More          1.001014
    YAML                1.14    
    YAML::Syck          1.29    
    version             0.9909  


--

Summary of my perl5 (revision 5 version 20 subversion 1) configuration:
   
  Platform:
    osname=freebsd, osvers=10.1-release, archname=amd64-freebsd-ld
    uname='freebsd cvrsnica-freebsd-101.herceg.de 10.1-release freebsd 10.1-release #0 r274401: tue nov 11 21:02:49 utc 2014 root@releng1.nyi.freebsd.org:usrobjusrsrcsysgeneric amd64 '
    config_args='-ds -e -Dprefix=/usr/perl5.20.1Dp -Duselongdouble'
    hint=recommended, useposix=true, d_sigaction=define
    useithreads=undef, usemultiplicity=undef
    use64bitint=define, use64bitall=define, uselongdouble=define
    usemymalloc=n, bincompat5005=undef
  Compiler:
    cc='cc', ccflags ='-DHAS_FPSETMASK -DHAS_FLOATINGPOINT_H -fno-strict-aliasing -pipe -fstack-protector -I/usr/local/include',
    optimize='-O',
    cppflags='-DHAS_FPSETMASK -DHAS_FLOATINGPOINT_H -fno-strict-aliasing -pipe -fstack-protector -I/usr/local/include'
    ccversion='', gccversion='4.2.1 Compatible FreeBSD Clang 3.4.1 (tags/RELEASE_34/dot1-final 208032)', gccosandvers=''
    intsize=4, longsize=8, ptrsize=8, doublesize=8, byteorder=12345678
    d_longlong=define, longlongsize=8, d_longdbl=define, longdblsize=16
    ivtype='long', ivsize=8, nvtype='long double', nvsize=16, Off_t='off_t', lseeksize=8
    alignbytes=16, prototype=define
  Linker and Libraries:
    ld='cc', ldflags ='-pthread -Wl,-E  -fstack-protector -L/usr/local/lib'
    libpth=/usr/lib /usr/local/lib /usr/include/clang/3.4.1 /usr/lib
    libs=-lgdbm -lm -lcrypt -lutil -lc
    perllibs=-lm -lcrypt -lutil -lc
    libc=, so=so, useshrplib=false, libperl=libperl.a
    gnulibc_version=''
  Dynamic Linking:
    dlsrc=dl_dlopen.xs, dlext=so, d_dlsymun=undef, ccdlflags=' '
    cccdlflags='-DPIC -fPIC', lddlflags='-shared  -L/usr/local/lib -fstack-protector'


Characteristics of this binary (from libperl): 
  Compile-time options: HAS_TIMES PERLIO_LAYERS PERL_DONT_CREATE_GVSV
                        PERL_HASH_FUNC_ONE_AT_A_TIME_HARD PERL_MALLOC_WRAP
                        PERL_NEW_COPY_ON_WRITE PERL_PRESERVE_IVUV
                        USE_64_BIT_ALL USE_64_BIT_INT USE_LARGE_FILES
                        USE_LOCALE USE_LOCALE_COLLATE USE_LOCALE_CTYPE
                        USE_LOCALE_NUMERIC USE_LONG_DOUBLE USE_PERLIO
                        USE_PERL_ATOF
  Built under freebsd
  Compiled at Feb 13 2015 08:17:27
  %ENV:
    PERL="/usr/perl5.20.1Dp/bin/perl"
    PERL5LIB=""
    PERL5OPT=""
    PERL5_CPANPLUS_IS_RUNNING="99853"
    PERL5_CPAN_IS_RUNNING="99853"
    PERL5_CPAN_IS_RUNNING_IN_RECURSION="23083,99853"
    PERLDOC="-MPod::Perldoc::ToTextOverstrike"
    PERL_BATCH="yes"
    PERL_CPAN_REPORTER_CONFIG="/var/tmp/cpansmoker-1023/ZKn695lnF1_config.ini"
    PERL_EXTUTILS_AUTOINSTALL="--defaultdeps"
    PERL_HTML_DISPLAY_CLASS="HTML::Display::Mozilla"
  @INC:
    /usr/perl5.20.1Dp/lib/site_perl/5.20.1/amd64-freebsd-ld
    /usr/perl5.20.1Dp/lib/site_perl/5.20.1
    /usr/perl5.20.1Dp/lib/5.20.1/amd64-freebsd-ld
    /usr/perl5.20.1Dp/lib/5.20.1
    .