Back
From: metabase:user:314402c4-2aae-11df-837a-5e0a49663a4f
Subject: PASS Module-Metadata-1.000033 v5.24.0 GNU/Linux
Date: 2017-01-26T11:38:19Z
This distribution has been tested as part of the CPAN Testers
project, supporting the Perl programming language. See
http://wiki.cpantesters.org/ for more information or email
questions to cpan-testers-discuss@perl.org
--
Dear Karen Etheridge,
This is a computer-generated report for Module-Metadata-1.000033
on perl 5.24.0, created by CPAN-Reporter-1.2018.
Thank you for uploading your work to CPAN. Congratulations!
All tests were successful.
Sections of this report:
* Tester comments
* Program output
* Prerequisites
* Environment and other context
------------------------------
TESTER COMMENTS
------------------------------
Additional comments from tester:
none provided
------------------------------
PROGRAM OUTPUT
------------------------------
Output from '/usr/bin/make test':
PERL_DL_NONLAZY=1 "/opt/perl-5.24.0/bin/perl5.24.0" "-MExtUtils::Command::MM" "-MTest::Harness" "-e" "undef *Test::Harness::Switches; test_harness(0, 'blib/lib', 'blib/arch')" t/*.t
#
# Versions for all modules listed in MYMETA.json (including optional ones):
#
# === Configure Requires ===
#
# Module Want Have
# ------------------- ---- ----
# ExtUtils::MakeMaker any 7.24
#
# === Build Requires ===
#
# Module Want Have
# ------------------- ---- ----
# ExtUtils::MakeMaker any 7.24
#
# === Test Requires ===
#
# Module Want Have
# ------------------- ---- --------
# Cwd any 3.63
# Exporter any 5.72
# ExtUtils::MakeMaker any 7.24
# File::Basename any 2.85
# File::Path any 2.12_01
# File::Spec any 3.63
# File::Temp any 0.2304
# IO::File any 1.16
# Test::More 0.82 1.302075
# base any 2.23
# lib any 0.63
#
# === Test Recommends ===
#
# Module Want Have
# ---------- -------- --------
# CPAN::Meta 2.120900 2.150010
#
# === Runtime Requires ===
#
# Module Want Have
# ---------- ---- ------
# Carp any 1.40
# Fcntl any 1.13
# File::Find any 1.34
# File::Spec any 3.63
# strict any 1.11
# version 0.87 0.9917
# warnings any 1.36
#
# === Other Modules ===
#
# Module Have
# ------------- ----
# Pod::Coverage 0.23
#
t/00-report-prereqs.t .. ok
t/contains_pod.t ....... ok
t/encoding.t ........... ok
t/endpod.t ............. ok
# Got: '_private'
# Module contents:
# package _private;
# $::VERSION = 0.01;
# $VERSION = '999';
# Got: '_private'
# Module contents:
# package _private;
# $VERSION = '999';
# $::VERSION = 0.01;
t/extract-package.t .... ok
# parsed module: bless( {
# 'collect_pod' => undef,
# 'filename' => '/var/tmp/cpansmoker-1001/2017012518/MMD-pXXRloNn/Simple51/Simple.pm',
# 'inc' => undef,
# 'module' => 'Simple',
# 'packages' => [
# 'Simple'
# ],
# 'pod' => {},
# 'pod_headings' => [],
# 'version' => bless( {
# 'original' => '0',
# 'version' => [
# 0
# ]
# }, 'version' ),
# 'versions' => {
# 'Simple' => $VAR1->{'version'}
# }
# }, 'Module::Metadata' )
# parsed module: bless( {
# 'collect_pod' => undef,
# 'filename' => '/var/tmp/cpansmoker-1001/2017012518/MMD-pXXRloNn/Simple52/Simple.pm',
# 'inc' => undef,
# 'module' => 'Simple',
# 'packages' => [
# 'main',
# 'Simple'
# ],
# 'pod' => {},
# 'pod_headings' => [],
# 'version' => bless( {
# 'original' => '0',
# 'version' => [
# 0
# ]
# }, 'version' ),
# 'versions' => {
# 'Simple' => $VAR1->{'version'},
# 'main' => ''
# }
# }, 'Module::Metadata' )
# parsed module: bless( {
# 'collect_pod' => undef,
# 'filename' => '/var/tmp/cpansmoker-1001/2017012518/MMD-pXXRloNn/Simple54/Simple.pm',
# 'inc' => undef,
# 'module' => undef,
# 'packages' => [
# 'main'
# ],
# 'pod' => {},
# 'pod_headings' => [],
# 'version' => undef,
# 'versions' => {
# 'main' => bless( {
# 'original' => '1.23',
# 'version' => [
# 1,
# 230
# ]
# }, 'version' )
# }
# }, 'Module::Metadata' )
# parsed module: bless( {
# 'collect_pod' => undef,
# 'filename' => '/var/tmp/cpansmoker-1001/2017012518/MMD-pXXRloNn/Simple55/Simple.pm',
# 'inc' => undef,
# 'module' => undef,
# 'packages' => [
# 'main'
# ],
# 'pod' => {},
# 'pod_headings' => [],
# 'version' => undef,
# 'versions' => {
# 'main' => bless( {
# 'original' => '1.23',
# 'version' => [
# 1,
# 230
# ]
# }, 'version' )
# }
# }, 'Module::Metadata' )
t/extract-version.t .... ok
t/metadata.t ........... ok
t/taint.t .............. ok
t/version.t ............ ok
All tests successful.
Files=9, Tests=348, 3 wallclock secs ( 0.12 usr 0.03 sys + 1.45 cusr 0.23 csys = 1.83 CPU)
Result: PASS
------------------------------
PREREQUISITES
------------------------------
Prerequisite modules loaded:
requires:
Module Need Have
------------------- ----- --------
Carp 0 1.40
Fcntl 0 1.13
File::Find 0 1.34
File::Spec 0 3.63
perl 5.006 5.024000
strict 0 1.11
version 0.87 0.9917
warnings 0 1.36
build_requires:
Module Need Have
------------------- ----- --------
base 0 2.23
Cwd 0 3.63
Exporter 0 5.72
ExtUtils::MakeMaker 0 7.24
File::Basename 0 2.85
File::Path 0 2.12_01
File::Spec 0 3.63
File::Temp 0 0.2304
IO::File 0 1.16
lib 0 0.63
Test::More 0.82 1.302075
configure_requires:
Module Need Have
------------------- ----- --------
ExtUtils::MakeMaker 0 7.24
perl 5.006 5.024000
------------------------------
ENVIRONMENT AND OTHER CONTEXT
------------------------------
Environment variables:
LANG = de_DE.utf8
LANGUAGE = de_DE.utf8
LC_ALL = de_DE.utf8
PATH = /usr/local/bin:/usr/bin:/bin:/usr/local/sbin:/usr/sbin:/sbin:/home/cpansand/bin/linux-gnu:/home/cpansand/bin/sh:/home/cpansand/bin:/usr/games:/home/cpansand/devel:/home/eserte/src/srezic-misc/scripts
PERL5LIB =
PERL5OPT =
PERL5_CPANPLUS_IS_RUNNING = 8420
PERL5_CPAN_IS_RUNNING = 8420
PERL5_CPAN_IS_RUNNING_IN_RECURSION = 10230,8420
PERLDOC = -MPod::Perldoc::ToTextOverstrike
PERL_BATCH = yes
PERL_CANARY_STABILITY_NOPROMPT = 1
PERL_CPAN_REPORTER_CONFIG = /var/tmp/cpansmoker-1001/2017012518/cpanreporter_000_config.ini
PERL_EXTUTILS_AUTOINSTALL = --defaultdeps
SHELL = /bin/zsh
TERM = screen
TMPDIR = /var/tmp/cpansmoker-1001/2017012518
Perl special variables (and OS-specific diagnostics, for MSWin32):
$^X = /opt/perl-5.24.0/bin/perl5.24.0
$UID/$EUID = 1001 / 1001
$GID = 1001 1001
$EGID = 1001 1001
Perl module toolchain versions installed:
Module Have
------------------- --------
CPAN 2.14
CPAN::Meta 2.150010
Cwd 3.63
ExtUtils::CBuilder 0.280225
ExtUtils::Command 7.24
ExtUtils::Install 2.04
ExtUtils::MakeMaker 7.24
ExtUtils::Manifest 1.70
ExtUtils::ParseXS 3.31
File::Spec 3.63
JSON 2.90
JSON::PP 2.27400
Module::Build 0.4220
Module::Signature 0.81
Parse::CPAN::Meta 2.150010
Test::Harness 3.36
Test::More 1.302075
YAML 1.21
YAML::Syck 1.29
version 0.9917
--
Summary of my perl5 (revision 5 version 24 subversion 0) configuration:
Platform:
osname=linux, osvers=3.10.0-042stab120.6, archname=x86_64-linux
uname='linux h1980015.stratoserver.net 3.10.0-042stab120.6 #1 smp thu oct 27 16:59:03 msk 2016 x86_64 x86_64 x86_64 gnulinux '
config_args='-ds -e -Dprefix=/opt/perl-5.24.0 -Dcf_email=srezic@cpan.org'
hint=recommended, useposix=true, d_sigaction=define
useithreads=undef, usemultiplicity=undef
use64bitint=define, use64bitall=define, uselongdouble=undef
usemymalloc=n, bincompat5005=undef
Compiler:
cc='cc', ccflags ='-fwrapv -fno-strict-aliasing -pipe -fstack-protector-strong -I/usr/local/include -D_LARGEFILE_SOURCE -D_FILE_OFFSET_BITS=64 -D_FORTIFY_SOURCE=2',
optimize='-O2',
cppflags='-fwrapv -fno-strict-aliasing -pipe -fstack-protector-strong -I/usr/local/include'
ccversion='', gccversion='4.8.5 20150623 (Red Hat 4.8.5-11)', gccosandvers=''
intsize=4, longsize=8, ptrsize=8, doublesize=8, byteorder=12345678, doublekind=3
d_longlong=define, longlongsize=8, d_longdbl=define, longdblsize=16, longdblkind=3
ivtype='long', ivsize=8, nvtype='double', nvsize=8, Off_t='off_t', lseeksize=8
alignbytes=8, prototype=define
Linker and Libraries:
ld='cc', ldflags =' -fstack-protector-strong -L/usr/local/lib'
libpth=/usr/local/lib /usr/lib /lib/../lib64 /usr/lib/../lib64 /lib /lib64 /usr/lib64 /usr/local/lib64
libs=-lpthread -lnsl -lgdbm -ldb -ldl -lm -lcrypt -lutil -lc -lgdbm_compat
perllibs=-lpthread -lnsl -ldl -lm -lcrypt -lutil -lc
libc=libc-2.17.so, so=so, useshrplib=false, libperl=libperl.a
gnulibc_version='2.17'
Dynamic Linking:
dlsrc=dl_dlopen.xs, dlext=so, d_dlsymun=undef, ccdlflags='-Wl,-E'
cccdlflags='-fPIC', lddlflags='-shared -O2 -L/usr/local/lib -fstack-protector-strong'
Characteristics of this binary (from libperl):
Compile-time options: HAS_TIMES PERLIO_LAYERS PERL_COPY_ON_WRITE
PERL_DONT_CREATE_GVSV
PERL_HASH_FUNC_ONE_AT_A_TIME_HARD PERL_MALLOC_WRAP
PERL_PRESERVE_IVUV USE_64_BIT_ALL USE_64_BIT_INT
USE_LARGE_FILES USE_LOCALE USE_LOCALE_COLLATE
USE_LOCALE_CTYPE USE_LOCALE_NUMERIC USE_LOCALE_TIME
USE_PERLIO USE_PERL_ATOF
Built under linux
Compiled at Jan 22 2017 10:44:09
%ENV:
PERL5LIB=""
PERL5OPT=""
PERL5_CPANPLUS_IS_RUNNING="8420"
PERL5_CPAN_IS_RUNNING="8420"
PERL5_CPAN_IS_RUNNING_IN_RECURSION="10230,8420"
PERLDOC="-MPod::Perldoc::ToTextOverstrike"
PERL_BATCH="yes"
PERL_CANARY_STABILITY_NOPROMPT="1"
PERL_CPAN_REPORTER_CONFIG="/var/tmp/cpansmoker-1001/2017012518/cpanreporter_000_config.ini"
PERL_EXTUTILS_AUTOINSTALL="--defaultdeps"
@INC:
/opt/perl-5.24.0/lib/site_perl/5.24.0/x86_64-linux
/opt/perl-5.24.0/lib/site_perl/5.24.0
/opt/perl-5.24.0/lib/5.24.0/x86_64-linux
/opt/perl-5.24.0/lib/5.24.0
.