Back
From: metabase:user:d91177ea-a734-11df-a495-9a495a286ce5
Subject: PASS XML-Parser-2.43 v5.20.0 GNU/Linux
Date: 2015-01-02T10:48:49Z
This distribution has been tested as part of the CPAN Testers
project, supporting the Perl programming language. See
http://wiki.cpantesters.org/ for more information or email
questions to cpan-testers-discuss@perl.org
--
Dear TODDR,
This is a computer-generated report for XML-Parser-2.43
on perl 5.20.0, created by App::cpanminus::reporter 0.11 (1.7001).
Thank you for uploading your work to CPAN. Congratulations!
All tests were successful.
Sections of this report:
* Tester comments
* Program output
* Prerequisites
* Environment and other context
------------------------------
TESTER COMMENTS
------------------------------
Additional comments from tester:
none provided
------------------------------
PROGRAM OUTPUT
------------------------------
Output from '':
Building and testing XML-Parser-2.43
cp Parser/Style/Objects.pm blib/lib/XML/Parser/Style/Objects.pm
cp Parser/Encodings/Japanese_Encodings.msg blib/lib/XML/Parser/Encodings/Japanese_Encodings.msg
cp Parser/Encodings/x-euc-jp-unicode.enc blib/lib/XML/Parser/Encodings/x-euc-jp-unicode.enc
cp Parser/Encodings/x-sjis-jdk117.enc blib/lib/XML/Parser/Encodings/x-sjis-jdk117.enc
cp Parser/Encodings/iso-8859-2.enc blib/lib/XML/Parser/Encodings/iso-8859-2.enc
cp Parser/Encodings/windows-1251.enc blib/lib/XML/Parser/Encodings/windows-1251.enc
cp Parser/Encodings/windows-1255.enc blib/lib/XML/Parser/Encodings/windows-1255.enc
cp Parser/Style/Subs.pm blib/lib/XML/Parser/Style/Subs.pm
cp Parser/Encodings/iso-8859-5.enc blib/lib/XML/Parser/Encodings/iso-8859-5.enc
cp Parser/Encodings/x-sjis-jisx0221.enc blib/lib/XML/Parser/Encodings/x-sjis-jisx0221.enc
cp Parser/LWPExternEnt.pl blib/lib/XML/Parser/LWPExternEnt.pl
cp Parser/Encodings/windows-1252.enc blib/lib/XML/Parser/Encodings/windows-1252.enc
cp Parser/Encodings/iso-8859-3.enc blib/lib/XML/Parser/Encodings/iso-8859-3.enc
cp Parser/Encodings/big5.enc blib/lib/XML/Parser/Encodings/big5.enc
cp Parser/Encodings/iso-8859-7.enc blib/lib/XML/Parser/Encodings/iso-8859-7.enc
cp Parser/Encodings/koi8-r.enc blib/lib/XML/Parser/Encodings/koi8-r.enc
cp Parser/Encodings/x-euc-jp-jisx0221.enc blib/lib/XML/Parser/Encodings/x-euc-jp-jisx0221.enc
cp Parser/Encodings/euc-kr.enc blib/lib/XML/Parser/Encodings/euc-kr.enc
cp Parser.pm blib/lib/XML/Parser.pm
cp Parser/Encodings/README blib/lib/XML/Parser/Encodings/README
cp Parser/Encodings/iso-8859-9.enc blib/lib/XML/Parser/Encodings/iso-8859-9.enc
cp Parser/Encodings/x-sjis-unicode.enc blib/lib/XML/Parser/Encodings/x-sjis-unicode.enc
cp Parser/Encodings/ibm866.enc blib/lib/XML/Parser/Encodings/ibm866.enc
cp Parser/Style/Debug.pm blib/lib/XML/Parser/Style/Debug.pm
cp Parser/Style/Stream.pm blib/lib/XML/Parser/Style/Stream.pm
cp Parser/Style/Tree.pm blib/lib/XML/Parser/Style/Tree.pm
cp Parser/Encodings/iso-8859-8.enc blib/lib/XML/Parser/Encodings/iso-8859-8.enc
cp Parser/Encodings/windows-1250.enc blib/lib/XML/Parser/Encodings/windows-1250.enc
cp Parser/Encodings/x-sjis-cp932.enc blib/lib/XML/Parser/Encodings/x-sjis-cp932.enc
cp Parser/Encodings/iso-8859-4.enc blib/lib/XML/Parser/Encodings/iso-8859-4.enc
make[1]: Verzeichnis â/home/f/.cpanm/work/1420195668.15365/XML-Parser-2.43/Expatâ wird betreten
cp Expat.pm ../blib/lib/XML/Parser/Expat.pm
Running Mkbootstrap for XML::Parser::Expat ()
chmod 644 Expat.bs
/home/f/perl5/perlbrew/perls/perl-5.20.0/bin/perl /home/f/perl5/perlbrew/perls/perl-5.20.0/lib/5.20.0/ExtUtils/xsubpp -noprototypes -typemap /home/f/perl5/perlbrew/perls/perl-5.20.0/lib/5.20.0/ExtUtils/typemap -typemap typemap Expat.xs > Expat.xsc && mv Expat.xsc Expat.c
cc -c -fwrapv -fno-strict-aliasing -pipe -fstack-protector -I/usr/local/include -D_LARGEFILE_SOURCE -D_FILE_OFFSET_BITS=64 -O2 -DVERSION=\"2.43\" -DXS_VERSION=\"2.43\" -fPIC "-I/home/f/perl5/perlbrew/perls/perl-5.20.0/lib/5.20.0/x86_64-linux/CORE" Expat.c
rm -f ../blib/arch/auto/XML/Parser/Expat/Expat.so
LD_RUN_PATH="/usr/lib" cc -shared -O2 -L/usr/local/lib -fstack-protector Expat.o -o ../blib/arch/auto/XML/Parser/Expat/Expat.so \
-lexpat \
chmod 755 ../blib/arch/auto/XML/Parser/Expat/Expat.so
/home/f/perl5/perlbrew/perls/perl-5.20.0/bin/perl -MExtUtils::Command::MM -e 'cp_nonempty' -- Expat.bs ../blib/arch/auto/XML/Parser/Expat/Expat.bs 644
Manifying ../blib/man3/XML::Parser::Expat.3
make[1]: Verzeichnis â/home/f/.cpanm/work/1420195668.15365/XML-Parser-2.43/Expatâ wird verlassen
Manifying blib/man3/XML::Parser.3
Manifying blib/man3/XML::Parser::Style::Debug.3
Manifying blib/man3/XML::Parser::Style::Objects.3
Manifying blib/man3/XML::Parser::Style::Stream.3
Manifying blib/man3/XML::Parser::Style::Subs.3
Manifying blib/man3/XML::Parser::Style::Tree.3
make[1]: Verzeichnis â/home/f/.cpanm/work/1420195668.15365/XML-Parser-2.43/Expatâ wird betreten
Running Mkbootstrap for XML::Parser::Expat ()
chmod 644 Expat.bs
make[1]: Verzeichnis â/home/f/.cpanm/work/1420195668.15365/XML-Parser-2.43/Expatâ wird verlassen
PERL_DL_NONLAZY=1 /home/f/perl5/perlbrew/perls/perl-5.20.0/bin/perl "-MExtUtils::Command::MM" "-MTest::Harness" "-e" "undef *Test::Harness::Switches; test_harness(0, 'blib/lib', 'blib/arch')" t/*.t
t/astress.t ........... ok
t/cdata.t ............. ok
t/decl.t .............. ok
t/defaulted.t ......... ok
t/encoding.t .......... ok
t/external_ent.t ...... ok
t/file.t .............. ok
t/file_open_scalar.t .. ok
t/finish.t ............ ok
t/namespaces.t ........ ok
t/parament.t .......... ok
t/partial.t ........... ok
t/skip.t .............. ok
t/stream.t ............ ok
t/styles.t ............ ok
All tests successful.
Files=15, Tests=141, 2 wallclock secs ( 0.19 usr 0.05 sys + 1.63 cusr 0.23 csys = 2.10 CPU)
Result: PASS
------------------------------
PREREQUISITES
------------------------------
Prerequisite modules loaded:
No requirements found
------------------------------
ENVIRONMENT AND OTHER CONTEXT
------------------------------
Environment variables:
LANG = de_DE.UTF-8
LC_CTYPE = de_DE.UTF-8
PATH = /home/f/perl5/perlbrew/bin:/home/f/perl5/perlbrew/perls/perl-5.20.0/bin:/usr/local/sbin:/usr/local/bin:/usr/bin:/usr/bin/core_perl:/usr/bin/vendor_perl:/home/f/bin
PERLBREW_BASHRC_VERSION = 0.69
PERLBREW_HOME = /home/f/.perlbrew
PERLBREW_MANPATH = /home/f/perl5/perlbrew/perls/perl-5.20.0/man
PERLBREW_PATH = /home/f/perl5/perlbrew/bin:/home/f/perl5/perlbrew/perls/perl-5.20.0/bin
PERLBREW_PERL = perl-5.20.0
PERLBREW_ROOT = /home/f/perl5/perlbrew
PERLBREW_VERSION = 0.69
SHELL = /bin/zsh
TERM = screen-256color
Perl special variables (and OS-specific diagnostics, for MSWin32):
EGID = 1000 7 10 190 1000
EUID = 1000
EXECUTABLE_NAME = /home/f/perl5/perlbrew/perls/perl-5.20.0/bin/perl
GID = 1000 7 10 190 1000
UID = 1000
Perl module toolchain versions installed:
Module Have
------------------- --------
CPAN 2.05
CPAN::Meta 2.140640
Cwd 3.47
ExtUtils::CBuilder 0.280216
ExtUtils::Command 1.18
ExtUtils::Install 1.67
ExtUtils::MakeMaker 6.98
ExtUtils::Manifest 1.63
ExtUtils::ParseXS 3.24
File::Spec 3.47
JSON 2.90
JSON::PP 2.27203
Module::Build 0.4205
Module::Signature n/a
Parse::CPAN::Meta 1.4414
Test::Harness 3.32
Test::More 1.001003
YAML 0.95
YAML::Syck n/a
version 0.9908
--
Summary of my perl5 (revision 5 version 20 subversion 0) configuration:
Platform:
osname=linux, osvers=3.14.6-1-arch, archname=x86_64-linux
uname='linux bunuel 3.14.6-1-arch #1 smp preempt sun jun 8 10:08:38 cest 2014 x86_64 gnulinux '
config_args='-de -Dprefix=/home/f/perl5/perlbrew/perls/perl-5.20.0 -Aeval:scriptdir=/home/f/perl5/perlbrew/perls/perl-5.20.0/bin'
hint=recommended, useposix=true, d_sigaction=define
useithreads=undef, usemultiplicity=undef
use64bitint=define, use64bitall=define, uselongdouble=undef
usemymalloc=n, bincompat5005=undef
Compiler:
cc='cc', ccflags ='-fwrapv -fno-strict-aliasing -pipe -fstack-protector -I/usr/local/include -D_LARGEFILE_SOURCE -D_FILE_OFFSET_BITS=64',
optimize='-O2',
cppflags='-fwrapv -fno-strict-aliasing -pipe -fstack-protector -I/usr/local/include'
ccversion='', gccversion='4.9.0 20140604 (prerelease)', gccosandvers=''
intsize=4, longsize=8, ptrsize=8, doublesize=8, byteorder=12345678
d_longlong=define, longlongsize=8, d_longdbl=define, longdblsize=16
ivtype='long', ivsize=8, nvtype='double', nvsize=8, Off_t='off_t', lseeksize=8
alignbytes=8, prototype=define
Linker and Libraries:
ld='cc', ldflags =' -fstack-protector -L/usr/local/lib'
libpth=/usr/local/lib /usr/lib/gcc/x86_64-unknown-linux-gnu/4.9.0/include-fixed /usr/lib /lib/../lib /usr/lib/../lib /lib /lib64 /usr/lib64
libs=-lnsl -lgdbm -ldb -ldl -lm -lcrypt -lutil -lc -lgdbm_compat
perllibs=-lnsl -ldl -lm -lcrypt -lutil -lc
libc=libc-2.19.so, so=so, useshrplib=false, libperl=libperl.a
gnulibc_version='2.19'
Dynamic Linking:
dlsrc=dl_dlopen.xs, dlext=so, d_dlsymun=undef, ccdlflags='-Wl,-E'
cccdlflags='-fPIC', lddlflags='-shared -O2 -L/usr/local/lib -fstack-protector'
Characteristics of this binary (from libperl):
Compile-time options: HAS_TIMES PERLIO_LAYERS PERL_DONT_CREATE_GVSV
PERL_HASH_FUNC_ONE_AT_A_TIME_HARD PERL_MALLOC_WRAP
PERL_NEW_COPY_ON_WRITE PERL_PRESERVE_IVUV
USE_64_BIT_ALL USE_64_BIT_INT USE_LARGE_FILES
USE_LOCALE USE_LOCALE_COLLATE USE_LOCALE_CTYPE
USE_LOCALE_NUMERIC USE_PERLIO USE_PERL_ATOF
Built under linux
Compiled at Jun 17 2014 19:59:02
%ENV:
PERLBREW_BASHRC_VERSION="0.69"
PERLBREW_HOME="/home/f/.perlbrew"
PERLBREW_MANPATH="/home/f/perl5/perlbrew/perls/perl-5.20.0/man"
PERLBREW_PATH="/home/f/perl5/perlbrew/bin:/home/f/perl5/perlbrew/perls/perl-5.20.0/bin"
PERLBREW_PERL="perl-5.20.0"
PERLBREW_ROOT="/home/f/perl5/perlbrew"
PERLBREW_VERSION="0.69"
@INC:
/home/f/perl5/perlbrew/perls/perl-5.20.0/lib/site_perl/5.20.0/x86_64-linux
/home/f/perl5/perlbrew/perls/perl-5.20.0/lib/site_perl/5.20.0
/home/f/perl5/perlbrew/perls/perl-5.20.0/lib/5.20.0/x86_64-linux
/home/f/perl5/perlbrew/perls/perl-5.20.0/lib/5.20.0
.