Report for Tk-ROSyntaxText-1.001

Back
From: metabase:user:56b391da-b3f9-11df-a2a1-088ec2160fa5
Subject: PASS Tk-ROSyntaxText-1.001 v5.10.0 OpenBSD
Date: 2010-09-24T03:29:27Z

This distribution has been tested as part of the CPAN Testers
project, supporting the Perl programming language.  See
http://wiki.cpantesters.org/ for more information or email
questions to cpan-testers-discuss@perl.org


--
Dear Ken Cotterill,

This is a computer-generated report for Tk-ROSyntaxText-1.001
on perl 5.10.0, created by CPAN-Reporter-1.18.

Thank you for uploading your work to CPAN.  Congratulations!
All tests were successful.

Sections of this report:

    * Tester comments
    * Program output
    * Prerequisites
    * Environment and other context

------------------------------
TESTER COMMENTS
------------------------------

Additional comments from tester:

this report is from an automated smoke testing program
and was not reviewed by a human for accuracy

------------------------------
PROGRAM OUTPUT
------------------------------

Output from './Build test':

# Testing Tk::ROSyntaxText 1.001
t/00.load.t ........... ok
t/01.instantiate.t .... skipped: No display detected.
Xlib: connection to ":0.0" refused by server
Xlib: No protocol specified

t/02.visual.t ......... skipped: No display detected.
Xlib: connection to ":0.0" refused by server
Xlib: No protocol specified

t/03.colour.t ......... skipped: No display detected.
Xlib: connection to ":0.0" refused by server
Xlib: No protocol specified

t/04.subs.t ........... skipped: No display detected.
Xlib: connection to ":0.0" refused by server
Xlib: No protocol specified

t/05.lang_C.t ......... skipped: No display detected.
Xlib: connection to ":0.0" refused by server
Xlib: No protocol specified

t/06.lang_SQL.t ....... skipped: No display detected.
Xlib: connection to ":0.0" refused by server
Xlib: No protocol specified

t/07.lang_HTML.t ...... skipped: No display detected.
Xlib: connection to ":0.0" refused by server
Xlib: No protocol specified

t/08.lang_XML.t ....... skipped: No display detected.
Xlib: connection to ":0.0" refused by server
Xlib: No protocol specified

t/09.spacing.t ........ skipped: No display detected.
Xlib: connection to ":0.0" refused by server
Xlib: No protocol specified

t/10.dark.t ........... skipped: No display detected.
Xlib: connection to ":0.0" refused by server
Xlib: No protocol specified

t/11.scroll.t ......... skipped: No display detected.
Xlib: connection to ":0.0" refused by server
Xlib: No protocol specified

t/12.custom.t ......... skipped: No display detected.
Xlib: connection to ":0.0" refused by server
Xlib: No protocol specified

t/13.darkcustom.t ..... skipped: No display detected.
Xlib: connection to ":0.0" refused by server
Xlib: No protocol specified

t/14.volume.t ......... skipped: No display detected.
Xlib: connection to ":0.0" refused by server
Xlib: No protocol specified

t/15.volume_HTML.t .... skipped: No display detected.
Xlib: connection to ":0.0" refused by server
Xlib: No protocol specified

t/16.customdark.t ..... skipped: No display detected.
Xlib: connection to ":0.0" refused by server
Xlib: No protocol specified

t/17.customdarkoff.t .. skipped: No display detected.
Xlib: connection to ":0.0" refused by server
Xlib: No protocol specified

t/18.customnested.t ... skipped: No display detected.
Xlib: connection to ":0.0" refused by server
Xlib: No protocol specified

t/19.scrollshort.t .... skipped: No display detected.
t/perlcritic.t ........ skipped: Author test. To run: set $ENV{CPAN_TEST_AUTHOR} to a TRUE value.
t/pod-coverage.t ...... skipped: Author test. To run: set $ENV{CPAN_TEST_AUTHOR} to a TRUE value.
t/pod.t ............... skipped: Author test. To run: set $ENV{CPAN_TEST_AUTHOR} to a TRUE value.
All tests successful.
Files=23, Tests=1, 46 wallclock secs ( 0.40 usr  0.32 sys + 38.04 cusr  4.45 csys = 43.21 CPU)
Result: PASS

------------------------------
PREREQUISITES
------------------------------

Prerequisite modules loaded:

requires:

    Module                          Need Have   
    ------------------------------- ---- -------
    Syntax::Highlight::Engine::Kate 0.06 0.06   
    Test::More                      0.94 0.96   
    Tk                              0    804.029
    Tk::Derived                     0    4.011  
    Tk::ROText                      0    4.011  
    Tk::Widget                      0    4.035  

configure_requires:

    Module                          Need Have   
    ------------------------------- ---- -------
    Module::Build                   0.36 0.3607 


------------------------------
ENVIRONMENT AND OTHER CONTEXT
------------------------------

Environment variables:

    AUTOMATED_TESTING = 1
    PATH = /home/cpants/bin:/bin:/sbin:/usr/bin:/usr/sbin:/usr/X11R6/bin:/usr/local/bin:/usr/local/sbin:/usr/games:.
    PERL5LIB = /home/cpants/.cpan/build/Syntax-Highlight-Engine-Kate-0.06-cqEvme/blib/arch:/home/cpants/.cpan/build/Syntax-Highlight-Engine-Kate-0.06-cqEvme/blib/lib:/home/cpants/.cpan/build/Tk-804.029-NFP1fv/blib/arch:/home/cpants/.cpan/build/Tk-804.029-NFP1fv/blib/lib:/home/cpants/perl/libdata/perl5/site_perl:/home/cpants/perl/libdata/perl5
    PERL5OPT = 
    PERL5_CPANPLUS_IS_RUNNING = 23764
    PERL5_CPAN_IS_RUNNING = 23764
    PERL5_CPAN_IS_RUNNING_IN_RECURSION = 32582,23764
    PERL_CR_SMOKER_CURRENT = Tk-ROSyntaxText-1.001
    PERL_EXTUTILS_AUTOINSTALL = --defaultdeps
    PERL_MM_USE_DEFAULT = 1
    SHELL = /bin/ksh
    TERM = network

Perl special variables (and OS-specific diagnostics, for MSWin32):

    $^X = /usr/bin/perl
    $UID/$EUID = 1000 / 1000
    $GID = 1000 1000
    $EGID = 1000 1000

Perl module toolchain versions installed:

    Module              Have  
    ------------------- ------
    CPAN                1.9402
    Cwd                 3.31  
    ExtUtils::CBuilder  0.2703
    ExtUtils::Command   1.16  
    ExtUtils::Install   1.52  
    ExtUtils::MakeMaker 6.56  
    ExtUtils::Manifest  1.56  
    ExtUtils::ParseXS   2.2206
    File::Spec          3.31  
    Module::Build       0.3607
    Module::Signature   0.64  
    Test::Harness       3.22  
    Test::More          0.96  
    YAML                0.71  
    YAML::Syck          n/a   
    version             0.74  


--

Summary of my perl5 (revision 5 version 10 subversion 0) configuration:
  Platform:
    osname=openbsd, osvers=4.6, archname=i386-openbsd
    uname='openbsd'
    config_args='-dsE -Dopenbsd_distribution=defined -Dmksymlinks'
    hint=recommended, useposix=true, d_sigaction=define
    useithreads=undef, usemultiplicity=undef
    useperlio=define, d_sfio=undef, uselargefiles=define, usesocks=undef
    use64bitint=undef, use64bitall=undef, uselongdouble=undef
    usemymalloc=n, bincompat5005=undef
  Compiler:
    cc='cc', ccflags ='-fno-strict-aliasing -fno-delete-null-pointer-checks -pipe -I/usr/local/include',
    optimize='-O2',
    cppflags='-fno-strict-aliasing -fno-delete-null-pointer-checks -pipe -I/usr/local/include'
    ccversion='', gccversion='3.3.5 (propolice)', gccosandvers='openbsd4.6'
    intsize=4, longsize=4, ptrsize=4, doublesize=8, byteorder=1234
    d_longlong=define, longlongsize=8, d_longdbl=define, longdblsize=12
    ivtype='long', ivsize=4, nvtype='double', nvsize=8, Off_t='off_t', lseeksize=8
    alignbytes=4, prototype=define
  Linker and Libraries:
    ld='cc', ldflags ='-Wl,-E '
    libpth=/usr/lib
    libs=-lm -lutil -lc
    perllibs=-lm -lutil -lc
    libc=/usr/lib/libc.a, so=so, useshrplib=true, libperl=libperl.so.11.0
    gnulibc_version=''
  Dynamic Linking:
    dlsrc=dl_dlopen.xs, dlext=so, d_dlsymun=undef, ccdlflags='-Wl,-R/usr/libdata/perl5/i386-openbsd/5.10.0/CORE'
    cccdlflags='-DPIC -fPIC ', lddlflags='-shared -fPIC '


Characteristics of this binary (from libperl): 
  Compile-time options: PERL_DONT_CREATE_GVSV PERL_MALLOC_WRAP
                        USE_LARGE_FILES USE_PERLIO
  Built under OpenBSD
  %ENV:
    PERL5LIB="/home/cpants/.cpan/build/Syntax-Highlight-Engine-Kate-0.06-cqEvme/blib/arch:/home/cpants/.cpan/build/Syntax-Highlight-Engine-Kate-0.06-cqEvme/blib/lib:/home/cpants/.cpan/build/Tk-804.029-NFP1fv/blib/arch:/home/cpants/.cpan/build/Tk-804.029-NFP1fv/blib/lib:/home/cpants/perl/libdata/perl5/site_perl:/home/cpants/perl/libdata/perl5"
    PERL5OPT=""
    PERL5_CPANPLUS_IS_RUNNING="23764"
    PERL5_CPAN_IS_RUNNING="23764"
    PERL5_CPAN_IS_RUNNING_IN_RECURSION="32582,23764"
    PERL_CR_SMOKER_CURRENT="Tk-ROSyntaxText-1.001"
    PERL_EXTUTILS_AUTOINSTALL="--defaultdeps"
    PERL_MM_USE_DEFAULT="1"
  @INC:
    /home/cpants/.cpan/build/Syntax-Highlight-Engine-Kate-0.06-cqEvme/blib/arch
    /home/cpants/.cpan/build/Syntax-Highlight-Engine-Kate-0.06-cqEvme/blib/lib
    /home/cpants/.cpan/build/Tk-804.029-NFP1fv/blib/arch
    /home/cpants/.cpan/build/Tk-804.029-NFP1fv/blib/lib
    /home/cpants/perl/libdata/perl5/site_perl/i386-openbsd
    /home/cpants/perl/libdata/perl5/site_perl
    /home/cpants/perl/libdata/perl5/i386-openbsd
    /home/cpants/perl/libdata/perl5
    /usr/libdata/perl5/i386-openbsd/5.10.0
    /usr/local/libdata/perl5/i386-openbsd/5.10.0
    /usr/libdata/perl5
    /usr/local/libdata/perl5
    /usr/local/libdata/perl5/site_perl/i386-openbsd
    /usr/libdata/perl5/site_perl/i386-openbsd
    /usr/local/libdata/perl5/site_perl
    /usr/libdata/perl5/site_perl
    .