Net-LDAP-SimpleServer v0.0.21 Perl 5 v5.28.0 x86_64-linux-gnu-thread-multi
- Status
- Pass
- From
- Slaven Rezić (SREZIC)
- Dist
-
Net-LDAP-SimpleServer v0.0.21
- Platform
- Perl 5 v5.28.0 x86_64-linux-gnu-thread-multi
- Date
- 2018-12-06 23:30:37
- ID
- ef7ad7da-f9ae-11e8-a5af-f7dd46e94e0a
This distribution has been tested as part of the CPAN Testers
project, supporting the Perl programming language. See
http://wiki.cpantesters.org/ for more information or email
questions to cpan-testers-discuss@perl.org
--
Dear Alexei Znamensky,
This is a computer-generated report for Net-LDAP-SimpleServer-0.0.21
on perl 5.28.0, created by CPAN-Reporter-1.2018.
Thank you for uploading your work to CPAN. Congratulations!
All tests were successful.
Sections of this report:
* Tester comments
* Program output
* Prerequisites
* Environment and other context
------------------------------
TESTER COMMENTS
------------------------------
Additional comments from tester:
none provided
------------------------------
PROGRAM OUTPUT
------------------------------
Output from '/usr/bin/make test':
PERL_DL_NONLAZY=1 "/usr/bin/perl" "-MExtUtils::Command::MM" "-MTest::Harness" "-e" "undef *Test::Harness::Switches; test_harness(0, 'blib/lib', 'blib/arch')" t/*.t
t/00-compile.t ............... ok
t/00-load.t .................. ok
#
# Versions for all modules listed in MYMETA.json (including optional ones):
#
# === Configure Requires ===
#
# Module Want Have
# ------------------- ---- ----
# ExtUtils::MakeMaker any 7.34
#
# === Build Requires ===
#
# Module Want Have
# ------------------- ---- ----
# ExtUtils::MakeMaker any 7.34
#
# === Test Requires ===
#
# Module Want Have
# ------------------- ---- --------
# Authen::SASL any 2.16
# ExtUtils::MakeMaker any 7.34
# File::Spec any 3.74
# IO::Handle any 1.39
# IO::Pipe any 1.39
# IPC::Open3 any 1.20
# Net::LDAP any 0.65
# Proc::Fork any 0.806
# Test::Deep any 1.128
# Test::More any 1.302133
# Test::UseAllModules any 0.17
# Try::Tiny any 0.30
# lib any 0.64
#
# === Test Recommends ===
#
# Module Want Have
# ---------- -------- --------
# CPAN::Meta 2.120900 2.150010
#
# === Runtime Requires ===
#
# Module Want Have
# ---------------------- ----- ----------
# Carp any 1.50
# Digest::MD5 any 2.55
# Exporter any 5.73
# File::Basename any 2.85
# File::HomeDir any 1.004
# File::Path 2.08 2.15
# File::Spec any 3.74
# MIME::Base64 any 3.15
# Net::LDAP::Constant any 0.23
# Net::LDAP::Filter any 0.20
# Net::LDAP::FilterMatch any 0.27
# Net::LDAP::LDIF any 0.26
# Net::LDAP::Server any 0.43
# Net::LDAP::Util any 0.19
# Net::Server 2.003 2.009
# Scalar::Util any 1.50
# UNIVERSAL::isa any 1.20171012
# base any 2.27
# constant any 1.33
# fields any 2.24
# strict any 1.11
# warnings any 1.42
#
t/00-report-prereqs.t ........ ok
t/10-store.t ................. ok
Use of uninitialized value in scalar chomp at /home/cpansand/.cpan/build/2018120623/Net-LDAP-SimpleServer-0.0.21-0/blib/lib/Net/LDAP/SimpleServer/ProtocolHandler.pm line 73.
Use of uninitialized value in string eq at /home/cpansand/.cpan/build/2018120623/Net-LDAP-SimpleServer-0.0.21-0/blib/lib/Net/LDAP/SimpleServer/ProtocolHandler.pm line 52.
t/20-handler.t ............... ok
Couldn't open conf "/no/such/file.conf" [No such file or directory]
t/30-param.t ................. ok
t/40-bind.t .................. ok
t/41-bind-user.t ............. ok
t/50-search.t ................ ok
t/51-search-pw_attr.t ........ ok
t/author-critic.t ............ skipped: these tests are for testing by the author
t/author-eol.t ............... skipped: these tests are for testing by the author
t/author-mojibake.t .......... skipped: these tests are for testing by the author
t/author-no-tabs.t ........... skipped: these tests are for testing by the author
t/author-pod-coverage.t ...... skipped: these tests are for testing by the author
t/author-pod-linkcheck.t ..... skipped: these tests are for testing by the author
t/author-pod-syntax.t ........ skipped: these tests are for testing by the author
t/author-portability.t ....... skipped: these tests are for testing by the author
t/author-test-version.t ...... skipped: these tests are for testing by the author
t/release-dist-manifest.t .... skipped: these tests are for release candidate testing
t/release-distmeta.t ......... skipped: these tests are for release candidate testing
t/release-kwalitee.t ......... skipped: these tests are for release candidate testing
t/release-meta-json.t ........ skipped: these tests are for release candidate testing
t/release-minimum-version.t .. skipped: these tests are for release candidate testing
t/release-unused-vars.t ...... skipped: these tests are for release candidate testing
All tests successful.
Files=25, Tests=77, 74 wallclock secs ( 0.17 usr 0.35 sys + 8.65 cusr 3.18 csys = 12.35 CPU)
Result: PASS
------------------------------
PREREQUISITES
------------------------------
Prerequisite modules loaded:
requires:
Module Need Have
---------------------- ----- ----------
base 0 2.27
Carp 0 1.50
constant 0 1.33
Digest::MD5 0 2.55
Exporter 0 5.73
fields 0 2.24
File::Basename 0 2.85
File::HomeDir 0 1.004
File::Path 2.08 2.15
File::Spec 0 3.74
MIME::Base64 0 3.15
Net::LDAP::Constant 0 0.23
Net::LDAP::Filter 0 0.20
Net::LDAP::FilterMatch 0 0.27
Net::LDAP::LDIF 0 0.26
Net::LDAP::Server 0 0.43
Net::LDAP::Util 0 0.19
Net::Server 2.003 2.009
perl 5.014 5.028000
Scalar::Util 0 1.50
strict 0 1.11
UNIVERSAL::isa 0 1.20171012
warnings 0 1.42
build_requires:
Module Need Have
---------------------- ----- ----------
Authen::SASL 0 2.16
ExtUtils::MakeMaker 0 7.34
File::Spec 0 3.74
IO::Handle 0 1.39
IO::Pipe 0 1.39
IPC::Open3 0 1.20
lib 0 0.64
Net::LDAP 0 0.65
Proc::Fork 0 0.806
Test::Deep 0 1.128
Test::More 0 1.302133
Test::UseAllModules 0 0.17
Try::Tiny 0 0.30
configure_requires:
Module Need Have
---------------------- ----- ----------
ExtUtils::MakeMaker 0 7.34
------------------------------
ENVIRONMENT AND OTHER CONTEXT
------------------------------
Environment variables:
LANG = C
PATH = /usr/local/bin:/usr/bin:/bin:/usr/local/sbin:/usr/sbin:/sbin:/home/cpansand/bin/linux-gnu:/home/cpansand/bin/sh:/home/cpansand/bin:/usr/games:/home/cpansand/devel:/home/eserte/src/srezic-misc/scripts
PERL5LIB = /home/cpansand/.local/share/.cpan/build/2018120623/UNIVERSAL-isa-1.20171012-0/blib/arch:/home/cpansand/.local/share/.cpan/build/2018120623/UNIVERSAL-isa-1.20171012-0/blib/lib:/home/cpansand/.local/share/.cpan/build/2018120623/Test-UseAllModules-0.17-0/blib/arch:/home/cpansand/.local/share/.cpan/build/2018120623/Test-UseAllModules-0.17-0/blib/lib:/home/cpansand/.local/share/.cpan/build/2018120623/Test-Deep-1.128-0/blib/arch:/home/cpansand/.local/share/.cpan/build/2018120623/Test-Deep-1.128-0/blib/lib:/home/cpansand/.local/share/.cpan/build/2018120623/Proc-Fork-0.806-0/blib/arch:/home/cpansand/.local/share/.cpan/build/2018120623/Proc-Fork-0.806-0/blib/lib:/home/cpansand/.local/share/.cpan/build/2018120623/Exporter-Tidy-0.08-0/blib/arch:/home/cpansand/.local/share/.cpan/build/2018120623/Exporter-Tidy-0.08-0/blib/lib:/home/cpansand/.local/share/.cpan/build/2018120623/Net-LDAP-Server-0.43-0/blib/arch:/home/cpansand/.local/share/.cpan/build/2018120623/Net-LDAP-Server-0.43-0/blib/lib:/home/cpansand/.local/share/.cpan/build/2018120623/perl-ldap-0.65-0/blib/arch:/home/cpansand/.local/share/.cpan/build/2018120623/perl-ldap-0.65-0/blib/lib:/home/cpansand/.local/share/.cpan/build/2018120623/Text-Soundex-3.05-0/blib/arch:/home/cpansand/.local/share/.cpan/build/2018120623/Text-Soundex-3.05-0/blib/lib:/home/cpansand/.local/share/.cpan/build/2018120623/Convert-ASN1-0.27-0/blib/arch:/home/cpansand/.local/share/.cpan/build/2018120623/Convert-ASN1-0.27-0/blib/lib
PERL5OPT =
PERL5_CPANPLUS_IS_RUNNING = 6774
PERL5_CPAN_IS_RUNNING = 6774
PERL5_CPAN_IS_RUNNING_IN_RECURSION = 6758,6774
PERLDOC = -MPod::Perldoc::ToTextOverstrike
PERL_BATCH = yes
PERL_CANARY_STABILITY_NOPROMPT = 1
PERL_CPAN_REPORTER_CONFIG = /var/tmp/cpansmoker-1023/2018120623/cpanreporter_001_config.ini
PERL_EXTUTILS_AUTOINSTALL = --defaultdeps
PERL_USE_UNSAFE_INC = 1
SHELL = /usr/bin/zsh
TERM = screen
TMPDIR = /var/tmp/cpansmoker-1023/2018120623
Perl special variables (and OS-specific diagnostics, for MSWin32):
$^X = /usr/bin/perl
$UID/$EUID = 1023 / 1023
$GID = 1023 1023
$EGID = 1023 1023
Perl module toolchain versions installed:
Module Have
------------------- --------
CPAN 2.20
CPAN::Meta 2.150010
Cwd 3.74
ExtUtils::CBuilder 0.280230
ExtUtils::Command 7.34
ExtUtils::Install 2.14
ExtUtils::MakeMaker 7.34
ExtUtils::Manifest 1.70
ExtUtils::ParseXS 3.39
File::Spec 3.74
JSON n/a
JSON::PP 2.97001
Module::Build 0.4224
Module::Signature 0.83
Parse::CPAN::Meta 2.150010
Test::Harness 3.42
Test::More 1.302133
YAML 1.27
YAML::Syck 1.31
version 0.9923
--
Summary of my perl5 (revision 5 version 28 subversion 0) configuration:
Platform:
osname=linux
osvers=4.9.0
archname=x86_64-linux-gnu-thread-multi
uname='linux localhost 4.9.0 #1 smp debian 4.9.0 x86_64 gnulinux '
config_args='-Dusethreads -Duselargefiles -Dcc=x86_64-linux-gnu-gcc -Dcpp=x86_64-linux-gnu-cpp -Dld=x86_64-linux-gnu-gcc -Dccflags=-DDEBIAN -Wdate-time -D_FORTIFY_SOURCE=2 -g -O2 -fdebug-prefix-map=/build/perl-M6TJdH/perl-5.28.0=. -fstack-protector-strong -Wformat -Werror=format-security -Dldflags= -Wl,-z,relro -Dlddlflags=-shared -Wl,-z,relro -Dcccdlflags=-fPIC -Darchname=x86_64-linux-gnu -Dprefix=/usr -Dprivlib=/usr/share/perl/5.28 -Darchlib=/usr/lib/x86_64-linux-gnu/perl/5.28 -Dvendorprefix=/usr -Dvendorlib=/usr/share/perl5 -Dvendorarch=/usr/lib/x86_64-linux-gnu/perl5/5.28 -Dsiteprefix=/usr/local -Dsitelib=/usr/local/share/perl/5.28.0 -Dsitearch=/usr/local/lib/x86_64-linux-gnu/perl/5.28.0 -Dman1dir=/usr/share/man/man1 -Dman3dir=/usr/share/man/man3 -Dsiteman1dir=/usr/local/man/man1 -Dsiteman3dir=/usr/local/man/man3 -Duse64bitint -Dman1ext=1 -Dman3ext=3perl -Dpager=/usr/bin/sensible-pager -Uafs -Ud_csh -Ud_ualarm -Uusesfio -Uusenm -Ui_libutil -Ui_xlocale -Uversiononly -DDEBUGGING=-g -Doptimize=-O2 -dEs -Duseshrplib -Dlibperl=libperl.so.5.28.0'
hint=recommended
useposix=true
d_sigaction=define
useithreads=define
usemultiplicity=define
use64bitint=define
use64bitall=define
uselongdouble=undef
usemymalloc=n
default_inc_excludes_dot=define
bincompat5005=undef
Compiler:
cc='x86_64-linux-gnu-gcc'
ccflags ='-D_REENTRANT -D_GNU_SOURCE -DDEBIAN -fwrapv -fno-strict-aliasing -pipe -I/usr/local/include -D_LARGEFILE_SOURCE -D_FILE_OFFSET_BITS=64'
optimize='-O2 -g'
cppflags='-D_REENTRANT -D_GNU_SOURCE -DDEBIAN -fwrapv -fno-strict-aliasing -pipe -I/usr/local/include'
ccversion=''
gccversion='8.2.0'
gccosandvers=''
intsize=4
longsize=8
ptrsize=8
doublesize=8
byteorder=12345678
doublekind=3
d_longlong=define
longlongsize=8
d_longdbl=define
longdblsize=16
longdblkind=3
ivtype='long'
ivsize=8
nvtype='double'
nvsize=8
Off_t='off_t'
lseeksize=8
alignbytes=8
prototype=define
Linker and Libraries:
ld='x86_64-linux-gnu-gcc'
ldflags =' -fstack-protector-strong -L/usr/local/lib'
libpth=/usr/local/lib /usr/lib/gcc/x86_64-linux-gnu/8/include-fixed /usr/include/x86_64-linux-gnu /usr/lib /lib/x86_64-linux-gnu /lib/../lib /usr/lib/x86_64-linux-gnu /usr/lib/../lib /lib /lib64 /usr/lib64
libs=-lgdbm -lgdbm_compat -ldb -ldl -lm -lpthread -lc -lcrypt
perllibs=-ldl -lm -lpthread -lc -lcrypt
libc=libc-2.27.so
so=so
useshrplib=true
libperl=libperl.so.5.28
gnulibc_version='2.27'
Dynamic Linking:
dlsrc=dl_dlopen.xs
dlext=so
d_dlsymun=undef
ccdlflags='-Wl,-E'
cccdlflags='-fPIC'
lddlflags='-shared -L/usr/local/lib -fstack-protector-strong'
Characteristics of this binary (from libperl):
Compile-time options:
HAS_TIMES
MULTIPLICITY
PERLIO_LAYERS
PERL_COPY_ON_WRITE
PERL_DONT_CREATE_GVSV
PERL_IMPLICIT_CONTEXT
PERL_MALLOC_WRAP
PERL_OP_PARENT
PERL_PRESERVE_IVUV
USE_64_BIT_ALL
USE_64_BIT_INT
USE_ITHREADS
USE_LARGE_FILES
USE_LOCALE
USE_LOCALE_COLLATE
USE_LOCALE_CTYPE
USE_LOCALE_NUMERIC
USE_LOCALE_TIME
USE_PERLIO
USE_PERL_ATOF
USE_REENTRANT_API
Locally applied patches:
DEBPKG:debian/cpan_definstalldirs - Provide a sensible INSTALLDIRS default for modules installed from CPAN.
DEBPKG:debian/db_file_ver - https://bugs.debian.org/340047 Remove overly restrictive DB_File version check.
DEBPKG:debian/doc_info - Replace generic man(1) instructions with Debian-specific information.
DEBPKG:debian/enc2xs_inc - https://bugs.debian.org/290336 Tweak enc2xs to follow symlinks and ignore missing @INC directories.
DEBPKG:debian/errno_ver - https://bugs.debian.org/343351 Remove Errno version check due to upgrade problems with long-running processes.
DEBPKG:debian/libperl_embed_doc - https://bugs.debian.org/186778 Note that libperl-dev package is required for embedded linking
DEBPKG:fixes/respect_umask - Respect umask during installation
DEBPKG:debian/writable_site_dirs - Set umask approproately for site install directories
DEBPKG:debian/extutils_set_libperl_path - EU:MM: set location of libperl.a under /usr/lib
DEBPKG:debian/no_packlist_perllocal - Don't install .packlist or perllocal.pod for perl or vendor
DEBPKG:debian/fakeroot - Postpone LD_LIBRARY_PATH evaluation to the binary targets.
DEBPKG:debian/instmodsh_doc - Debian policy doesn't install .packlist files for core or vendor.
DEBPKG:debian/ld_run_path - Remove standard libs from LD_RUN_PATH as per Debian policy.
DEBPKG:debian/libnet_config_path - Set location of libnet.cfg to /etc/perl/Net as /usr may not be writable.
DEBPKG:debian/perlivp - https://bugs.debian.org/510895 Make perlivp skip include directories in /usr/local
DEBPKG:debian/squelch-locale-warnings - https://bugs.debian.org/508764 Squelch locale warnings in Debian package maintainer scripts
DEBPKG:debian/patchlevel - https://bugs.debian.org/567489 List packaged patches for 5.28.0-4 in patchlevel.h
DEBPKG:fixes/document_makemaker_ccflags - https://bugs.debian.org/628522 [rt.cpan.org #68613] Document that CCFLAGS should include $Config{ccflags}
DEBPKG:debian/find_html2text - https://bugs.debian.org/640479 Configure CPAN::Distribution with correct name of html2text
DEBPKG:debian/perl5db-x-terminal-emulator.patch - https://bugs.debian.org/668490 Invoke x-terminal-emulator rather than xterm in perl5db.pl
DEBPKG:debian/cpan-missing-site-dirs - https://bugs.debian.org/688842 Fix CPAN::FirstTime defaults with nonexisting site dirs if a parent is writable
DEBPKG:fixes/memoize_storable_nstore - [rt.cpan.org #77790] https://bugs.debian.org/587650 Memoize::Storable: respect 'nstore' option not respected
DEBPKG:debian/makemaker-pasthru - https://bugs.debian.org/758471 Pass LD settings through to subdirectories
DEBPKG:debian/makemaker-manext - https://bugs.debian.org/247370 Make EU::MakeMaker honour MANnEXT settings in generated manpage headers
DEBPKG:debian/kfreebsd-softupdates - https://bugs.debian.org/796798 Work around Debian Bug#796798
DEBPKG:fixes/autodie-scope - https://bugs.debian.org/798096 Fix a scoping issue with "no autodie" and the "system" sub
DEBPKG:fixes/memoize-pod - [rt.cpan.org #89441] Fix POD errors in Memoize
DEBPKG:debian/hurd-softupdates - https://bugs.debian.org/822735 Fix t/op/stat.t failures on hurd
DEBPKG:fixes/math_complex_doc_great_circle - https://bugs.debian.org/697567 [rt.cpan.org #114104] Math::Trig: clarify definition of great_circle_midpoint
DEBPKG:fixes/math_complex_doc_see_also - https://bugs.debian.org/697568 [rt.cpan.org #114105] Math::Trig: add missing SEE ALSO
DEBPKG:fixes/math_complex_doc_angle_units - https://bugs.debian.org/731505 [rt.cpan.org #114106] Math::Trig: document angle units
DEBPKG:fixes/cpan_web_link - https://bugs.debian.org/367291 CPAN: Add link to main CPAN web site
DEBPKG:debian/hppa_op_optimize_workaround - https://bugs.debian.org/838613 Temporarily lower the optimization of op.c on hppa due to gcc-6 problems
DEBPKG:debian/installman-utf8 - https://bugs.debian.org/840211 Generate man pages with UTF-8 characters
DEBPKG:fixes/getopt-long-4 - https://bugs.debian.org/864544 [rt.cpan.org #122068] Fix issue #122068.
DEBPKG:debian/hppa_opmini_optimize_workaround - https://bugs.debian.org/869122 Lower the optimization level of opmini.c on hppa
DEBPKG:debian/sh4_op_optimize_workaround - https://bugs.debian.org/869373 Also lower the optimization level of op.c and opmini.c on sh4
DEBPKG:debian/perldoc-pager - https://bugs.debian.org/870340 [rt.cpan.org #120229] Fix perldoc terminal escapes when sensible-pager is less
DEBPKG:debian/prune_libs - https://bugs.debian.org/128355 Prune the list of libraries wanted to what we actually need.
DEBPKG:debian/mod_paths - Tweak @INC ordering for Debian
DEBPKG:debian/configure-regen - https://bugs.debian.org/762638 Regenerate Configure et al. after probe unit changes
DEBPKG:debian/deprecate-with-apt - https://bugs.debian.org/747628 Point users to Debian packages of deprecated core modules
DEBPKG:debian/disable-stack-check - https://bugs.debian.org/902779 [perl #133327] Disable debugperl stack extension checks for binary compatibility with perl
DEBPKG:fixes/in-place-edit-handles - [3d5e9c1] https://bugs.debian.org/902925 [perl #133314] (perl #133314) always close the directory handle on clean up
DEBPKG:debian/gdbm-fatal - [perl #133295] https://bugs.debian.org/904005 Temporarily skip GDBM_File fatal.t for gdbm >= 1.15 compatibility
DEBPKG:fixes/storable-recursion - https://bugs.debian.org/912900 [perl #133326] [120060c] (perl #133326) fix and clarify handling of recurs_sv.
DEBPKG:fixes/caretx-fallback - https://bugs.debian.org/913347 [perl #133573] [03b94aa] RT#133573: $^X fallback when platform-specific technique fails
DEBPKG:fixes/eumm-usrmerge - https://bugs.debian.org/913637 Avoid mangling /bin non-perl shebangs on merged-/usr systems
DEBPKG:debian/errno-include-path - https://bugs.debian.org/875921 Make Errno_pm.PL compatible with /usr/include/<ARCH>/errno.h
DEBPKG:fixes/kfreebsd-renameat - https://bugs.debian.org/912521 [perl #133668] Also work around renameat() kernel bug on GNU/kFreeBSD
Built under linux
Compiled at Nov 19 2018 18:01:39
%ENV:
PERL5LIB="/home/cpansand/.local/share/.cpan/build/2018120623/UNIVERSAL-isa-1.20171012-0/blib/arch:/home/cpansand/.local/share/.cpan/build/2018120623/UNIVERSAL-isa-1.20171012-0/blib/lib:/home/cpansand/.local/share/.cpan/build/2018120623/Test-UseAllModules-0.17-0/blib/arch:/home/cpansand/.local/share/.cpan/build/2018120623/Test-UseAllModules-0.17-0/blib/lib:/home/cpansand/.local/share/.cpan/build/2018120623/Test-Deep-1.128-0/blib/arch:/home/cpansand/.local/share/.cpan/build/2018120623/Test-Deep-1.128-0/blib/lib:/home/cpansand/.local/share/.cpan/build/2018120623/Proc-Fork-0.806-0/blib/arch:/home/cpansand/.local/share/.cpan/build/2018120623/Proc-Fork-0.806-0/blib/lib:/home/cpansand/.local/share/.cpan/build/2018120623/Exporter-Tidy-0.08-0/blib/arch:/home/cpansand/.local/share/.cpan/build/2018120623/Exporter-Tidy-0.08-0/blib/lib:/home/cpansand/.local/share/.cpan/build/2018120623/Net-LDAP-Server-0.43-0/blib/arch:/home/cpansand/.local/share/.cpan/build/2018120623/Net-LDAP-Server-0.43-0/blib/lib:/home/cpansand/.local/share/.cpan/build/2018120623/perl-ldap-0.65-0/blib/arch:/home/cpansand/.local/share/.cpan/build/2018120623/perl-ldap-0.65-0/blib/lib:/home/cpansand/.local/share/.cpan/build/2018120623/Text-Soundex-3.05-0/blib/arch:/home/cpansand/.local/share/.cpan/build/2018120623/Text-Soundex-3.05-0/blib/lib:/home/cpansand/.local/share/.cpan/build/2018120623/Convert-ASN1-0.27-0/blib/arch:/home/cpansand/.local/share/.cpan/build/2018120623/Convert-ASN1-0.27-0/blib/lib"
PERL5OPT=""
PERL5_CPANPLUS_IS_RUNNING="6774"
PERL5_CPAN_IS_RUNNING="6774"
PERL5_CPAN_IS_RUNNING_IN_RECURSION="6758,6774"
PERLDOC="-MPod::Perldoc::ToTextOverstrike"
PERL_BATCH="yes"
PERL_CANARY_STABILITY_NOPROMPT="1"
PERL_CPAN_REPORTER_CONFIG="/var/tmp/cpansmoker-1023/2018120623/cpanreporter_001_config.ini"
PERL_EXTUTILS_AUTOINSTALL="--defaultdeps"
PERL_USE_UNSAFE_INC="1"
@INC:
/home/cpansand/.local/share/.cpan/build/2018120623/UNIVERSAL-isa-1.20171012-0/blib/arch
/home/cpansand/.local/share/.cpan/build/2018120623/UNIVERSAL-isa-1.20171012-0/blib/lib
/home/cpansand/.local/share/.cpan/build/2018120623/Test-UseAllModules-0.17-0/blib/arch
/home/cpansand/.local/share/.cpan/build/2018120623/Test-UseAllModules-0.17-0/blib/lib
/home/cpansand/.local/share/.cpan/build/2018120623/Test-Deep-1.128-0/blib/arch
/home/cpansand/.local/share/.cpan/build/2018120623/Test-Deep-1.128-0/blib/lib
/home/cpansand/.local/share/.cpan/build/2018120623/Proc-Fork-0.806-0/blib/arch
/home/cpansand/.local/share/.cpan/build/2018120623/Proc-Fork-0.806-0/blib/lib
/home/cpansand/.local/share/.cpan/build/2018120623/Exporter-Tidy-0.08-0/blib/arch
/home/cpansand/.local/share/.cpan/build/2018120623/Exporter-Tidy-0.08-0/blib/lib
/home/cpansand/.local/share/.cpan/build/2018120623/Net-LDAP-Server-0.43-0/blib/arch
/home/cpansand/.local/share/.cpan/build/2018120623/Net-LDAP-Server-0.43-0/blib/lib
/home/cpansand/.local/share/.cpan/build/2018120623/perl-ldap-0.65-0/blib/arch
/home/cpansand/.local/share/.cpan/build/2018120623/perl-ldap-0.65-0/blib/lib
/home/cpansand/.local/share/.cpan/build/2018120623/Text-Soundex-3.05-0/blib/arch
/home/cpansand/.local/share/.cpan/build/2018120623/Text-Soundex-3.05-0/blib/lib
/home/cpansand/.local/share/.cpan/build/2018120623/Convert-ASN1-0.27-0/blib/arch
/home/cpansand/.local/share/.cpan/build/2018120623/Convert-ASN1-0.27-0/blib/lib
/etc/perl
/usr/local/lib/x86_64-linux-gnu/perl/5.28.0
/usr/local/share/perl/5.28.0
/usr/lib/x86_64-linux-gnu/perl5/5.28
/usr/share/perl5
/usr/lib/x86_64-linux-gnu/perl/5.28
/usr/share/perl/5.28
/usr/local/lib/site_perl
/usr/lib/x86_64-linux-gnu/perl-base
.