Report for Search-Elasticsearch-Client-1_0-5.02

Back
From: metabase:user:30ae4450-2aae-11df-837a-5e0a49663a4f
Subject: PASS Search-Elasticsearch-Client-1_0-5.02 v5.20.1 
Date: 2017-04-03T19:42:05Z

This distribution has been tested as part of the CPAN Testers
project, supporting the Perl programming language.  See
http://wiki.cpantesters.org/ for more information or email
questions to cpan-testers-discuss@perl.org


--
Dear Clinton Gormley,

This is a computer-generated report for Search-Elasticsearch-Client-1_0-5.02
on perl 5.20.1, created by CPAN-Reporter-1.2014.

Thank you for uploading your work to CPAN.  Congratulations!
All tests were successful.

Sections of this report:

    * Tester comments
    * Program output
    * Prerequisites
    * Environment and other context

------------------------------
TESTER COMMENTS
------------------------------

Additional comments from tester:

this report is from an automated smoke testing program
and was not reviewed by a human for accuracy

------------------------------
PROGRAM OUTPUT
------------------------------

Output from 'C:\STRAWB~1\c\bin\dmake.exe test':

"C:\Strawberry201\perl\bin\perl.exe" "-MExtUtils::Command::MM" "-MTest::Harness" "-e" "undef *Test::Harness::Switches; test_harness(0, 'blib\lib', 'blib\arch')" t/*.t t/Client_1_0/*.t
t/author-eol.t ..................... skipped: these tests are for testing by the author
t/author-no-tabs.t ................. skipped: these tests are for testing by the author
t/author-pod-syntax.t .............. skipped: these tests are for testing by the author
t/Client_1_0/00_print_version.t .... skipped: No Elasticsearch test node available
t/Client_1_0/10_live.t ............. skipped: No Elasticsearch test node available
t/Client_1_0/15_conflict.t ......... skipped: No Elasticsearch test node available
t/Client_1_0/20_fork_httptiny.t .... skipped: No Elasticsearch test node available
t/Client_1_0/21_fork_lwp.t ......... skipped: No Elasticsearch test node available
t/Client_1_0/22_fork_hijk.t ........ skipped: No Elasticsearch test node available
t/Client_1_0/30_bulk_add_action.t .. skipped: No Elasticsearch test node available
t/Client_1_0/31_bulk_helpers.t ..... skipped: No Elasticsearch test node available
t/Client_1_0/32_bulk_flush.t ....... skipped: No Elasticsearch test node available
t/Client_1_0/33_bulk_errors.t ...... skipped: No Elasticsearch test node available
t/Client_1_0/34_bulk_cxn_errors.t .. ok
t/Client_1_0/40_scroll.t ........... skipped: No Elasticsearch test node available
t/Client_1_0/50_reindex.t .......... skipped: No Elasticsearch test node available
t/Client_1_0/60_auth_httptiny.t .... skipped: HTTPTiny - No https server specified in ES_SSL
t/Client_1_0/61_auth_lwp.t ......... skipped: LWP - No https server specified in ES_SSL
All tests successful.
Files=18, Tests=3,  6 wallclock secs ( 0.12 usr +  0.03 sys =  0.15 CPU)
Result: PASS

------------------------------
PREREQUISITES
------------------------------

Prerequisite modules loaded:

requires:

    Module                                      Need Have    
    ------------------------------------------- ---- --------
    Devel::GlobalDestruction                    0    0.13    
    Moo                                         0    2.003002
    Moo::Role                                   0    2.003002
    namespace::clean                            0    0.25    
    Search::Elasticsearch                       5.02 5.02    
    Search::Elasticsearch::Role::API            0    5.02    
    Search::Elasticsearch::Role::Client::Direct 0    5.02    
    Search::Elasticsearch::Role::Is_Sync        0    5.02    
    Search::Elasticsearch::Util                 0    5.02    
    strict                                      0    1.08    
    Try::Tiny                                   0    0.22    
    warnings                                    0    1.23    

build_requires:

    Module                                      Need Have    
    ------------------------------------------- ---- --------
    Data::Dumper                                0    2.151   
    ExtUtils::MakeMaker                         0    7.04    
    IO::Socket::SSL                             0    2.012   
    lib                                         0    0.63    
    Log::Any::Adapter                           0    1.032   
    Log::Any::Adapter::Callback                 0.09 0.09    
    POSIX                                       0    1.38_03 
    Search::Elasticsearch::Role::Cxn            0    5.02    
    Sub::Exporter                               0    0.987   
    Test::Deep                                  0    0.113   
    Test::Exception                             0    0.38    
    Test::More                                  0.98 1.001006


------------------------------
ENVIRONMENT AND OTHER CONTEXT
------------------------------

Environment variables:

    AUTOMATED_TESTING = 1
    COMSPEC = C:\WINDOWS\system32\cmd.exe
    NUMBER_OF_PROCESSORS = 1
    PATH = C:\WINDOWS\system32;C:\WINDOWS;C:\WINDOWS\System32\Wbem;C:\Strawberry201\c\bin;C:\Strawberry201\perl\site\bin;C:\Strawberry201\perl\bin;C:\Git\cmd
    PERL5LIB = C:\STRAWB~1\cpan\build\Search-Elasticsearch-5.02-H2TsnC/blib/arch;C:\STRAWB~1\cpan\build\Search-Elasticsearch-5.02-H2TsnC/blib/lib;C:\STRAWB~1\cpan\build\Moo-2.003002-LTwyns/blib/arch;C:\STRAWB~1\cpan\build\Moo-2.003002-LTwyns/blib/lib;C:\STRAWB~1\cpan\build\Sub-Quote-2.003001-OEIQtv/blib/arch;C:\STRAWB~1\cpan\build\Sub-Quote-2.003001-OEIQtv/blib/lib;C:\STRAWB~1\cpan\build\Role-Tiny-2.000005-HDBSXT/blib/arch;C:\STRAWB~1\cpan\build\Role-Tiny-2.000005-HDBSXT/blib/lib
    PERL5OPT = 
    PERL5_CPANPLUS_IS_RUNNING = 1460
    PERL5_CPAN_IS_RUNNING = 1460
    PERL5_CPAN_IS_RUNNING_IN_RECURSION = 1836,1460
    PERL_CR_SMOKER_CURRENT = Search-Elasticsearch-Client-1_0-Async-5.02
    PERL_CR_SMOKER_RUNONCE = 1
    PERL_EXTUTILS_AUTOINSTALL = --defaultdeps
    PERL_MM_USE_DEFAULT = 1
    PROCESSOR_IDENTIFIER = x86 Family 18 Model 1 Stepping 0, AuthenticAMD
    TEMP = C:\DOCUME~1\c\LOCALS~1\Temp

Perl special variables (and OS-specific diagnostics, for MSWin32):

    $^X = C:\Strawberry201\perl\bin\perl.exe
    $UID/$EUID = 0 / 0
    $GID = 0
    $EGID = 0
    Win32::GetOSName = WinXP/.Net
    Win32::GetOSVersion = Service Pack 3, 5, 1, 2600, 2, 3, 0, 256, 1
    Win32::FsType = NTFS
    Win32::IsAdminUser = 1

Perl module toolchain versions installed:

    Module              Have    
    ------------------- --------
    CPAN                2.05    
    CPAN::Meta          2.142060
    Cwd                 3.48    
    ExtUtils::CBuilder  0.280219
    ExtUtils::Command   1.18    
    ExtUtils::Install   1.68    
    ExtUtils::MakeMaker 7.04    
    ExtUtils::Manifest  1.66    
    ExtUtils::ParseXS   3.24    
    File::Spec          3.48    
    JSON                2.90    
    JSON::PP            2.27203 
    Module::Build       0.4211  
    Module::Signature   0.78    
    Parse::CPAN::Meta   1.4414  
    Test::Harness       3.33    
    Test::More          1.001006
    YAML                1.15    
    YAML::Syck          1.29    
    version             0.9909  


--

Summary of my perl5 (revision 5 version 20 subversion 1) configuration:
   
  Platform:
    osname=MSWin32, osvers=6.3, archname=MSWin32-x86-multi-thread-64int
    uname='Win32 strawberry-perl 5.20.1.1 #1 Mon Sep 15 18:25:23 2014 i386'
    config_args='undef'
    hint=recommended, useposix=true, d_sigaction=undef
    useithreads=define, usemultiplicity=define
    use64bitint=define, use64bitall=undef, uselongdouble=undef
    usemymalloc=n, bincompat5005=undef
  Compiler:
    cc='gcc', ccflags =' -s -O2 -DWIN32  -DPERL_TEXTMODE_SCRIPTS -DPERL_IMPLICIT_CONTEXT -DPERL_IMPLICIT_SYS -DUSE_PERLIO -fwrapv -fno-strict-aliasing -mms-bitfields',
    optimize='-s -O2',
    cppflags='-DWIN32'
    ccversion='', gccversion='4.8.3', gccosandvers=''
    intsize=4, longsize=4, ptrsize=4, doublesize=8, byteorder=12345678
    d_longlong=define, longlongsize=8, d_longdbl=define, longdblsize=12
    ivtype='long long', ivsize=8, nvtype='double', nvsize=8, Off_t='long long', lseeksize=8
    alignbytes=8, prototype=define
  Linker and Libraries:
    ld='g++', ldflags ='-s -L"C:\STRAWB~1\perl\lib\CORE" -L"C:\STRAWB~1\c\lib"'
    libpth=C:\STRAWB~1\c\lib C:\STRAWB~1\c\i686-w64-mingw32\lib C:\STRAWB~1\c\lib\gcc\i686-w64-mingw32\4.8.3
    libs=-lmoldname -lkernel32 -luser32 -lgdi32 -lwinspool -lcomdlg32 -ladvapi32 -lshell32 -lole32 -loleaut32 -lnetapi32 -luuid -lws2_32 -lmpr -lwinmm -lversion -lodbc32 -lodbccp32 -lcomctl32
    perllibs=-lmoldname -lkernel32 -luser32 -lgdi32 -lwinspool -lcomdlg32 -ladvapi32 -lshell32 -lole32 -loleaut32 -lnetapi32 -luuid -lws2_32 -lmpr -lwinmm -lversion -lodbc32 -lodbccp32 -lcomctl32
    libc=, so=dll, useshrplib=true, libperl=libperl520.a
    gnulibc_version=''
  Dynamic Linking:
    dlsrc=dl_win32.xs, dlext=xs.dll, d_dlsymun=undef, ccdlflags=' '
    cccdlflags=' ', lddlflags='-mdll -s -L"C:\STRAWB~1\perl\lib\CORE" -L"C:\STRAWB~1\c\lib"'


Characteristics of this binary (from libperl): 
  Compile-time options: HAS_TIMES HAVE_INTERP_INTERN MULTIPLICITY
                        PERLIO_LAYERS PERL_DONT_CREATE_GVSV
                        PERL_HASH_FUNC_ONE_AT_A_TIME_HARD
                        PERL_IMPLICIT_CONTEXT PERL_IMPLICIT_SYS
                        PERL_MALLOC_WRAP PERL_NEW_COPY_ON_WRITE
                        PERL_PRESERVE_IVUV USE_64_BIT_INT USE_ITHREADS
                        USE_LARGE_FILES USE_LOCALE USE_LOCALE_COLLATE
                        USE_LOCALE_CTYPE USE_LOCALE_NUMERIC USE_PERLIO
                        USE_PERL_ATOF
  Built under MSWin32
  Compiled at Sep 15 2014 18:29:20
  %ENV:
    PERL5LIB="C:\STRAWB~1\cpan\build\Search-Elasticsearch-5.02-H2TsnC/blib/arch;C:\STRAWB~1\cpan\build\Search-Elasticsearch-5.02-H2TsnC/blib/lib;C:\STRAWB~1\cpan\build\Moo-2.003002-LTwyns/blib/arch;C:\STRAWB~1\cpan\build\Moo-2.003002-LTwyns/blib/lib;C:\STRAWB~1\cpan\build\Sub-Quote-2.003001-OEIQtv/blib/arch;C:\STRAWB~1\cpan\build\Sub-Quote-2.003001-OEIQtv/blib/lib;C:\STRAWB~1\cpan\build\Role-Tiny-2.000005-HDBSXT/blib/arch;C:\STRAWB~1\cpan\build\Role-Tiny-2.000005-HDBSXT/blib/lib"
    PERL5_CPANPLUS_IS_RUNNING="1460"
    PERL5_CPAN_IS_RUNNING="1460"
    PERL5_CPAN_IS_RUNNING_IN_RECURSION="1836,1460"
    PERL_CR_SMOKER_CURRENT="Search-Elasticsearch-Client-1_0-Async-5.02"
    PERL_CR_SMOKER_RUNONCE="1"
    PERL_EXTUTILS_AUTOINSTALL="--defaultdeps"
    PERL_MM_USE_DEFAULT="1"
  @INC:
    C:\STRAWB~1\cpan\build\Search-Elasticsearch-5.02-H2TsnC/blib/arch
    C:\STRAWB~1\cpan\build\Search-Elasticsearch-5.02-H2TsnC/blib/lib
    C:\STRAWB~1\cpan\build\Moo-2.003002-LTwyns/blib/arch
    C:\STRAWB~1\cpan\build\Moo-2.003002-LTwyns/blib/lib
    C:\STRAWB~1\cpan\build\Sub-Quote-2.003001-OEIQtv/blib/arch
    C:\STRAWB~1\cpan\build\Sub-Quote-2.003001-OEIQtv/blib/lib
    C:\STRAWB~1\cpan\build\Role-Tiny-2.000005-HDBSXT/blib/arch
    C:\STRAWB~1\cpan\build\Role-Tiny-2.000005-HDBSXT/blib/lib
    C:/Strawberry201/perl/site/lib
    C:/Strawberry201/perl/vendor/lib
    C:/Strawberry201/perl/lib
    .