ETL-Yertl v0.041 Perl 5 v5.26.1 amd64-freebsd
- Status
- Pass
- From
- Slaven Rezić (SREZIC)
- Dist
-
ETL-Yertl v0.041
- Platform
- Perl 5 v5.26.1 amd64-freebsd
- Date
- 2018-09-06 03:42:53
- ID
- efafa9d0-b186-11e8-8f9b-da99b2846c0a
This distribution has been tested as part of the CPAN Testers
project, supporting the Perl programming language. See
http://wiki.cpantesters.org/ for more information or email
questions to cpan-testers-discuss@perl.org
--
Dear Doug Bell,
This is a computer-generated report for ETL-Yertl-0.041
on perl 5.26.1, created by CPAN-Reporter-1.2018.
Thank you for uploading your work to CPAN. Congratulations!
All tests were successful.
Sections of this report:
* Tester comments
* Program output
* Prerequisites
* Environment and other context
------------------------------
TESTER COMMENTS
------------------------------
Additional comments from tester:
none provided
------------------------------
PROGRAM OUTPUT
------------------------------
Output from '/usr/bin/make test':
PERL_DL_NONLAZY=1 "/usr/perl5.26.1p/bin/perl" "-MExtUtils::Command::MM" "-MTest::Harness" "-e" "undef *Test::Harness::Switches; test_harness(0, 'blib/lib', 'blib/arch')" t/*.t t/adapter/*.t t/bin/*.t t/command/ygrok/*.t t/command/ygrok/pattern/*.t t/command/yq/*.t t/format/*.t t/integration/*.t
Argument "2.020_03" isn't numeric in numeric ge (>=) at /usr/perl5.26.1p/lib/site_perl/5.26.1/Net/Async/HTTP.pm line 37.
Argument "2.020_03" isn't numeric in numeric ge (>=) at /usr/perl5.26.1p/lib/site_perl/5.26.1/Net/Async/HTTP.pm line 37.
t/00-compile.t ........................... ok
#
# Versions for all modules listed in MYMETA.json (including optional ones):
#
# === Configure Requires ===
#
# Module Want Have
# ------------------- ---- ----
# ExtUtils::MakeMaker any 7.34
#
# === Build Requires ===
#
# Module Want Have
# ------------------- ---- ----
# ExtUtils::MakeMaker any 7.34
#
# === Test Requires ===
#
# Module Want Have
# ------------------- -------- --------
# Capture::Tiny any 0.46
# Dir::Self any 0.11
# ExtUtils::MakeMaker any 7.34
# File::Spec any 3.74
# Future any 0.38
# IO::Handle any 1.39
# IPC::Open3 any 1.20
# JSON::PP any 2.94
# Mock::MonkeyPatch any 0.04
# Test::Deep any 1.127
# Test::Differences any 0.64
# Test::Exception any 0.43
# Test::Lib any 0.002
# Test::More 1.001005 1.302136
#
# === Test Recommends ===
#
# Module Want Have
# ---------- -------- --------
# CPAN::Meta 2.120900 2.150010
#
# === Runtime Requires ===
#
# Module Want Have
# ------------------- ---------- ----------
# File::HomeDir any 1.004
# File::Spec any 3.74
# Getopt::Long 2.36 2.5
# Hash::Merge::Simple any 0.051
# IO::Async 0.72 0.72
# IO::Interactive any 1.022
# Import::Base 0.010 1.003
# JSON::MaybeXS any 1.003009
# List::Util any 1.50
# Module::Runtime any 0.016
# Net::Async::HTTP any 0.41
# Path::Tiny 0.072 0.104
# Pod::Usage::Return any 0.003
# Regexp::Common 2013031301 2017060201
# SQL::Abstract any 1.85
# Time::Local any 1.25
# Time::Piece any 1.33
# URI any 1.72
# YAML::Tiny any 1.70
# boolean any 0.46
#
# === Runtime Recommends ===
#
# Module Want Have
# ------------ ---- -----
# DBD::SQLite any 1.58
# DBI any 1.641
# JSON::PP any 2.94
# JSON::XS any 3.04
# Text::CSV any 1.97
# Text::CSV_XS any 1.36
# YAML::Syck any 1.30
# YAML::XS any 0.70
#
t/00-report-prereqs.t .................... ok
Argument "2.020_03" isn't numeric in numeric ge (>=) at /usr/perl5.26.1p/lib/site_perl/5.26.1/Net/Async/HTTP.pm line 37.
Name "CORE::GLOBAL::time" used only once: possible typo at t/adapter/graphite.t line 142.
t/adapter/graphite.t ..................... ok
Argument "2.020_03" isn't numeric in numeric ge (>=) at /usr/perl5.26.1p/lib/site_perl/5.26.1/Net/Async/HTTP.pm line 37.
Name "CORE::GLOBAL::time" used only once: possible typo at t/adapter/influxdb.t line 151.
t/adapter/influxdb.t ..................... ok
t/bin/yfrom.t ............................ ok
t/bin/ygrok.t ............................ ok
Use of uninitialized value in string eq at /home/cpansand/.cpan/build/2018090612/ETL-Yertl-0.041-2/blib/lib/ETL/Yertl.pm line 23.
t/bin/yq.t ............................... ok
t/bin/ysql.t ............................. ok
t/bin/yto.t .............................. ok
t/bin/yts.t .............................. ok
t/command/ygrok/edit_patterns.t .......... ok
t/command/ygrok/pattern/http_combined.t .. ok
t/command/ygrok/pattern/http_common.t .... ok
t/command/ygrok/pattern/linux_proc.t ..... ok
t/command/ygrok/pattern/ls-l.t ........... ok
t/command/ygrok/pattern/ps-u.t ........... ok
t/command/ygrok/pattern/ps-x.t ........... ok
t/command/ygrok/pattern/ps.t ............. ok
t/command/ygrok/pattern/syslog.t ......... ok
t/command/yq/combinator.t ................ ok
t/command/yq/comparison.t ................ ok
t/command/yq/conditional.t ............... ok
t/command/yq/filter.t .................... ok
empty does not take arguments
t/command/yq/functions.t ................. ok
t/command/yq/regression.t ................ ok
t/command/yq/values.t .................... ok
t/format.t ............................... ok
t/format/csv.t ........................... ok
Prototype mismatch: sub main::decode_json ($) vs none at /usr/perl5.26.1p/lib/5.26.1/Exporter.pm line 66.
at (eval 35) line 1.
t/format/json.t .......................... ok
t/format/yaml.t .......................... ok
t/format_stream.t ........................ ok
Use of uninitialized value in string eq at /home/cpansand/.cpan/build/2018090612/ETL-Yertl-0.041-2/blib/lib/ETL/Yertl.pm line 23.
t/helpers.t .............................. ok
t/input_series.t ......................... ok
Use of uninitialized value in string eq at /home/cpansand/.cpan/build/2018090612/ETL-Yertl-0.041-2/blib/lib/ETL/Yertl.pm line 23.
t/integration/parse_apache_log.t ......... ok
t/transform.t ............................ ok
All tests successful.
Files=35, Tests=124, 13 wallclock secs ( 0.22 usr 0.09 sys + 10.10 cusr 1.77 csys = 12.17 CPU)
Result: PASS
------------------------------
PREREQUISITES
------------------------------
Prerequisite modules loaded:
requires:
Module Need Have
------------------- ---------- ----------
boolean 0 0.46
File::HomeDir 0 1.004
File::Spec 0 3.74
Getopt::Long 2.36 2.5
Hash::Merge::Simple 0 0.051
Import::Base 0.010 1.003
IO::Async 0.72 0.72
IO::Interactive 0 1.022
JSON::MaybeXS 0 1.003009
List::Util 0 1.50
Module::Runtime 0 0.016
Net::Async::HTTP 0 0.41
Path::Tiny 0.072 0.104
perl 5.010 5.026001
Pod::Usage::Return 0 0.003
Regexp::Common 2013031301 2017060201
SQL::Abstract 0 1.85
Time::Local 0 1.25
Time::Piece 0 1.33
URI 0 1.72
YAML::Tiny 0 1.70
build_requires:
Module Need Have
------------------- ---------- ----------
Capture::Tiny 0 0.46
Dir::Self 0 0.11
ExtUtils::MakeMaker 0 7.34
File::Spec 0 3.74
Future 0 0.38
IO::Handle 0 1.39
IPC::Open3 0 1.20
JSON::PP 0 2.94
Mock::MonkeyPatch 0 0.04
Test::Deep 0 1.127
Test::Differences 0 0.64
Test::Exception 0 0.43
Test::Lib 0 0.002
Test::More 1.001005 1.302136
configure_requires:
Module Need Have
------------------- ---------- ----------
ExtUtils::MakeMaker 0 7.34
------------------------------
ENVIRONMENT AND OTHER CONTEXT
------------------------------
Environment variables:
PATH = /usr/local/bin:/usr/bin:/bin:/usr/local/sbin:/usr/sbin:/sbin:/home/cpansand/bin/sh:/home/cpansand/bin:/usr/games:/home/cpansand/devel:/home/eserte/src/srezic-misc/scripts
PERL5LIB = /home/cpansand/.cpan/build/2018090612/IO-Async-0.72-1/blib/arch:/home/cpansand/.cpan/build/2018090612/IO-Async-0.72-1/blib/lib
PERL5OPT =
PERL5_CPANPLUS_IS_RUNNING = 87320
PERL5_CPAN_IS_RUNNING = 87320
PERL5_CPAN_IS_RUNNING_IN_RECURSION = 86509,87320
PERL_BATCH = yes
PERL_CANARY_STABILITY_NOPROMPT = 1
PERL_CPAN_REPORTER_CONFIG = /var/tmp/cpansmoker-1023/2018090612/cpanreporter_000_config.ini
PERL_EXTUTILS_AUTOINSTALL = --defaultdeps
PERL_USE_UNSAFE_INC = 1
SHELL = /bin/sh
TMPDIR = /var/tmp/cpansmoker-1023/2018090612
Perl special variables (and OS-specific diagnostics, for MSWin32):
$^X = /usr/perl5.26.1p/bin/perl
$UID/$EUID = 1023 / 1023
$GID = 1023 1023
$EGID = 1023 1023
Perl module toolchain versions installed:
Module Have
------------------- --------
CPAN 2.18
CPAN::Meta 2.150010
Cwd 3.74
ExtUtils::CBuilder 0.280230
ExtUtils::Command 7.34
ExtUtils::Install 2.06
ExtUtils::MakeMaker 7.34
ExtUtils::Manifest 1.70
ExtUtils::ParseXS 3.34
File::Spec 3.74
JSON 2.97001
JSON::PP 2.94
Module::Build 0.4224
Module::Signature 0.81
Parse::CPAN::Meta 2.150010
Test::Harness 3.42
Test::More 1.302136
YAML 1.26
YAML::Syck 1.30
version 0.9917
--
Summary of my perl5 (revision 5 version 26 subversion 1) configuration:
Platform:
osname=freebsd
osvers=11.1-stable
archname=amd64-freebsd
uname='freebsd ali3.bbbike.org 11.1-stable freebsd 11.1-stable #1 21e3b2eb0af(stable11): thu oct 19 19:30:51 utc 2017 root@ali3.bbbike.org:usrobjhomeprojectsfreebsdsysgeneric amd64 '
config_args='-ds -e -Dprefix=/usr/perl5.26.1p -Dcf_email=srezic@cpan.org -Doptimize=-O2 -pipe'
hint=recommended
useposix=true
d_sigaction=define
useithreads=undef
usemultiplicity=undef
use64bitint=define
use64bitall=define
uselongdouble=undef
usemymalloc=n
default_inc_excludes_dot=define
bincompat5005=undef
Compiler:
cc='cc'
ccflags ='-DHAS_FPSETMASK -DHAS_FLOATINGPOINT_H -fno-strict-aliasing -pipe -fstack-protector-strong -I/usr/local/include -D_FORTIFY_SOURCE=2'
optimize='-O2 -pipe'
cppflags='-DHAS_FPSETMASK -DHAS_FLOATINGPOINT_H -fno-strict-aliasing -pipe -fstack-protector-strong -I/usr/local/include'
ccversion=''
gccversion='4.2.1 Compatible FreeBSD Clang 5.0.0 (tags/RELEASE_500/final 312559)'
gccosandvers=''
intsize=4
longsize=8
ptrsize=8
doublesize=8
byteorder=12345678
doublekind=3
d_longlong=define
longlongsize=8
d_longdbl=define
longdblsize=16
longdblkind=3
ivtype='long'
ivsize=8
nvtype='double'
nvsize=8
Off_t='off_t'
lseeksize=8
alignbytes=8
prototype=define
Linker and Libraries:
ld='cc'
ldflags ='-pthread -Wl,-E -fstack-protector-strong -L/usr/local/lib'
libpth=/usr/lib /usr/local/lib /usr/lib/clang/5.0.0/lib /usr/lib
libs=-lpthread -lgdbm -lm -lcrypt -lutil -lc
perllibs=-lpthread -lm -lcrypt -lutil -lc
libc=
so=so
useshrplib=false
libperl=libperl.a
gnulibc_version=''
Dynamic Linking:
dlsrc=dl_dlopen.xs
dlext=so
d_dlsymun=undef
ccdlflags=' '
cccdlflags='-DPIC -fPIC'
lddlflags='-shared -L/usr/local/lib -fstack-protector-strong'
Characteristics of this binary (from libperl):
Compile-time options:
HAS_TIMES
PERLIO_LAYERS
PERL_COPY_ON_WRITE
PERL_DONT_CREATE_GVSV
PERL_MALLOC_WRAP
PERL_OP_PARENT
PERL_PRESERVE_IVUV
USE_64_BIT_ALL
USE_64_BIT_INT
USE_LARGE_FILES
USE_LOCALE
USE_LOCALE_COLLATE
USE_LOCALE_CTYPE
USE_LOCALE_NUMERIC
USE_LOCALE_TIME
USE_PERLIO
USE_PERL_ATOF
Built under freebsd
Compiled at Oct 31 2017 01:02:57
%ENV:
PERL5LIB="/home/cpansand/.cpan/build/2018090612/IO-Async-0.72-1/blib/arch:/home/cpansand/.cpan/build/2018090612/IO-Async-0.72-1/blib/lib"
PERL5OPT=""
PERL5_CPANPLUS_IS_RUNNING="87320"
PERL5_CPAN_IS_RUNNING="87320"
PERL5_CPAN_IS_RUNNING_IN_RECURSION="86509,87320"
PERL_BATCH="yes"
PERL_CANARY_STABILITY_NOPROMPT="1"
PERL_CPAN_REPORTER_CONFIG="/var/tmp/cpansmoker-1023/2018090612/cpanreporter_000_config.ini"
PERL_EXTUTILS_AUTOINSTALL="--defaultdeps"
PERL_USE_UNSAFE_INC="1"
@INC:
/home/cpansand/.cpan/build/2018090612/IO-Async-0.72-1/blib/arch
/home/cpansand/.cpan/build/2018090612/IO-Async-0.72-1/blib/lib
/usr/perl5.26.1p/lib/site_perl/5.26.1/amd64-freebsd
/usr/perl5.26.1p/lib/site_perl/5.26.1
/usr/perl5.26.1p/lib/5.26.1/amd64-freebsd
/usr/perl5.26.1p/lib/5.26.1
.