Back
From: metabase:user:314402c4-2aae-11df-837a-5e0a49663a4f
Subject: PASS AnyEvent-Subprocess-1.102912 v5.22.2 GNU/Linux
Date: 2017-01-30T04:38:25Z
This distribution has been tested as part of the CPAN Testers
project, supporting the Perl programming language. See
http://wiki.cpantesters.org/ for more information or email
questions to cpan-testers-discuss@perl.org
--
Dear Jonathan Rockway,
This is a computer-generated report for AnyEvent-Subprocess-1.102912
on perl 5.22.2, created by CPAN-Reporter-1.2018.
Thank you for uploading your work to CPAN. Congratulations!
All tests were successful.
Sections of this report:
* Tester comments
* Program output
* Prerequisites
* Environment and other context
------------------------------
TESTER COMMENTS
------------------------------
Additional comments from tester:
none provided
------------------------------
PROGRAM OUTPUT
------------------------------
Output from '/usr/bin/make test':
PERL_DL_NONLAZY=1 "/opt/perl-5.22.2/bin/perl5.22.2" "-MExtUtils::Command::MM" "-MTest::Harness" "-e" "undef *Test::Harness::Switches; test_harness(0, 'blib/lib', 'blib/arch')" t/*.t
# Using AnyEvent::Impl::EV
Passing a list of values to enum is deprecated. Enum values should be wrapped in an arrayref. at /home/cpansand/.cpan/build/2017013003/AnyEvent-Subprocess-1.102912-0/blib/lib/AnyEvent/Subprocess/Types.pm line 42.
require AnyEvent/Subprocess/Types.pm called at /home/cpansand/.cpan/build/2017013003/AnyEvent-Subprocess-1.102912-0/blib/lib/AnyEvent/Subprocess/Job/Delegate/Handle.pm line 12
AnyEvent::Subprocess::Job::Delegate::Handle::BEGIN() called at /home/cpansand/.cpan/build/2017013003/AnyEvent-Subprocess-1.102912-0/blib/lib/AnyEvent/Subprocess/Types.pm line 0
eval {...} called at /home/cpansand/.cpan/build/2017013003/AnyEvent-Subprocess-1.102912-0/blib/lib/AnyEvent/Subprocess/Types.pm line 0
require AnyEvent/Subprocess/Job/Delegate/Handle.pm called at /home/cpansand/.cpan/build/2017013003/AnyEvent-Subprocess-1.102912-0/blib/lib/AnyEvent/Subprocess/DefaultDelegates.pm line 16
AnyEvent::Subprocess::DefaultDelegates::BEGIN() called at /home/cpansand/.cpan/build/2017013003/AnyEvent-Subprocess-1.102912-0/blib/lib/AnyEvent/Subprocess/Types.pm line 0
eval {...} called at /home/cpansand/.cpan/build/2017013003/AnyEvent-Subprocess-1.102912-0/blib/lib/AnyEvent/Subprocess/Types.pm line 0
require AnyEvent/Subprocess/DefaultDelegates.pm called at /home/cpansand/.cpan/build/2017013003/AnyEvent-Subprocess-1.102912-0/blib/lib/AnyEvent/Subprocess.pm line 11
AnyEvent::Subprocess::BEGIN() called at /home/cpansand/.cpan/build/2017013003/AnyEvent-Subprocess-1.102912-0/blib/lib/AnyEvent/Subprocess/Types.pm line 0
eval {...} called at /home/cpansand/.cpan/build/2017013003/AnyEvent-Subprocess-1.102912-0/blib/lib/AnyEvent/Subprocess/Types.pm line 0
require AnyEvent/Subprocess.pm called at t/00-info.t line 9
main::BEGIN() called at /home/cpansand/.cpan/build/2017013003/AnyEvent-Subprocess-1.102912-0/blib/lib/AnyEvent/Subprocess/Types.pm line 0
eval {...} called at /home/cpansand/.cpan/build/2017013003/AnyEvent-Subprocess-1.102912-0/blib/lib/AnyEvent/Subprocess/Types.pm line 0
eval 'package main;
BEGIN { ${^WARNING_BITS} = $args[-1] if defined $args[-1] }
#line 9 t/00-info.t
use AnyEvent::Subprocess @{$args[0]};
1;
' called at /opt/perl-5.22.2/lib/site_perl/5.22.2/Test/More.pm line 1032
Test::More::_eval("package main;\x{a}BEGIN { \${^WARNING_BITS} = \$args[-1] if defined"..., ARRAY(0x2778ec8), "UUUUUUUUUUUUUUUUU\x{1}") called at /opt/perl-5.22.2/lib/site_perl/5.22.2/Test/More.pm line 1007
Test::More::use_ok("AnyEvent::Subprocess") called at t/00-info.t line 9
main::BEGIN() called at /home/cpansand/.cpan/build/2017013003/AnyEvent-Subprocess-1.102912-0/blib/lib/AnyEvent/Subprocess/Types.pm line 0
eval {...} called at /home/cpansand/.cpan/build/2017013003/AnyEvent-Subprocess-1.102912-0/blib/lib/AnyEvent/Subprocess/Types.pm line 0
t/00-info.t ................. ok
Passing a list of values to enum is deprecated. Enum values should be wrapped in an arrayref. at /home/cpansand/.cpan/build/2017013003/AnyEvent-Subprocess-1.102912-0/blib/lib/AnyEvent/Subprocess/Types.pm line 42.
require AnyEvent/Subprocess/Types.pm called at /home/cpansand/.cpan/build/2017013003/AnyEvent-Subprocess-1.102912-0/blib/lib/AnyEvent/Subprocess/Job/Delegate/Handle.pm line 12
AnyEvent::Subprocess::Job::Delegate::Handle::BEGIN() called at /home/cpansand/.cpan/build/2017013003/AnyEvent-Subprocess-1.102912-0/blib/lib/AnyEvent/Subprocess/Types.pm line 0
eval {...} called at /home/cpansand/.cpan/build/2017013003/AnyEvent-Subprocess-1.102912-0/blib/lib/AnyEvent/Subprocess/Types.pm line 0
require AnyEvent/Subprocess/Job/Delegate/Handle.pm called at /home/cpansand/.cpan/build/2017013003/AnyEvent-Subprocess-1.102912-0/blib/lib/AnyEvent/Subprocess/DefaultDelegates.pm line 16
AnyEvent::Subprocess::DefaultDelegates::BEGIN() called at /home/cpansand/.cpan/build/2017013003/AnyEvent-Subprocess-1.102912-0/blib/lib/AnyEvent/Subprocess/Types.pm line 0
eval {...} called at /home/cpansand/.cpan/build/2017013003/AnyEvent-Subprocess-1.102912-0/blib/lib/AnyEvent/Subprocess/Types.pm line 0
require AnyEvent/Subprocess/DefaultDelegates.pm called at /home/cpansand/.cpan/build/2017013003/AnyEvent-Subprocess-1.102912-0/blib/lib/AnyEvent/Subprocess.pm line 11
AnyEvent::Subprocess::BEGIN() called at /home/cpansand/.cpan/build/2017013003/AnyEvent-Subprocess-1.102912-0/blib/lib/AnyEvent/Subprocess/Types.pm line 0
eval {...} called at /home/cpansand/.cpan/build/2017013003/AnyEvent-Subprocess-1.102912-0/blib/lib/AnyEvent/Subprocess/Types.pm line 0
require AnyEvent/Subprocess.pm called at t/basic.t line 5
main::BEGIN() called at /home/cpansand/.cpan/build/2017013003/AnyEvent-Subprocess-1.102912-0/blib/lib/AnyEvent/Subprocess/Types.pm line 0
eval {...} called at /home/cpansand/.cpan/build/2017013003/AnyEvent-Subprocess-1.102912-0/blib/lib/AnyEvent/Subprocess/Types.pm line 0
eval 'package main;
BEGIN { ${^WARNING_BITS} = $args[-1] if defined $args[-1] }
#line 5 t/basic.t
use AnyEvent::Subprocess @{$args[0]};
1;
' called at /opt/perl-5.22.2/lib/site_perl/5.22.2/Test/More.pm line 1032
Test::More::_eval("package main;\x{a}BEGIN { \${^WARNING_BITS} = \$args[-1] if defined"..., ARRAY(0xf2dfb8), "UUUUUUUUUUUUUUUUU\x{1}") called at /opt/perl-5.22.2/lib/site_perl/5.22.2/Test/More.pm line 1007
Test::More::use_ok("ok", "AnyEvent::Subprocess") called at t/basic.t line 5
main::BEGIN() called at /home/cpansand/.cpan/build/2017013003/AnyEvent-Subprocess-1.102912-0/blib/lib/AnyEvent/Subprocess/Types.pm line 0
eval {...} called at /home/cpansand/.cpan/build/2017013003/AnyEvent-Subprocess-1.102912-0/blib/lib/AnyEvent/Subprocess/Types.pm line 0
t/basic.t ................... ok
Passing a list of values to enum is deprecated. Enum values should be wrapped in an arrayref. at /home/cpansand/.cpan/build/2017013003/AnyEvent-Subprocess-1.102912-0/blib/lib/AnyEvent/Subprocess/Types.pm line 42.
require AnyEvent/Subprocess/Types.pm called at /home/cpansand/.cpan/build/2017013003/AnyEvent-Subprocess-1.102912-0/blib/lib/AnyEvent/Subprocess/Job/Delegate/Handle.pm line 12
AnyEvent::Subprocess::Job::Delegate::Handle::BEGIN() called at /home/cpansand/.cpan/build/2017013003/AnyEvent-Subprocess-1.102912-0/blib/lib/AnyEvent/Subprocess/Types.pm line 0
eval {...} called at /home/cpansand/.cpan/build/2017013003/AnyEvent-Subprocess-1.102912-0/blib/lib/AnyEvent/Subprocess/Types.pm line 0
require AnyEvent/Subprocess/Job/Delegate/Handle.pm called at /home/cpansand/.cpan/build/2017013003/AnyEvent-Subprocess-1.102912-0/blib/lib/AnyEvent/Subprocess/DefaultDelegates.pm line 16
AnyEvent::Subprocess::DefaultDelegates::BEGIN() called at /home/cpansand/.cpan/build/2017013003/AnyEvent-Subprocess-1.102912-0/blib/lib/AnyEvent/Subprocess/Types.pm line 0
eval {...} called at /home/cpansand/.cpan/build/2017013003/AnyEvent-Subprocess-1.102912-0/blib/lib/AnyEvent/Subprocess/Types.pm line 0
require AnyEvent/Subprocess/DefaultDelegates.pm called at /home/cpansand/.cpan/build/2017013003/AnyEvent-Subprocess-1.102912-0/blib/lib/AnyEvent/Subprocess.pm line 11
AnyEvent::Subprocess::BEGIN() called at /home/cpansand/.cpan/build/2017013003/AnyEvent-Subprocess-1.102912-0/blib/lib/AnyEvent/Subprocess/Types.pm line 0
eval {...} called at /home/cpansand/.cpan/build/2017013003/AnyEvent-Subprocess-1.102912-0/blib/lib/AnyEvent/Subprocess/Types.pm line 0
require AnyEvent/Subprocess.pm called at t/capture-basic.t line 5
main::BEGIN() called at /home/cpansand/.cpan/build/2017013003/AnyEvent-Subprocess-1.102912-0/blib/lib/AnyEvent/Subprocess/Types.pm line 0
eval {...} called at /home/cpansand/.cpan/build/2017013003/AnyEvent-Subprocess-1.102912-0/blib/lib/AnyEvent/Subprocess/Types.pm line 0
t/capture-basic.t ........... ok
Passing a list of values to enum is deprecated. Enum values should be wrapped in an arrayref. at /home/cpansand/.cpan/build/2017013003/AnyEvent-Subprocess-1.102912-0/blib/lib/AnyEvent/Subprocess/Types.pm line 42.
require AnyEvent/Subprocess/Types.pm called at /home/cpansand/.cpan/build/2017013003/AnyEvent-Subprocess-1.102912-0/blib/lib/AnyEvent/Subprocess/Job/Delegate/Handle.pm line 12
AnyEvent::Subprocess::Job::Delegate::Handle::BEGIN() called at /home/cpansand/.cpan/build/2017013003/AnyEvent-Subprocess-1.102912-0/blib/lib/AnyEvent/Subprocess/Types.pm line 0
eval {...} called at /home/cpansand/.cpan/build/2017013003/AnyEvent-Subprocess-1.102912-0/blib/lib/AnyEvent/Subprocess/Types.pm line 0
require AnyEvent/Subprocess/Job/Delegate/Handle.pm called at /home/cpansand/.cpan/build/2017013003/AnyEvent-Subprocess-1.102912-0/blib/lib/AnyEvent/Subprocess/DefaultDelegates.pm line 16
AnyEvent::Subprocess::DefaultDelegates::BEGIN() called at /home/cpansand/.cpan/build/2017013003/AnyEvent-Subprocess-1.102912-0/blib/lib/AnyEvent/Subprocess/Types.pm line 0
eval {...} called at /home/cpansand/.cpan/build/2017013003/AnyEvent-Subprocess-1.102912-0/blib/lib/AnyEvent/Subprocess/Types.pm line 0
require AnyEvent/Subprocess/DefaultDelegates.pm called at /home/cpansand/.cpan/build/2017013003/AnyEvent-Subprocess-1.102912-0/blib/lib/AnyEvent/Subprocess.pm line 11
AnyEvent::Subprocess::BEGIN() called at /home/cpansand/.cpan/build/2017013003/AnyEvent-Subprocess-1.102912-0/blib/lib/AnyEvent/Subprocess/Types.pm line 0
eval {...} called at /home/cpansand/.cpan/build/2017013003/AnyEvent-Subprocess-1.102912-0/blib/lib/AnyEvent/Subprocess/Types.pm line 0
require AnyEvent/Subprocess.pm called at t/clone.t line 5
main::BEGIN() called at /home/cpansand/.cpan/build/2017013003/AnyEvent-Subprocess-1.102912-0/blib/lib/AnyEvent/Subprocess/Types.pm line 0
eval {...} called at /home/cpansand/.cpan/build/2017013003/AnyEvent-Subprocess-1.102912-0/blib/lib/AnyEvent/Subprocess/Types.pm line 0
t/clone.t ................... ok
Passing a list of values to enum is deprecated. Enum values should be wrapped in an arrayref. at /home/cpansand/.cpan/build/2017013003/AnyEvent-Subprocess-1.102912-0/blib/lib/AnyEvent/Subprocess/Types.pm line 42.
require AnyEvent/Subprocess/Types.pm called at /home/cpansand/.cpan/build/2017013003/AnyEvent-Subprocess-1.102912-0/blib/lib/AnyEvent/Subprocess/Job/Delegate/Handle.pm line 12
AnyEvent::Subprocess::Job::Delegate::Handle::BEGIN() called at /home/cpansand/.cpan/build/2017013003/AnyEvent-Subprocess-1.102912-0/blib/lib/AnyEvent/Subprocess/Types.pm line 0
eval {...} called at /home/cpansand/.cpan/build/2017013003/AnyEvent-Subprocess-1.102912-0/blib/lib/AnyEvent/Subprocess/Types.pm line 0
require AnyEvent/Subprocess/Job/Delegate/Handle.pm called at /home/cpansand/.cpan/build/2017013003/AnyEvent-Subprocess-1.102912-0/blib/lib/AnyEvent/Subprocess/DefaultDelegates.pm line 16
AnyEvent::Subprocess::DefaultDelegates::BEGIN() called at /home/cpansand/.cpan/build/2017013003/AnyEvent-Subprocess-1.102912-0/blib/lib/AnyEvent/Subprocess/Types.pm line 0
eval {...} called at /home/cpansand/.cpan/build/2017013003/AnyEvent-Subprocess-1.102912-0/blib/lib/AnyEvent/Subprocess/Types.pm line 0
require AnyEvent/Subprocess/DefaultDelegates.pm called at /home/cpansand/.cpan/build/2017013003/AnyEvent-Subprocess-1.102912-0/blib/lib/AnyEvent/Subprocess.pm line 11
AnyEvent::Subprocess::BEGIN() called at /home/cpansand/.cpan/build/2017013003/AnyEvent-Subprocess-1.102912-0/blib/lib/AnyEvent/Subprocess/Types.pm line 0
eval {...} called at /home/cpansand/.cpan/build/2017013003/AnyEvent-Subprocess-1.102912-0/blib/lib/AnyEvent/Subprocess/Types.pm line 0
require AnyEvent/Subprocess.pm called at t/death-by-stdin.t line 5
main::BEGIN() called at /home/cpansand/.cpan/build/2017013003/AnyEvent-Subprocess-1.102912-0/blib/lib/AnyEvent/Subprocess/Types.pm line 0
eval {...} called at /home/cpansand/.cpan/build/2017013003/AnyEvent-Subprocess-1.102912-0/blib/lib/AnyEvent/Subprocess/Types.pm line 0
t/death-by-stdin.t .......... ok
Passing a list of values to enum is deprecated. Enum values should be wrapped in an arrayref. at /home/cpansand/.cpan/build/2017013003/AnyEvent-Subprocess-1.102912-0/blib/lib/AnyEvent/Subprocess/Types.pm line 42.
require AnyEvent/Subprocess/Types.pm called at /home/cpansand/.cpan/build/2017013003/AnyEvent-Subprocess-1.102912-0/blib/lib/AnyEvent/Subprocess/Job/Delegate/Handle.pm line 12
AnyEvent::Subprocess::Job::Delegate::Handle::BEGIN() called at /home/cpansand/.cpan/build/2017013003/AnyEvent-Subprocess-1.102912-0/blib/lib/AnyEvent/Subprocess/Types.pm line 0
eval {...} called at /home/cpansand/.cpan/build/2017013003/AnyEvent-Subprocess-1.102912-0/blib/lib/AnyEvent/Subprocess/Types.pm line 0
require AnyEvent/Subprocess/Job/Delegate/Handle.pm called at /home/cpansand/.cpan/build/2017013003/AnyEvent-Subprocess-1.102912-0/blib/lib/AnyEvent/Subprocess/DefaultDelegates.pm line 16
AnyEvent::Subprocess::DefaultDelegates::BEGIN() called at /home/cpansand/.cpan/build/2017013003/AnyEvent-Subprocess-1.102912-0/blib/lib/AnyEvent/Subprocess/Types.pm line 0
eval {...} called at /home/cpansand/.cpan/build/2017013003/AnyEvent-Subprocess-1.102912-0/blib/lib/AnyEvent/Subprocess/Types.pm line 0
require AnyEvent/Subprocess/DefaultDelegates.pm called at /home/cpansand/.cpan/build/2017013003/AnyEvent-Subprocess-1.102912-0/blib/lib/AnyEvent/Subprocess.pm line 11
AnyEvent::Subprocess::BEGIN() called at /home/cpansand/.cpan/build/2017013003/AnyEvent-Subprocess-1.102912-0/blib/lib/AnyEvent/Subprocess/Types.pm line 0
eval {...} called at /home/cpansand/.cpan/build/2017013003/AnyEvent-Subprocess-1.102912-0/blib/lib/AnyEvent/Subprocess/Types.pm line 0
require AnyEvent/Subprocess.pm called at /home/cpansand/.cpan/build/2017013003/AnyEvent-Subprocess-1.102912-0/blib/lib/AnyEvent/Subprocess/Easy.pm line 10
AnyEvent::Subprocess::Easy::BEGIN() called at /home/cpansand/.cpan/build/2017013003/AnyEvent-Subprocess-1.102912-0/blib/lib/AnyEvent/Subprocess/Types.pm line 0
eval {...} called at /home/cpansand/.cpan/build/2017013003/AnyEvent-Subprocess-1.102912-0/blib/lib/AnyEvent/Subprocess/Types.pm line 0
require AnyEvent/Subprocess/Easy.pm called at t/easy-qx.t line 6
main::BEGIN() called at /home/cpansand/.cpan/build/2017013003/AnyEvent-Subprocess-1.102912-0/blib/lib/AnyEvent/Subprocess/Types.pm line 0
eval {...} called at /home/cpansand/.cpan/build/2017013003/AnyEvent-Subprocess-1.102912-0/blib/lib/AnyEvent/Subprocess/Types.pm line 0
# Mon Jan 30 04:36:43 UTC 2017
# The 'failed' message you are about to see is good.
Failed to exec 'I CAN HAZ CHEZBURGER?': No such file or directory at /home/cpansand/.cpan/build/2017013003/AnyEvent-Subprocess-1.102912-0/blib/lib/AnyEvent/Subprocess/Types.pm line 36.
t/easy-qx.t ................. ok
Passing a list of values to enum is deprecated. Enum values should be wrapped in an arrayref. at /home/cpansand/.cpan/build/2017013003/AnyEvent-Subprocess-1.102912-0/blib/lib/AnyEvent/Subprocess/Types.pm line 42.
require AnyEvent/Subprocess/Types.pm called at /home/cpansand/.cpan/build/2017013003/AnyEvent-Subprocess-1.102912-0/blib/lib/AnyEvent/Subprocess/Job/Delegate/Handle.pm line 12
AnyEvent::Subprocess::Job::Delegate::Handle::BEGIN() called at /home/cpansand/.cpan/build/2017013003/AnyEvent-Subprocess-1.102912-0/blib/lib/AnyEvent/Subprocess/Types.pm line 0
eval {...} called at /home/cpansand/.cpan/build/2017013003/AnyEvent-Subprocess-1.102912-0/blib/lib/AnyEvent/Subprocess/Types.pm line 0
require AnyEvent/Subprocess/Job/Delegate/Handle.pm called at /home/cpansand/.cpan/build/2017013003/AnyEvent-Subprocess-1.102912-0/blib/lib/AnyEvent/Subprocess/DefaultDelegates.pm line 16
AnyEvent::Subprocess::DefaultDelegates::BEGIN() called at /home/cpansand/.cpan/build/2017013003/AnyEvent-Subprocess-1.102912-0/blib/lib/AnyEvent/Subprocess/Types.pm line 0
eval {...} called at /home/cpansand/.cpan/build/2017013003/AnyEvent-Subprocess-1.102912-0/blib/lib/AnyEvent/Subprocess/Types.pm line 0
require AnyEvent/Subprocess/DefaultDelegates.pm called at /home/cpansand/.cpan/build/2017013003/AnyEvent-Subprocess-1.102912-0/blib/lib/AnyEvent/Subprocess.pm line 11
AnyEvent::Subprocess::BEGIN() called at /home/cpansand/.cpan/build/2017013003/AnyEvent-Subprocess-1.102912-0/blib/lib/AnyEvent/Subprocess/Types.pm line 0
eval {...} called at /home/cpansand/.cpan/build/2017013003/AnyEvent-Subprocess-1.102912-0/blib/lib/AnyEvent/Subprocess/Types.pm line 0
require AnyEvent/Subprocess.pm called at t/exit-code.t line 5
main::BEGIN() called at /home/cpansand/.cpan/build/2017013003/AnyEvent-Subprocess-1.102912-0/blib/lib/AnyEvent/Subprocess/Types.pm line 0
eval {...} called at /home/cpansand/.cpan/build/2017013003/AnyEvent-Subprocess-1.102912-0/blib/lib/AnyEvent/Subprocess/Types.pm line 0
t/exit-code.t ............... ok
Passing a list of values to enum is deprecated. Enum values should be wrapped in an arrayref. at /home/cpansand/.cpan/build/2017013003/AnyEvent-Subprocess-1.102912-0/blib/lib/AnyEvent/Subprocess/Types.pm line 42.
require AnyEvent/Subprocess/Types.pm called at /home/cpansand/.cpan/build/2017013003/AnyEvent-Subprocess-1.102912-0/blib/lib/AnyEvent/Subprocess/Job/Delegate/Handle.pm line 12
AnyEvent::Subprocess::Job::Delegate::Handle::BEGIN() called at /home/cpansand/.cpan/build/2017013003/AnyEvent-Subprocess-1.102912-0/blib/lib/AnyEvent/Subprocess/Types.pm line 0
eval {...} called at /home/cpansand/.cpan/build/2017013003/AnyEvent-Subprocess-1.102912-0/blib/lib/AnyEvent/Subprocess/Types.pm line 0
require AnyEvent/Subprocess/Job/Delegate/Handle.pm called at /home/cpansand/.cpan/build/2017013003/AnyEvent-Subprocess-1.102912-0/blib/lib/AnyEvent/Subprocess/DefaultDelegates.pm line 16
AnyEvent::Subprocess::DefaultDelegates::BEGIN() called at /home/cpansand/.cpan/build/2017013003/AnyEvent-Subprocess-1.102912-0/blib/lib/AnyEvent/Subprocess/Types.pm line 0
eval {...} called at /home/cpansand/.cpan/build/2017013003/AnyEvent-Subprocess-1.102912-0/blib/lib/AnyEvent/Subprocess/Types.pm line 0
require AnyEvent/Subprocess/DefaultDelegates.pm called at /home/cpansand/.cpan/build/2017013003/AnyEvent-Subprocess-1.102912-0/blib/lib/AnyEvent/Subprocess.pm line 11
AnyEvent::Subprocess::BEGIN() called at /home/cpansand/.cpan/build/2017013003/AnyEvent-Subprocess-1.102912-0/blib/lib/AnyEvent/Subprocess/Types.pm line 0
eval {...} called at /home/cpansand/.cpan/build/2017013003/AnyEvent-Subprocess-1.102912-0/blib/lib/AnyEvent/Subprocess/Types.pm line 0
require AnyEvent/Subprocess.pm called at t/external-process.t line 5
main::BEGIN() called at /home/cpansand/.cpan/build/2017013003/AnyEvent-Subprocess-1.102912-0/blib/lib/AnyEvent/Subprocess/Types.pm line 0
eval {...} called at /home/cpansand/.cpan/build/2017013003/AnyEvent-Subprocess-1.102912-0/blib/lib/AnyEvent/Subprocess/Types.pm line 0
t/external-process.t ........ ok
Passing a list of values to enum is deprecated. Enum values should be wrapped in an arrayref. at /home/cpansand/.cpan/build/2017013003/AnyEvent-Subprocess-1.102912-0/blib/lib/AnyEvent/Subprocess/Types.pm line 42.
require AnyEvent/Subprocess/Types.pm called at /home/cpansand/.cpan/build/2017013003/AnyEvent-Subprocess-1.102912-0/blib/lib/AnyEvent/Subprocess/Job/Delegate/Handle.pm line 12
AnyEvent::Subprocess::Job::Delegate::Handle::BEGIN() called at /home/cpansand/.cpan/build/2017013003/AnyEvent-Subprocess-1.102912-0/blib/lib/AnyEvent/Subprocess/Types.pm line 0
eval {...} called at /home/cpansand/.cpan/build/2017013003/AnyEvent-Subprocess-1.102912-0/blib/lib/AnyEvent/Subprocess/Types.pm line 0
require AnyEvent/Subprocess/Job/Delegate/Handle.pm called at /home/cpansand/.cpan/build/2017013003/AnyEvent-Subprocess-1.102912-0/blib/lib/AnyEvent/Subprocess/DefaultDelegates.pm line 16
AnyEvent::Subprocess::DefaultDelegates::BEGIN() called at /home/cpansand/.cpan/build/2017013003/AnyEvent-Subprocess-1.102912-0/blib/lib/AnyEvent/Subprocess/Types.pm line 0
eval {...} called at /home/cpansand/.cpan/build/2017013003/AnyEvent-Subprocess-1.102912-0/blib/lib/AnyEvent/Subprocess/Types.pm line 0
require AnyEvent/Subprocess/DefaultDelegates.pm called at /home/cpansand/.cpan/build/2017013003/AnyEvent-Subprocess-1.102912-0/blib/lib/AnyEvent/Subprocess.pm line 11
AnyEvent::Subprocess::BEGIN() called at /home/cpansand/.cpan/build/2017013003/AnyEvent-Subprocess-1.102912-0/blib/lib/AnyEvent/Subprocess/Types.pm line 0
eval {...} called at /home/cpansand/.cpan/build/2017013003/AnyEvent-Subprocess-1.102912-0/blib/lib/AnyEvent/Subprocess/Types.pm line 0
require AnyEvent/Subprocess.pm called at t/handle-leftovers.t line 5
main::BEGIN() called at /home/cpansand/.cpan/build/2017013003/AnyEvent-Subprocess-1.102912-0/blib/lib/AnyEvent/Subprocess/Types.pm line 0
eval {...} called at /home/cpansand/.cpan/build/2017013003/AnyEvent-Subprocess-1.102912-0/blib/lib/AnyEvent/Subprocess/Types.pm line 0
t/handle-leftovers.t ........ ok
Passing a list of values to enum is deprecated. Enum values should be wrapped in an arrayref. at /home/cpansand/.cpan/build/2017013003/AnyEvent-Subprocess-1.102912-0/blib/lib/AnyEvent/Subprocess/Types.pm line 42.
require AnyEvent/Subprocess/Types.pm called at /home/cpansand/.cpan/build/2017013003/AnyEvent-Subprocess-1.102912-0/blib/lib/AnyEvent/Subprocess/Job/Delegate/Handle.pm line 12
AnyEvent::Subprocess::Job::Delegate::Handle::BEGIN() called at /home/cpansand/.cpan/build/2017013003/AnyEvent-Subprocess-1.102912-0/blib/lib/AnyEvent/Subprocess/Types.pm line 0
eval {...} called at /home/cpansand/.cpan/build/2017013003/AnyEvent-Subprocess-1.102912-0/blib/lib/AnyEvent/Subprocess/Types.pm line 0
require AnyEvent/Subprocess/Job/Delegate/Handle.pm called at /home/cpansand/.cpan/build/2017013003/AnyEvent-Subprocess-1.102912-0/blib/lib/AnyEvent/Subprocess/DefaultDelegates.pm line 16
AnyEvent::Subprocess::DefaultDelegates::BEGIN() called at /home/cpansand/.cpan/build/2017013003/AnyEvent-Subprocess-1.102912-0/blib/lib/AnyEvent/Subprocess/Types.pm line 0
eval {...} called at /home/cpansand/.cpan/build/2017013003/AnyEvent-Subprocess-1.102912-0/blib/lib/AnyEvent/Subprocess/Types.pm line 0
require AnyEvent/Subprocess/DefaultDelegates.pm called at /home/cpansand/.cpan/build/2017013003/AnyEvent-Subprocess-1.102912-0/blib/lib/AnyEvent/Subprocess.pm line 11
AnyEvent::Subprocess::BEGIN() called at /home/cpansand/.cpan/build/2017013003/AnyEvent-Subprocess-1.102912-0/blib/lib/AnyEvent/Subprocess/Types.pm line 0
eval {...} called at /home/cpansand/.cpan/build/2017013003/AnyEvent-Subprocess-1.102912-0/blib/lib/AnyEvent/Subprocess/Types.pm line 0
require AnyEvent/Subprocess.pm called at t/kill.t line 5
main::BEGIN() called at /home/cpansand/.cpan/build/2017013003/AnyEvent-Subprocess-1.102912-0/blib/lib/AnyEvent/Subprocess/Types.pm line 0
eval {...} called at /home/cpansand/.cpan/build/2017013003/AnyEvent-Subprocess-1.102912-0/blib/lib/AnyEvent/Subprocess/Types.pm line 0
t/kill.t .................... ok
Passing a list of values to enum is deprecated. Enum values should be wrapped in an arrayref. at /home/cpansand/.cpan/build/2017013003/AnyEvent-Subprocess-1.102912-0/blib/lib/AnyEvent/Subprocess/Types.pm line 42.
require AnyEvent/Subprocess/Types.pm called at /home/cpansand/.cpan/build/2017013003/AnyEvent-Subprocess-1.102912-0/blib/lib/AnyEvent/Subprocess/Job/Delegate/Handle.pm line 12
AnyEvent::Subprocess::Job::Delegate::Handle::BEGIN() called at /home/cpansand/.cpan/build/2017013003/AnyEvent-Subprocess-1.102912-0/blib/lib/AnyEvent/Subprocess/Types.pm line 0
eval {...} called at /home/cpansand/.cpan/build/2017013003/AnyEvent-Subprocess-1.102912-0/blib/lib/AnyEvent/Subprocess/Types.pm line 0
require AnyEvent/Subprocess/Job/Delegate/Handle.pm called at /home/cpansand/.cpan/build/2017013003/AnyEvent-Subprocess-1.102912-0/blib/lib/AnyEvent/Subprocess/DefaultDelegates.pm line 16
AnyEvent::Subprocess::DefaultDelegates::BEGIN() called at /home/cpansand/.cpan/build/2017013003/AnyEvent-Subprocess-1.102912-0/blib/lib/AnyEvent/Subprocess/Types.pm line 0
eval {...} called at /home/cpansand/.cpan/build/2017013003/AnyEvent-Subprocess-1.102912-0/blib/lib/AnyEvent/Subprocess/Types.pm line 0
require AnyEvent/Subprocess/DefaultDelegates.pm called at /home/cpansand/.cpan/build/2017013003/AnyEvent-Subprocess-1.102912-0/blib/lib/AnyEvent/Subprocess.pm line 11
AnyEvent::Subprocess::BEGIN() called at /home/cpansand/.cpan/build/2017013003/AnyEvent-Subprocess-1.102912-0/blib/lib/AnyEvent/Subprocess/Types.pm line 0
eval {...} called at /home/cpansand/.cpan/build/2017013003/AnyEvent-Subprocess-1.102912-0/blib/lib/AnyEvent/Subprocess/Types.pm line 0
require AnyEvent/Subprocess.pm called at t/monitorhandle.t line 5
main::BEGIN() called at /home/cpansand/.cpan/build/2017013003/AnyEvent-Subprocess-1.102912-0/blib/lib/AnyEvent/Subprocess/Types.pm line 0
eval {...} called at /home/cpansand/.cpan/build/2017013003/AnyEvent-Subprocess-1.102912-0/blib/lib/AnyEvent/Subprocess/Types.pm line 0
t/monitorhandle.t ........... ok
Passing a list of values to enum is deprecated. Enum values should be wrapped in an arrayref. at /home/cpansand/.cpan/build/2017013003/AnyEvent-Subprocess-1.102912-0/blib/lib/AnyEvent/Subprocess/Types.pm line 42.
require AnyEvent/Subprocess/Types.pm called at /home/cpansand/.cpan/build/2017013003/AnyEvent-Subprocess-1.102912-0/blib/lib/AnyEvent/Subprocess/Done.pm line 9
AnyEvent::Subprocess::Done::BEGIN() called at /home/cpansand/.cpan/build/2017013003/AnyEvent-Subprocess-1.102912-0/blib/lib/AnyEvent/Subprocess/Types.pm line 0
eval {...} called at /home/cpansand/.cpan/build/2017013003/AnyEvent-Subprocess-1.102912-0/blib/lib/AnyEvent/Subprocess/Types.pm line 0
require AnyEvent/Subprocess/Done.pm called at t/negative-one.t line 4
main::BEGIN() called at /home/cpansand/.cpan/build/2017013003/AnyEvent-Subprocess-1.102912-0/blib/lib/AnyEvent/Subprocess/Types.pm line 0
eval {...} called at /home/cpansand/.cpan/build/2017013003/AnyEvent-Subprocess-1.102912-0/blib/lib/AnyEvent/Subprocess/Types.pm line 0
t/negative-one.t ............ ok
Passing a list of values to enum is deprecated. Enum values should be wrapped in an arrayref. at /home/cpansand/.cpan/build/2017013003/AnyEvent-Subprocess-1.102912-0/blib/lib/AnyEvent/Subprocess/Types.pm line 42.
require AnyEvent/Subprocess/Types.pm called at /home/cpansand/.cpan/build/2017013003/AnyEvent-Subprocess-1.102912-0/blib/lib/AnyEvent/Subprocess/Job/Delegate/Handle.pm line 12
AnyEvent::Subprocess::Job::Delegate::Handle::BEGIN() called at /home/cpansand/.cpan/build/2017013003/AnyEvent-Subprocess-1.102912-0/blib/lib/AnyEvent/Subprocess/Types.pm line 0
eval {...} called at /home/cpansand/.cpan/build/2017013003/AnyEvent-Subprocess-1.102912-0/blib/lib/AnyEvent/Subprocess/Types.pm line 0
require AnyEvent/Subprocess/Job/Delegate/Handle.pm called at /home/cpansand/.cpan/build/2017013003/AnyEvent-Subprocess-1.102912-0/blib/lib/AnyEvent/Subprocess/DefaultDelegates.pm line 16
AnyEvent::Subprocess::DefaultDelegates::BEGIN() called at /home/cpansand/.cpan/build/2017013003/AnyEvent-Subprocess-1.102912-0/blib/lib/AnyEvent/Subprocess/Types.pm line 0
eval {...} called at /home/cpansand/.cpan/build/2017013003/AnyEvent-Subprocess-1.102912-0/blib/lib/AnyEvent/Subprocess/Types.pm line 0
require AnyEvent/Subprocess/DefaultDelegates.pm called at /home/cpansand/.cpan/build/2017013003/AnyEvent-Subprocess-1.102912-0/blib/lib/AnyEvent/Subprocess.pm line 11
AnyEvent::Subprocess::BEGIN() called at /home/cpansand/.cpan/build/2017013003/AnyEvent-Subprocess-1.102912-0/blib/lib/AnyEvent/Subprocess/Types.pm line 0
eval {...} called at /home/cpansand/.cpan/build/2017013003/AnyEvent-Subprocess-1.102912-0/blib/lib/AnyEvent/Subprocess/Types.pm line 0
require AnyEvent/Subprocess.pm called at t/open-to-fd.t line 5
main::BEGIN() called at /home/cpansand/.cpan/build/2017013003/AnyEvent-Subprocess-1.102912-0/blib/lib/AnyEvent/Subprocess/Types.pm line 0
eval {...} called at /home/cpansand/.cpan/build/2017013003/AnyEvent-Subprocess-1.102912-0/blib/lib/AnyEvent/Subprocess/Types.pm line 0
t/open-to-fd.t .............. ok
Passing a list of values to enum is deprecated. Enum values should be wrapped in an arrayref. at /home/cpansand/.cpan/build/2017013003/AnyEvent-Subprocess-1.102912-0/blib/lib/AnyEvent/Subprocess/Types.pm line 42.
require AnyEvent/Subprocess/Types.pm called at /home/cpansand/.cpan/build/2017013003/AnyEvent-Subprocess-1.102912-0/blib/lib/AnyEvent/Subprocess/Job/Delegate/Handle.pm line 12
AnyEvent::Subprocess::Job::Delegate::Handle::BEGIN() called at /home/cpansand/.cpan/build/2017013003/AnyEvent-Subprocess-1.102912-0/blib/lib/AnyEvent/Subprocess/Types.pm line 0
eval {...} called at /home/cpansand/.cpan/build/2017013003/AnyEvent-Subprocess-1.102912-0/blib/lib/AnyEvent/Subprocess/Types.pm line 0
require AnyEvent/Subprocess/Job/Delegate/Handle.pm called at /home/cpansand/.cpan/build/2017013003/AnyEvent-Subprocess-1.102912-0/blib/lib/AnyEvent/Subprocess/DefaultDelegates.pm line 16
AnyEvent::Subprocess::DefaultDelegates::BEGIN() called at /home/cpansand/.cpan/build/2017013003/AnyEvent-Subprocess-1.102912-0/blib/lib/AnyEvent/Subprocess/Types.pm line 0
eval {...} called at /home/cpansand/.cpan/build/2017013003/AnyEvent-Subprocess-1.102912-0/blib/lib/AnyEvent/Subprocess/Types.pm line 0
require AnyEvent/Subprocess/DefaultDelegates.pm called at /home/cpansand/.cpan/build/2017013003/AnyEvent-Subprocess-1.102912-0/blib/lib/AnyEvent/Subprocess.pm line 11
AnyEvent::Subprocess::BEGIN() called at /home/cpansand/.cpan/build/2017013003/AnyEvent-Subprocess-1.102912-0/blib/lib/AnyEvent/Subprocess/Types.pm line 0
eval {...} called at /home/cpansand/.cpan/build/2017013003/AnyEvent-Subprocess-1.102912-0/blib/lib/AnyEvent/Subprocess/Types.pm line 0
require AnyEvent/Subprocess.pm called at t/pty-basic.t line 5
main::BEGIN() called at /home/cpansand/.cpan/build/2017013003/AnyEvent-Subprocess-1.102912-0/blib/lib/AnyEvent/Subprocess/Types.pm line 0
eval {...} called at /home/cpansand/.cpan/build/2017013003/AnyEvent-Subprocess-1.102912-0/blib/lib/AnyEvent/Subprocess/Types.pm line 0
t/pty-basic.t ............... ok
Passing a list of values to enum is deprecated. Enum values should be wrapped in an arrayref. at /home/cpansand/.cpan/build/2017013003/AnyEvent-Subprocess-1.102912-0/blib/lib/AnyEvent/Subprocess/Types.pm line 42.
require AnyEvent/Subprocess/Types.pm called at /home/cpansand/.cpan/build/2017013003/AnyEvent-Subprocess-1.102912-0/blib/lib/AnyEvent/Subprocess/Job/Delegate/Handle.pm line 12
AnyEvent::Subprocess::Job::Delegate::Handle::BEGIN() called at /home/cpansand/.cpan/build/2017013003/AnyEvent-Subprocess-1.102912-0/blib/lib/AnyEvent/Subprocess/Types.pm line 0
eval {...} called at /home/cpansand/.cpan/build/2017013003/AnyEvent-Subprocess-1.102912-0/blib/lib/AnyEvent/Subprocess/Types.pm line 0
require AnyEvent/Subprocess/Job/Delegate/Handle.pm called at /home/cpansand/.cpan/build/2017013003/AnyEvent-Subprocess-1.102912-0/blib/lib/AnyEvent/Subprocess/DefaultDelegates.pm line 16
AnyEvent::Subprocess::DefaultDelegates::BEGIN() called at /home/cpansand/.cpan/build/2017013003/AnyEvent-Subprocess-1.102912-0/blib/lib/AnyEvent/Subprocess/Types.pm line 0
eval {...} called at /home/cpansand/.cpan/build/2017013003/AnyEvent-Subprocess-1.102912-0/blib/lib/AnyEvent/Subprocess/Types.pm line 0
require AnyEvent/Subprocess/DefaultDelegates.pm called at /home/cpansand/.cpan/build/2017013003/AnyEvent-Subprocess-1.102912-0/blib/lib/AnyEvent/Subprocess.pm line 11
AnyEvent::Subprocess::BEGIN() called at /home/cpansand/.cpan/build/2017013003/AnyEvent-Subprocess-1.102912-0/blib/lib/AnyEvent/Subprocess/Types.pm line 0
eval {...} called at /home/cpansand/.cpan/build/2017013003/AnyEvent-Subprocess-1.102912-0/blib/lib/AnyEvent/Subprocess/Types.pm line 0
require AnyEvent/Subprocess.pm called at t/pty-control.t line 4
main::BEGIN() called at /home/cpansand/.cpan/build/2017013003/AnyEvent-Subprocess-1.102912-0/blib/lib/AnyEvent/Subprocess/Types.pm line 0
eval {...} called at /home/cpansand/.cpan/build/2017013003/AnyEvent-Subprocess-1.102912-0/blib/lib/AnyEvent/Subprocess/Types.pm line 0
t/pty-control.t ............. ok
t/release-pod-syntax.t ...... skipped: these tests are for release candidate testing
Passing a list of values to enum is deprecated. Enum values should be wrapped in an arrayref. at /home/cpansand/.cpan/build/2017013003/AnyEvent-Subprocess-1.102912-0/blib/lib/AnyEvent/Subprocess/Types.pm line 42.
require AnyEvent/Subprocess/Types.pm called at /home/cpansand/.cpan/build/2017013003/AnyEvent-Subprocess-1.102912-0/blib/lib/AnyEvent/Subprocess/Job/Delegate/Handle.pm line 12
AnyEvent::Subprocess::Job::Delegate::Handle::BEGIN() called at /home/cpansand/.cpan/build/2017013003/AnyEvent-Subprocess-1.102912-0/blib/lib/AnyEvent/Subprocess/Types.pm line 0
eval {...} called at /home/cpansand/.cpan/build/2017013003/AnyEvent-Subprocess-1.102912-0/blib/lib/AnyEvent/Subprocess/Types.pm line 0
require AnyEvent/Subprocess/Job/Delegate/Handle.pm called at /home/cpansand/.cpan/build/2017013003/AnyEvent-Subprocess-1.102912-0/blib/lib/AnyEvent/Subprocess/DefaultDelegates.pm line 16
AnyEvent::Subprocess::DefaultDelegates::BEGIN() called at /home/cpansand/.cpan/build/2017013003/AnyEvent-Subprocess-1.102912-0/blib/lib/AnyEvent/Subprocess/Types.pm line 0
eval {...} called at /home/cpansand/.cpan/build/2017013003/AnyEvent-Subprocess-1.102912-0/blib/lib/AnyEvent/Subprocess/Types.pm line 0
require AnyEvent/Subprocess/DefaultDelegates.pm called at /home/cpansand/.cpan/build/2017013003/AnyEvent-Subprocess-1.102912-0/blib/lib/AnyEvent/Subprocess.pm line 11
AnyEvent::Subprocess::BEGIN() called at /home/cpansand/.cpan/build/2017013003/AnyEvent-Subprocess-1.102912-0/blib/lib/AnyEvent/Subprocess/Types.pm line 0
eval {...} called at /home/cpansand/.cpan/build/2017013003/AnyEvent-Subprocess-1.102912-0/blib/lib/AnyEvent/Subprocess/Types.pm line 0
require AnyEvent/Subprocess.pm called at t/socket.t line 5
main::BEGIN() called at /home/cpansand/.cpan/build/2017013003/AnyEvent-Subprocess-1.102912-0/blib/lib/AnyEvent/Subprocess/Types.pm line 0
eval {...} called at /home/cpansand/.cpan/build/2017013003/AnyEvent-Subprocess-1.102912-0/blib/lib/AnyEvent/Subprocess/Types.pm line 0
t/socket.t .................. ok
Passing a list of values to enum is deprecated. Enum values should be wrapped in an arrayref. at /home/cpansand/.cpan/build/2017013003/AnyEvent-Subprocess-1.102912-0/blib/lib/AnyEvent/Subprocess/Types.pm line 42.
require AnyEvent/Subprocess/Types.pm called at /home/cpansand/.cpan/build/2017013003/AnyEvent-Subprocess-1.102912-0/blib/lib/AnyEvent/Subprocess/Job/Delegate/Handle.pm line 12
AnyEvent::Subprocess::Job::Delegate::Handle::BEGIN() called at /home/cpansand/.cpan/build/2017013003/AnyEvent-Subprocess-1.102912-0/blib/lib/AnyEvent/Subprocess/Types.pm line 0
eval {...} called at /home/cpansand/.cpan/build/2017013003/AnyEvent-Subprocess-1.102912-0/blib/lib/AnyEvent/Subprocess/Types.pm line 0
require AnyEvent/Subprocess/Job/Delegate/Handle.pm called at /home/cpansand/.cpan/build/2017013003/AnyEvent-Subprocess-1.102912-0/blib/lib/AnyEvent/Subprocess/DefaultDelegates.pm line 16
AnyEvent::Subprocess::DefaultDelegates::BEGIN() called at /home/cpansand/.cpan/build/2017013003/AnyEvent-Subprocess-1.102912-0/blib/lib/AnyEvent/Subprocess/Types.pm line 0
eval {...} called at /home/cpansand/.cpan/build/2017013003/AnyEvent-Subprocess-1.102912-0/blib/lib/AnyEvent/Subprocess/Types.pm line 0
require AnyEvent/Subprocess/DefaultDelegates.pm called at /home/cpansand/.cpan/build/2017013003/AnyEvent-Subprocess-1.102912-0/blib/lib/AnyEvent/Subprocess.pm line 11
AnyEvent::Subprocess::BEGIN() called at /home/cpansand/.cpan/build/2017013003/AnyEvent-Subprocess-1.102912-0/blib/lib/AnyEvent/Subprocess/Types.pm line 0
eval {...} called at /home/cpansand/.cpan/build/2017013003/AnyEvent-Subprocess-1.102912-0/blib/lib/AnyEvent/Subprocess/Types.pm line 0
require AnyEvent/Subprocess.pm called at /home/cpansand/.cpan/build/2017013003/AnyEvent-Subprocess-1.102912-0/blib/lib/AnyEvent/Subprocess/Easy.pm line 10
AnyEvent::Subprocess::Easy::BEGIN() called at /home/cpansand/.cpan/build/2017013003/AnyEvent-Subprocess-1.102912-0/blib/lib/AnyEvent/Subprocess/Types.pm line 0
eval {...} called at /home/cpansand/.cpan/build/2017013003/AnyEvent-Subprocess-1.102912-0/blib/lib/AnyEvent/Subprocess/Types.pm line 0
require AnyEvent/Subprocess/Easy.pm called at t/system.t line 5
main::BEGIN() called at /home/cpansand/.cpan/build/2017013003/AnyEvent-Subprocess-1.102912-0/blib/lib/AnyEvent/Subprocess/Types.pm line 0
eval {...} called at /home/cpansand/.cpan/build/2017013003/AnyEvent-Subprocess-1.102912-0/blib/lib/AnyEvent/Subprocess/Types.pm line 0
t/system.t .................. ok
Passing a list of values to enum is deprecated. Enum values should be wrapped in an arrayref. at /home/cpansand/.cpan/build/2017013003/AnyEvent-Subprocess-1.102912-0/blib/lib/AnyEvent/Subprocess/Types.pm line 42.
require AnyEvent/Subprocess/Types.pm called at /home/cpansand/.cpan/build/2017013003/AnyEvent-Subprocess-1.102912-0/blib/lib/AnyEvent/Subprocess/Job/Delegate/Handle.pm line 12
AnyEvent::Subprocess::Job::Delegate::Handle::BEGIN() called at /home/cpansand/.cpan/build/2017013003/AnyEvent-Subprocess-1.102912-0/blib/lib/AnyEvent/Subprocess/Types.pm line 0
eval {...} called at /home/cpansand/.cpan/build/2017013003/AnyEvent-Subprocess-1.102912-0/blib/lib/AnyEvent/Subprocess/Types.pm line 0
require AnyEvent/Subprocess/Job/Delegate/Handle.pm called at /home/cpansand/.cpan/build/2017013003/AnyEvent-Subprocess-1.102912-0/blib/lib/AnyEvent/Subprocess/DefaultDelegates.pm line 16
AnyEvent::Subprocess::DefaultDelegates::BEGIN() called at /home/cpansand/.cpan/build/2017013003/AnyEvent-Subprocess-1.102912-0/blib/lib/AnyEvent/Subprocess/Types.pm line 0
eval {...} called at /home/cpansand/.cpan/build/2017013003/AnyEvent-Subprocess-1.102912-0/blib/lib/AnyEvent/Subprocess/Types.pm line 0
require AnyEvent/Subprocess/DefaultDelegates.pm called at /home/cpansand/.cpan/build/2017013003/AnyEvent-Subprocess-1.102912-0/blib/lib/AnyEvent/Subprocess.pm line 11
AnyEvent::Subprocess::BEGIN() called at /home/cpansand/.cpan/build/2017013003/AnyEvent-Subprocess-1.102912-0/blib/lib/AnyEvent/Subprocess/Types.pm line 0
eval {...} called at /home/cpansand/.cpan/build/2017013003/AnyEvent-Subprocess-1.102912-0/blib/lib/AnyEvent/Subprocess/Types.pm line 0
require AnyEvent/Subprocess.pm called at t/timeout.t line 5
main::BEGIN() called at /home/cpansand/.cpan/build/2017013003/AnyEvent-Subprocess-1.102912-0/blib/lib/AnyEvent/Subprocess/Types.pm line 0
eval {...} called at /home/cpansand/.cpan/build/2017013003/AnyEvent-Subprocess-1.102912-0/blib/lib/AnyEvent/Subprocess/Types.pm line 0
t/timeout.t ................. ok
Passing a list of values to enum is deprecated. Enum values should be wrapped in an arrayref. at /home/cpansand/.cpan/build/2017013003/AnyEvent-Subprocess-1.102912-0/blib/lib/AnyEvent/Subprocess/Types.pm line 42.
require AnyEvent/Subprocess/Types.pm called at /home/cpansand/.cpan/build/2017013003/AnyEvent-Subprocess-1.102912-0/blib/lib/AnyEvent/Subprocess/Job/Delegate/Handle.pm line 12
AnyEvent::Subprocess::Job::Delegate::Handle::BEGIN() called at /home/cpansand/.cpan/build/2017013003/AnyEvent-Subprocess-1.102912-0/blib/lib/AnyEvent/Subprocess/Types.pm line 0
eval {...} called at /home/cpansand/.cpan/build/2017013003/AnyEvent-Subprocess-1.102912-0/blib/lib/AnyEvent/Subprocess/Types.pm line 0
require AnyEvent/Subprocess/Job/Delegate/Handle.pm called at /home/cpansand/.cpan/build/2017013003/AnyEvent-Subprocess-1.102912-0/blib/lib/AnyEvent/Subprocess/DefaultDelegates.pm line 16
AnyEvent::Subprocess::DefaultDelegates::BEGIN() called at /home/cpansand/.cpan/build/2017013003/AnyEvent-Subprocess-1.102912-0/blib/lib/AnyEvent/Subprocess/Types.pm line 0
eval {...} called at /home/cpansand/.cpan/build/2017013003/AnyEvent-Subprocess-1.102912-0/blib/lib/AnyEvent/Subprocess/Types.pm line 0
require AnyEvent/Subprocess/DefaultDelegates.pm called at /home/cpansand/.cpan/build/2017013003/AnyEvent-Subprocess-1.102912-0/blib/lib/AnyEvent/Subprocess.pm line 11
AnyEvent::Subprocess::BEGIN() called at /home/cpansand/.cpan/build/2017013003/AnyEvent-Subprocess-1.102912-0/blib/lib/AnyEvent/Subprocess/Types.pm line 0
eval {...} called at /home/cpansand/.cpan/build/2017013003/AnyEvent-Subprocess-1.102912-0/blib/lib/AnyEvent/Subprocess/Types.pm line 0
require AnyEvent/Subprocess.pm called at t/trivial.t line 4
main::BEGIN() called at /home/cpansand/.cpan/build/2017013003/AnyEvent-Subprocess-1.102912-0/blib/lib/AnyEvent/Subprocess/Types.pm line 0
eval {...} called at /home/cpansand/.cpan/build/2017013003/AnyEvent-Subprocess-1.102912-0/blib/lib/AnyEvent/Subprocess/Types.pm line 0
t/trivial.t ................. ok
Passing a list of values to enum is deprecated. Enum values should be wrapped in an arrayref. at /home/cpansand/.cpan/build/2017013003/AnyEvent-Subprocess-1.102912-0/blib/lib/AnyEvent/Subprocess/Types.pm line 42.
require AnyEvent/Subprocess/Types.pm called at /home/cpansand/.cpan/build/2017013003/AnyEvent-Subprocess-1.102912-0/blib/lib/AnyEvent/Subprocess/Job/Delegate/Handle.pm line 12
AnyEvent::Subprocess::Job::Delegate::Handle::BEGIN() called at /home/cpansand/.cpan/build/2017013003/AnyEvent-Subprocess-1.102912-0/blib/lib/AnyEvent/Subprocess/Types.pm line 0
eval {...} called at /home/cpansand/.cpan/build/2017013003/AnyEvent-Subprocess-1.102912-0/blib/lib/AnyEvent/Subprocess/Types.pm line 0
require AnyEvent/Subprocess/Job/Delegate/Handle.pm called at /home/cpansand/.cpan/build/2017013003/AnyEvent-Subprocess-1.102912-0/blib/lib/AnyEvent/Subprocess/DefaultDelegates.pm line 16
AnyEvent::Subprocess::DefaultDelegates::BEGIN() called at /home/cpansand/.cpan/build/2017013003/AnyEvent-Subprocess-1.102912-0/blib/lib/AnyEvent/Subprocess/Types.pm line 0
eval {...} called at /home/cpansand/.cpan/build/2017013003/AnyEvent-Subprocess-1.102912-0/blib/lib/AnyEvent/Subprocess/Types.pm line 0
require AnyEvent/Subprocess/DefaultDelegates.pm called at /home/cpansand/.cpan/build/2017013003/AnyEvent-Subprocess-1.102912-0/blib/lib/AnyEvent/Subprocess.pm line 11
AnyEvent::Subprocess::BEGIN() called at /home/cpansand/.cpan/build/2017013003/AnyEvent-Subprocess-1.102912-0/blib/lib/AnyEvent/Subprocess/Types.pm line 0
eval {...} called at /home/cpansand/.cpan/build/2017013003/AnyEvent-Subprocess-1.102912-0/blib/lib/AnyEvent/Subprocess/Types.pm line 0
require AnyEvent/Subprocess.pm called at t/userhooks.t line 5
main::BEGIN() called at /home/cpansand/.cpan/build/2017013003/AnyEvent-Subprocess-1.102912-0/blib/lib/AnyEvent/Subprocess/Types.pm line 0
eval {...} called at /home/cpansand/.cpan/build/2017013003/AnyEvent-Subprocess-1.102912-0/blib/lib/AnyEvent/Subprocess/Types.pm line 0
t/userhooks.t ............... ok
Passing a list of values to enum is deprecated. Enum values should be wrapped in an arrayref. at /home/cpansand/.cpan/build/2017013003/AnyEvent-Subprocess-1.102912-0/blib/lib/AnyEvent/Subprocess/Types.pm line 42.
require AnyEvent/Subprocess/Types.pm called at /home/cpansand/.cpan/build/2017013003/AnyEvent-Subprocess-1.102912-0/blib/lib/AnyEvent/Subprocess/Job/Delegate/Handle.pm line 12
AnyEvent::Subprocess::Job::Delegate::Handle::BEGIN() called at /home/cpansand/.cpan/build/2017013003/AnyEvent-Subprocess-1.102912-0/blib/lib/AnyEvent/Subprocess/Types.pm line 0
eval {...} called at /home/cpansand/.cpan/build/2017013003/AnyEvent-Subprocess-1.102912-0/blib/lib/AnyEvent/Subprocess/Types.pm line 0
require AnyEvent/Subprocess/Job/Delegate/Handle.pm called at /home/cpansand/.cpan/build/2017013003/AnyEvent-Subprocess-1.102912-0/blib/lib/AnyEvent/Subprocess/DefaultDelegates.pm line 16
AnyEvent::Subprocess::DefaultDelegates::BEGIN() called at /home/cpansand/.cpan/build/2017013003/AnyEvent-Subprocess-1.102912-0/blib/lib/AnyEvent/Subprocess/Types.pm line 0
eval {...} called at /home/cpansand/.cpan/build/2017013003/AnyEvent-Subprocess-1.102912-0/blib/lib/AnyEvent/Subprocess/Types.pm line 0
require AnyEvent/Subprocess/DefaultDelegates.pm called at /home/cpansand/.cpan/build/2017013003/AnyEvent-Subprocess-1.102912-0/blib/lib/AnyEvent/Subprocess.pm line 11
AnyEvent::Subprocess::BEGIN() called at /home/cpansand/.cpan/build/2017013003/AnyEvent-Subprocess-1.102912-0/blib/lib/AnyEvent/Subprocess/Types.pm line 0
eval {...} called at /home/cpansand/.cpan/build/2017013003/AnyEvent-Subprocess-1.102912-0/blib/lib/AnyEvent/Subprocess/Types.pm line 0
require AnyEvent/Subprocess.pm called at t/watchers-are-destroyed.t line 7
main::BEGIN() called at /home/cpansand/.cpan/build/2017013003/AnyEvent-Subprocess-1.102912-0/blib/lib/AnyEvent/Subprocess/Types.pm line 0
eval {...} called at /home/cpansand/.cpan/build/2017013003/AnyEvent-Subprocess-1.102912-0/blib/lib/AnyEvent/Subprocess/Types.pm line 0
t/watchers-are-destroyed.t .. ok
All tests successful.
Test Summary Report
-------------------
t/negative-one.t (Wstat: 0 Tests: 5 Failed: 0)
TODO passed: 1
Files=22, Tests=116, 26 wallclock secs ( 0.12 usr 0.02 sys + 18.72 cusr 1.71 csys = 20.57 CPU)
Result: PASS
------------------------------
PREREQUISITES
------------------------------
Prerequisite modules loaded:
requires:
Module Need Have
--------------------------- ---- --------
AnyEvent 0 7.13
AnyEvent::Handle 0 7.13
AnyEvent::Util 0 7.13
Carp 0 1.38
EV 4.0 4.22
Event::Join 0.05 0.06
IO::Pty 0 1.12
JSON 2 2.90
Moose 1.15 2.1807
Moose::Role 0 2.1807
MooseX::Clone 0 0.06
MooseX::Role::Parameterized 0 1.09
MooseX::StrictConstructor 0 0.19
MooseX::Types 0 0.49
MooseX::Types::Moose 0 0.49
MooseX::Types::Signal 0 1.101932
namespace::autoclean 0 0.28
namespace::clean 0 0.27
POSIX 0 1.53_01
Sub::Exporter 0 0.987
Try::Tiny 0 0.28
build_requires:
Module Need Have
--------------------------- ---- --------
ok 0 1.302075
Scalar::Util 0 1.47
Test::Exception 0 0.43
Test::More 0 1.302075
configure_requires:
Module Need Have
--------------------------- ---- --------
ExtUtils::MakeMaker 6.31 7.24
------------------------------
ENVIRONMENT AND OTHER CONTEXT
------------------------------
Environment variables:
LANG = en_US.UTF-8
PATH = /usr/local/bin:/usr/bin:/bin:/usr/local/sbin:/usr/sbin:/sbin:/home/cpansand/bin/linux-gnu:/home/cpansand/bin/sh:/home/cpansand/bin:/usr/games:/home/cpansand/devel:/home/eserte/src/srezic-misc/scripts
PERL5LIB =
PERL5OPT =
PERL5_CPANPLUS_IS_RUNNING = 3233
PERL5_CPAN_IS_RUNNING = 3233
PERL5_CPAN_IS_RUNNING_IN_RECURSION = 9125,3233
PERLDOC = -MPod::Perldoc::ToTextOverstrike
PERL_BATCH = yes
PERL_CANARY_STABILITY_NOPROMPT = 1
PERL_CPAN_REPORTER_CONFIG = /var/tmp/cpansmoker-1002/2017012912/cpanreporter_000_config.ini
PERL_EXTUTILS_AUTOINSTALL = --defaultdeps
SHELL = /bin/zsh
TERM = screen
TMPDIR = /var/tmp/cpansmoker-1002/2017012912
Perl special variables (and OS-specific diagnostics, for MSWin32):
$^X = /opt/perl-5.22.2/bin/perl5.22.2
$UID/$EUID = 1002 / 1002
$GID = 1002 1002
$EGID = 1002 1002
Perl module toolchain versions installed:
Module Have
------------------- --------
CPAN 2.14
CPAN::Meta 2.150010
Cwd 3.62
ExtUtils::CBuilder 0.280224
ExtUtils::Command 7.24
ExtUtils::Install 2.04
ExtUtils::MakeMaker 7.24
ExtUtils::Manifest 1.70
ExtUtils::ParseXS 3.30
File::Spec 3.62
JSON 2.90
JSON::PP 2.27400
Module::Build 0.4220
Module::Signature 0.81
Parse::CPAN::Meta 2.150010
Test::Harness 3.35
Test::More 1.302075
YAML 1.21
YAML::Syck 1.29
version 0.9917
--
Summary of my perl5 (revision 5 version 22 subversion 2) configuration:
Platform:
osname=linux, osvers=4.4.0-59-generic, archname=x86_64-linux
uname='linux prod3.bbbike.org 4.4.0-59-generic #80-ubuntu smp fri jan 6 17:47:47 utc 2017 x86_64 x86_64 x86_64 gnulinux '
config_args='-ds -e -Dprefix=/opt/perl-5.22.2 -Dcf_email=srezic@cpan.org'
hint=recommended, useposix=true, d_sigaction=define
useithreads=undef, usemultiplicity=undef
use64bitint=define, use64bitall=define, uselongdouble=undef
usemymalloc=n, bincompat5005=undef
Compiler:
cc='cc', ccflags ='-fwrapv -fno-strict-aliasing -pipe -fstack-protector-strong -I/usr/local/include -D_LARGEFILE_SOURCE -D_FILE_OFFSET_BITS=64',
optimize='-O2',
cppflags='-fwrapv -fno-strict-aliasing -pipe -fstack-protector-strong -I/usr/local/include'
ccversion='', gccversion='5.4.0 20160609', gccosandvers=''
intsize=4, longsize=8, ptrsize=8, doublesize=8, byteorder=12345678, doublekind=3
d_longlong=define, longlongsize=8, d_longdbl=define, longdblsize=16, longdblkind=3
ivtype='long', ivsize=8, nvtype='double', nvsize=8, Off_t='off_t', lseeksize=8
alignbytes=8, prototype=define
Linker and Libraries:
ld='cc', ldflags =' -fstack-protector-strong -L/usr/local/lib'
libpth=/usr/local/lib /usr/lib/gcc/x86_64-linux-gnu/5/include-fixed /usr/include/x86_64-linux-gnu /usr/lib /lib/x86_64-linux-gnu /lib/../lib /usr/lib/x86_64-linux-gnu /usr/lib/../lib /lib
libs=-lpthread -lnsl -lgdbm -ldb -ldl -lm -lcrypt -lutil -lc -lgdbm_compat
perllibs=-lpthread -lnsl -ldl -lm -lcrypt -lutil -lc
libc=libc-2.23.so, so=so, useshrplib=false, libperl=libperl.a
gnulibc_version='2.23'
Dynamic Linking:
dlsrc=dl_dlopen.xs, dlext=so, d_dlsymun=undef, ccdlflags='-Wl,-E'
cccdlflags='-fPIC', lddlflags='-shared -O2 -L/usr/local/lib -fstack-protector-strong'
Characteristics of this binary (from libperl):
Compile-time options: HAS_TIMES PERLIO_LAYERS PERL_DONT_CREATE_GVSV
PERL_HASH_FUNC_ONE_AT_A_TIME_HARD PERL_MALLOC_WRAP
PERL_NEW_COPY_ON_WRITE PERL_PRESERVE_IVUV
USE_64_BIT_ALL USE_64_BIT_INT USE_LARGE_FILES
USE_LOCALE USE_LOCALE_COLLATE USE_LOCALE_CTYPE
USE_LOCALE_NUMERIC USE_LOCALE_TIME USE_PERLIO
USE_PERL_ATOF
Built under linux
Compiled at Jan 14 2017 19:54:11
%ENV:
PERL5LIB=""
PERL5OPT=""
PERL5_CPANPLUS_IS_RUNNING="3233"
PERL5_CPAN_IS_RUNNING="3233"
PERL5_CPAN_IS_RUNNING_IN_RECURSION="9125,3233"
PERLDOC="-MPod::Perldoc::ToTextOverstrike"
PERL_BATCH="yes"
PERL_CANARY_STABILITY_NOPROMPT="1"
PERL_CPAN_REPORTER_CONFIG="/var/tmp/cpansmoker-1002/2017012912/cpanreporter_000_config.ini"
PERL_EXTUTILS_AUTOINSTALL="--defaultdeps"
@INC:
/opt/perl-5.22.2/lib/site_perl/5.22.2/x86_64-linux
/opt/perl-5.22.2/lib/site_perl/5.22.2
/opt/perl-5.22.2/lib/5.22.2/x86_64-linux
/opt/perl-5.22.2/lib/5.22.2
.