Task-Tmp-spanel v0.010 Perl 5 v5.34.0 x86_64-linux-ld

Status
Pass
From
Andreas J. König (ANDK)
Dist
Task-Tmp-spanel v0.010
Platform
Perl 5 v5.34.0 x86_64-linux-ld
Date
2022-02-23 13:03:04
ID
f028f4b2-94a8-11ec-afb7-c566a91c6b3d
This distribution has been tested as part of the CPAN Testers
project, supporting the Perl programming language.  See
http://wiki.cpantesters.org/ for more information or email
questions to cpan-testers-discuss@perl.org


--
Dear perlancar,

This is a computer-generated report for Task-Tmp-spanel-0.010
on perl 5.34.0, created by CPAN-Reporter-1.2018.

Thank you for uploading your work to CPAN.  Congratulations!
All tests were successful.

Sections of this report:

    * Tester comments
    * Program output
    * Prerequisites
    * Environment and other context

------------------------------
TESTER COMMENTS
------------------------------

Additional comments from tester:

this report is from an automated smoke testing program
and was not reviewed by a human for accuracy

------------------------------
PROGRAM OUTPUT
------------------------------

Output from '/usr/bin/make test':

PERL_DL_NONLAZY=1 "/tmp/basesmoker-reloperl-LsXZ/bin/perl" "-MExtUtils::Command::MM" "-MTest::Harness" "-e" "undef *Test::Harness::Switches; test_harness(0, 'blib/lib', 'blib/arch')" t/*.t
t/00-compile.t ..... ok
t/author-critic.t .. skipped: these tests are for testing by the author
t/placeholder.t .... ok
All tests successful.
Files=3, Tests=2,  0 wallclock secs ( 0.02 usr  0.02 sys +  0.13 cusr  0.02 csys =  0.19 CPU)
Result: PASS

------------------------------
PREREQUISITES
------------------------------

Prerequisite modules loaded:

requires:

    Module                                                Need  Have    
    ----------------------------------------------------- ----- --------
    Algorithm::Dependency::Ordered                        0     1.112   
    Algorithm::Dependency::Source::HoA                    0     1.112   
    alias::module                                         0     0.002   
    Any::Moose                                            0     0.27    
  ! App::CreateSelfSignedSSLCert                          0     n/a     
    App::ProcUtils                                        0     0.038   
    App::rimetadb                                         0.221 0.225   
    autodie                                               0     2.34    
    base                                                  0     2.27    
    bytes                                                 0     1.08    
    Capture::Tiny                                         0     0.48    
    Carp                                                  1.12  1.52    
    CDB_File                                              0     1.05    
  ! CHI                                                   0     n/a     
    Clone::Any                                            0     1.01    
    Complete::Util                                        0.603 0.611   
    Config::IniFiles                                      0     3.000003
    constant                                              0     1.33    
    Crypt::PasswdMD5                                      0     1.41    
    Cwd                                                   0     3.80    
    Data::Clone                                           0     0.004   
  ! Data::Dump::PHP                                       0     n/a     
    Data::Dumper                                          0     2.183   
    Data::ModeMerge                                       0     0.360   
    Data::Sah                                             0.898 0.911   
    Data::Transmute                                       0.031 0.039   
    Data::Transmute::Rules::DNS::Zone::Struct::FromSpanel 0     0.001   
    Date::Manip                                           0     6.86    
    DateTime                                              0     1.55    
    DBI                                                   0     1.643   
    Digest::MD5                                           0     2.58    
    Digest::SHA1                                          0     2.13    
    DNS::Zone::Struct::Common::BIND                       0     0.004   
    Error                                                 0     0.17029 
    experimental                                          0     0.027   
    Exporter                                              5.57  5.76    
    Fcntl                                                 0     1.14    
    feature                                               0     1.64    
    File::chdir                                           0     0.1010  
    File::chmod                                           0     0.42    
    File::Copy::Recursive                                 0     0.45    
    File::Find                                            0     1.39    
    File::Flock                                           0     2014.01 
    File::Flock::Retry                                    0.631 0.632   
    File::Path                                            0     2.18    
    File::Slurp                                           0     9999.32 
  ! File::Slurp::Shortcuts                                0     n/a     
    File::Slurp::Tiny                                     0     0.004   
    File::Spec                                            0     3.80    
    File::Temp                                            0     0.2311  
    File::Which                                           0     1.27    
    File::Write::Rotate                                   0.28  0.321   
    FindBin                                               0     1.52    
  ! GDBM_File                                             0     n/a     
  ! Gepok                                                 0     n/a     
    Getopt::Long                                          2.50  2.52    
    IO::CaptureOutput                                     0     1.1105  
    IO::File                                              0     1.46    
    IO::Prompt::I18N                                      0     0.80    
    IO::Socket::UNIX                                      0     1.46    
    IPC::System::Options                                  0.332 0.340   
    lib                                                   0     0.65    
    Linux::Mounts                                         0     0.2     
    List::MoreUtils                                       0     0.430   
    List::Util                                            1.45  1.61    
    Log::ger                                              0.027 0.038   
    Log::Log4perl                                         0     1.54    
    LWP::UserAgent                                        0     6.61    
    Mail::Address                                         0     2.21    
  ! Mail::Sendmail                                        0     n/a     
    MIME::Base64                                          0     3.16    
    Module::List                                          0     0.004   
    Module::Load                                          0     0.36    
    Module::Loaded                                        0     0.08    
    Module::Version                                       0     0.201   
    Moo                                                   0     2.005004
    Moo::Role                                             0     2.005004
    Net::DNS                                              0     1.33    
    Net::Domain::TLD                                      0     1.75    
    Parse::IPCommand                                      0     0.001   
    Path::Class                                           0     0.37    
    Perinci::Access::Base::Patch::PeriAHS                 0     0.620   
    Perinci::Access::HTTP::Client                         0     0.24    
    Perinci::Access::Schemeless::DBI                      0.009 0.090   
    Perinci::CmdLine                                      0     2.000.0 
    Perinci::CmdLine::Any                                 0     0.153   
    Perinci::CmdLine::Lite                                1.820 1.916   
  ! Perinci::CmdLine::Server                              0     n/a     
    Perinci::Exporter                                     0.080 0.084   
    Perinci::Sub::Util                                    0.46  0.470   
    Perinci::Sub::Wrapper::Patch::HandlePHPArray          0     0.04    
    POSIX                                                 0     1.97    
    Proc::ChildError                                      0     0.04    
    Proc::PID::File                                       0     1.29    
  ! Quota                                                 0     n/a     
    Regexp::Shellish                                      0     0.93    
    Scalar::Util                                          0     1.61    
  ! SHARYANTO::Template::Util                             0     n/a     
    Storable                                              0     3.25    
    strict                                                0     1.12    
    String::ShellQuote                                    0     1.04    
    Sub::Curry                                            0     0.8     
    Sys::RunAlone                                         0     0.13    
    Sys::RunAlone::Flexible                               0     0.004   
    Sys::RunAlone::Flexible2                              0     0.001   
    Tie::Handle::FileWriteRotate                          0     0.040   
    Time::Local                                           0     1.30    
    Unix::Passwd::File                                    0     0.251   
    URI                                                   0     5.10    
    URI::Escape                                           0     5.10    
    UUID::Random                                          0     0.04    
    vars                                                  0     1.05    
    warnings                                              0     1.51    
    WWW::Mechanize                                        0     2.06    
    YAML::Syck                                            0     1.34    
    YAML::XS                                              0     0.83    

build_requires:

    Module                                                Need  Have    
    ----------------------------------------------------- ----- --------
    ExtUtils::MakeMaker                                   0     7.64    
    File::Spec                                            0     3.80    
    IO::Handle                                            0     1.46    
    IPC::Open3                                            0     1.21    
    Test::More                                            0     1.302188

configure_requires:

    Module                                                Need  Have    
    ----------------------------------------------------- ----- --------
    ExtUtils::MakeMaker                                   0     7.64    


------------------------------
ENVIRONMENT AND OTHER CONTEXT
------------------------------

Environment variables:

    AUTOMATED_TESTING = 1
    LANG = en_US.utf8
    PATH = /home/sand/bin:/usr/local/bin:/usr/local/sbin:/usr/sbin:/usr/bin:/sbin:/bin:/usr/games:/usr/local/games:/snap/bin:/usr/local/perl/bin:/usr/X11/bin
    PERL = /tmp/basesmoker-reloperl-LsXZ/bin/perl
    PERL5LIB = /tmp/loop_over_bdir-81669-LzuWFr/Captive-Portal-4.10-0/blib/arch:/tmp/loop_over_bdir-81669-LzuWFr/Captive-Portal-4.10-0/blib/lib:/tmp/loop_over_bdir-81669-LzuWFr/LiquidWeb-Storm-CLI-1.03-0/blib/arch:/tmp/loop_over_bdir-81669-LzuWFr/LiquidWeb-Storm-CLI-1.03-0/blib/lib:/tmp/loop_over_bdir-81669-LzuWFr/Lingua-BioYaTeA-0.11-0/blib/arch:/tmp/loop_over_bdir-81669-LzuWFr/Lingua-BioYaTeA-0.11-0/blib/lib:/tmp/loop_over_bdir-81669-LzuWFr/Lingua-YaTeA-0.626-0/blib/arch:/tmp/loop_over_bdir-81669-LzuWFr/Lingua-YaTeA-0.626-0/blib/lib:/tmp/loop_over_bdir-81669-LzuWFr/App-oo_modulino_zsh_completion_helper-0.04-0/blib/arch:/tmp/loop_over_bdir-81669-LzuWFr/App-oo_modulino_zsh_completion_helper-0.04-0/blib/lib:/tmp/loop_over_bdir-81669-LzuWFr/shishi-0.0.1-0/blib/arch:/tmp/loop_over_bdir-81669-LzuWFr/shishi-0.0.1-0/blib/lib:/tmp/loop_over_bdir-81669-LzuWFr/dta-tokwrap-0.98-0/blib/arch:/tmp/loop_over_bdir-81669-LzuWFr/dta-tokwrap-0.98-0/blib/lib:/tmp/loop_over_bdir-81669-LzuWFr/Lemonldap-NG-Cli-0.2-0/blib/arch:/tmp/loop_over_bdir-81669-LzuWFr/Lemonldap-NG-Cli-0.2-0/blib/lib:/tmp/loop_over_bdir-81669-LzuWFr/EJBCA-CrlPublish-0.60-0/blib/arch:/tmp/loop_over_bdir-81669-LzuWFr/EJBCA-CrlPublish-0.60-0/blib/lib
    PERL5OPT = 
    PERL5_CPANPLUS_IS_RUNNING = 81677
    PERL5_CPAN_IS_RUNNING = 81677
    PERL_CANARY_STABILITY_NOPROMPT = 1
    PERL_MM_USE_DEFAULT = 1
    PERL_USE_UNSAFE_INC = 1
    SHELL = /usr/bin/zsh
    TERM = screen

Perl special variables (and OS-specific diagnostics, for MSWin32):

    $^X = /tmp/basesmoker-reloperl-LsXZ/bin/perl
    $UID/$EUID = 1005 / 1005
    $GID = 1005 1005
    $EGID = 1005 1005

Perl module toolchain versions installed:

    Module              Have    
    ------------------- --------
    CPAN                2.33    
    CPAN::Meta          2.150010
    Cwd                 3.80    
    ExtUtils::CBuilder  0.280236
    ExtUtils::Command   7.64    
    ExtUtils::Install   2.20    
    ExtUtils::MakeMaker 7.64    
    ExtUtils::Manifest  1.73    
    ExtUtils::ParseXS   3.43    
    File::Spec          3.80    
    JSON                4.05    
    JSON::PP            4.07    
    Module::Build       0.4231  
    Module::Signature   0.88    
    Parse::CPAN::Meta   2.150010
    Test::Harness       3.43    
    Test::More          1.302188
    YAML                1.30    
    YAML::Syck          1.34    
    version             0.9929  


--

Summary of my perl5 (revision 5 version 34 subversion 0) configuration:
  Commit id: 79a7b254d85a10b65126ad99bf10e70480569d68
  Platform:
    osname=linux
    osvers=5.4.0-100-generic
    archname=x86_64-linux-ld
    uname='linux k93focal 5.4.0-100-generic #113-ubuntu smp thu feb 3 18:43:29 utc 2022 x86_64 x86_64 x86_64 gnulinux '
    config_args='-Dprefix=/home/sand/src/perl/repoperls/installed-perls/host/k93focal/v5.34.0/7dc8 -Dmyhostname=k93focal -Dinstallusrbinperl=n -Uversiononly -Dusedevel -des -Ui_db -Dlibswanted=cl pthread socket inet nsl gdbm dbm malloc dl ld sun m crypt sec util c cposix posix ucb BSD gdbm_compat -Uuseithreads -Duselongdouble -DEBUGGING=-g'
    hint=recommended
    useposix=true
    d_sigaction=define
    useithreads=undef
    usemultiplicity=undef
    use64bitint=define
    use64bitall=define
    uselongdouble=define
    usemymalloc=n
    default_inc_excludes_dot=define
  Compiler:
    cc='cc'
    ccflags ='-fwrapv -fno-strict-aliasing -pipe -fstack-protector-strong -I/usr/local/include -D_LARGEFILE_SOURCE -D_FILE_OFFSET_BITS=64'
    optimize='-O2 -g'
    cppflags='-fwrapv -fno-strict-aliasing -pipe -fstack-protector-strong -I/usr/local/include'
    ccversion=''
    gccversion='9.3.0'
    gccosandvers=''
    intsize=4
    longsize=8
    ptrsize=8
    doublesize=8
    byteorder=12345678
    doublekind=3
    d_longlong=define
    longlongsize=8
    d_longdbl=define
    longdblsize=16
    longdblkind=3
    ivtype='long'
    ivsize=8
    nvtype='long double'
    nvsize=16
    Off_t='off_t'
    lseeksize=8
    alignbytes=16
    prototype=define
  Linker and Libraries:
    ld='cc'
    ldflags =' -fstack-protector-strong -L/usr/local/lib'
    libpth=/usr/local/lib /usr/lib/x86_64-linux-gnu /usr/lib /usr/lib64
    libs=-lpthread -lnsl -ldl -lm -lcrypt -lutil -lc
    perllibs=-lpthread -lnsl -ldl -lm -lcrypt -lutil -lc
    libc=libc-2.31.so
    so=so
    useshrplib=false
    libperl=libperl.a
    gnulibc_version='2.31'
  Dynamic Linking:
    dlsrc=dl_dlopen.xs
    dlext=so
    d_dlsymun=undef
    ccdlflags='-Wl,-E'
    cccdlflags='-fPIC'
    lddlflags='-shared -O2 -g -L/usr/local/lib -fstack-protector-strong'


Characteristics of this binary (from libperl): 
  Compile-time options:
    HAS_TIMES
    PERLIO_LAYERS
    PERL_COPY_ON_WRITE
    PERL_DONT_CREATE_GVSV
    PERL_MALLOC_WRAP
    PERL_OP_PARENT
    PERL_PRESERVE_IVUV
    PERL_USE_DEVEL
    USE_64_BIT_ALL
    USE_64_BIT_INT
    USE_LARGE_FILES
    USE_LOCALE
    USE_LOCALE_COLLATE
    USE_LOCALE_CTYPE
    USE_LOCALE_NUMERIC
    USE_LOCALE_TIME
    USE_LONG_DOUBLE
    USE_PERLIO
    USE_PERL_ATOF
  Built under linux
  Compiled at Feb 20 2022 20:10:42
  %ENV:
    PERL="/tmp/basesmoker-reloperl-LsXZ/bin/perl"
    PERL5LIB="/tmp/loop_over_bdir-81669-LzuWFr/Captive-Portal-4.10-0/blib/arch:/tmp/loop_over_bdir-81669-LzuWFr/Captive-Portal-4.10-0/blib/lib:/tmp/loop_over_bdir-81669-LzuWFr/LiquidWeb-Storm-CLI-1.03-0/blib/arch:/tmp/loop_over_bdir-81669-LzuWFr/LiquidWeb-Storm-CLI-1.03-0/blib/lib:/tmp/loop_over_bdir-81669-LzuWFr/Lingua-BioYaTeA-0.11-0/blib/arch:/tmp/loop_over_bdir-81669-LzuWFr/Lingua-BioYaTeA-0.11-0/blib/lib:/tmp/loop_over_bdir-81669-LzuWFr/Lingua-YaTeA-0.626-0/blib/arch:/tmp/loop_over_bdir-81669-LzuWFr/Lingua-YaTeA-0.626-0/blib/lib:/tmp/loop_over_bdir-81669-LzuWFr/App-oo_modulino_zsh_completion_helper-0.04-0/blib/arch:/tmp/loop_over_bdir-81669-LzuWFr/App-oo_modulino_zsh_completion_helper-0.04-0/blib/lib:/tmp/loop_over_bdir-81669-LzuWFr/shishi-0.0.1-0/blib/arch:/tmp/loop_over_bdir-81669-LzuWFr/shishi-0.0.1-0/blib/lib:/tmp/loop_over_bdir-81669-LzuWFr/dta-tokwrap-0.98-0/blib/arch:/tmp/loop_over_bdir-81669-LzuWFr/dta-tokwrap-0.98-0/blib/lib:/tmp/loop_over_bdir-81669-LzuWFr/Lemonldap-NG-Cli-0.2-0/blib/arch:/tmp/loop_over_bdir-81669-LzuWFr/Lemonldap-NG-Cli-0.2-0/blib/lib:/tmp/loop_over_bdir-81669-LzuWFr/EJBCA-CrlPublish-0.60-0/blib/arch:/tmp/loop_over_bdir-81669-LzuWFr/EJBCA-CrlPublish-0.60-0/blib/lib"
    PERL5OPT=""
    PERL5_CPANPLUS_IS_RUNNING="81677"
    PERL5_CPAN_IS_RUNNING="81677"
    PERL_CANARY_STABILITY_NOPROMPT="1"
    PERL_MM_USE_DEFAULT="1"
    PERL_USE_UNSAFE_INC="1"
  @INC:
    /tmp/loop_over_bdir-81669-LzuWFr/Captive-Portal-4.10-0/blib/arch
    /tmp/loop_over_bdir-81669-LzuWFr/Captive-Portal-4.10-0/blib/lib
    /tmp/loop_over_bdir-81669-LzuWFr/LiquidWeb-Storm-CLI-1.03-0/blib/arch
    /tmp/loop_over_bdir-81669-LzuWFr/LiquidWeb-Storm-CLI-1.03-0/blib/lib
    /tmp/loop_over_bdir-81669-LzuWFr/Lingua-BioYaTeA-0.11-0/blib/arch
    /tmp/loop_over_bdir-81669-LzuWFr/Lingua-BioYaTeA-0.11-0/blib/lib
    /tmp/loop_over_bdir-81669-LzuWFr/Lingua-YaTeA-0.626-0/blib/arch
    /tmp/loop_over_bdir-81669-LzuWFr/Lingua-YaTeA-0.626-0/blib/lib
    /tmp/loop_over_bdir-81669-LzuWFr/App-oo_modulino_zsh_completion_helper-0.04-0/blib/arch
    /tmp/loop_over_bdir-81669-LzuWFr/App-oo_modulino_zsh_completion_helper-0.04-0/blib/lib
    /tmp/loop_over_bdir-81669-LzuWFr/shishi-0.0.1-0/blib/arch
    /tmp/loop_over_bdir-81669-LzuWFr/shishi-0.0.1-0/blib/lib
    /tmp/loop_over_bdir-81669-LzuWFr/dta-tokwrap-0.98-0/blib/arch
    /tmp/loop_over_bdir-81669-LzuWFr/dta-tokwrap-0.98-0/blib/lib
    /tmp/loop_over_bdir-81669-LzuWFr/Lemonldap-NG-Cli-0.2-0/blib/arch
    /tmp/loop_over_bdir-81669-LzuWFr/Lemonldap-NG-Cli-0.2-0/blib/lib
    /tmp/loop_over_bdir-81669-LzuWFr/EJBCA-CrlPublish-0.60-0/blib/arch
    /tmp/loop_over_bdir-81669-LzuWFr/EJBCA-CrlPublish-0.60-0/blib/lib
    /home/sand/src/perl/repoperls/installed-perls/host/k93focal/v5.34.0/7dc8/lib/site_perl/5.34.0/x86_64-linux-ld
    /home/sand/src/perl/repoperls/installed-perls/host/k93focal/v5.34.0/7dc8/lib/site_perl/5.34.0
    /home/sand/src/perl/repoperls/installed-perls/host/k93focal/v5.34.0/7dc8/lib/5.34.0/x86_64-linux-ld
    /home/sand/src/perl/repoperls/installed-perls/host/k93focal/v5.34.0/7dc8/lib/5.34.0
    .