Statistics-Autocorrelation v0.06 Perl 5 v5.27.4 x86_64-linux-ld

Status
Pass
From
Andreas J. König (ANDK)
Dist
Statistics-Autocorrelation v0.06
Platform
Perl 5 v5.27.4 x86_64-linux-ld
Date
2017-08-27 00:30:33
ID
f04c6e4a-8abe-11e7-a21f-7ca5cc98a835
This distribution has been tested as part of the CPAN Testers
project, supporting the Perl programming language.  See
http://wiki.cpantesters.org/ for more information or email
questions to cpan-testers-discuss@perl.org


--
Dear Roderick Garton,

This is a computer-generated report for Statistics-Autocorrelation-0.06
on perl 5.27.4, created by CPAN-Reporter-1.2018.

Thank you for uploading your work to CPAN.  Congratulations!
All tests were successful.

Sections of this report:

    * Tester comments
    * Program output
    * Prerequisites
    * Environment and other context

------------------------------
TESTER COMMENTS
------------------------------

Additional comments from tester:

this report is from an automated smoke testing program
and was not reviewed by a human for accuracy

------------------------------
PROGRAM OUTPUT
------------------------------

Output from './Build test':

# Testing Statistics::Autocorrelation 0.06, Perl 5.027004, /tmp/basesmoker-reloperl-u0B0/bin/perl
t/00-load.t ............ ok
t/01-basics.t .......... ok
# 1	1
# -0.31	-0.308071529270774556
# -0.74	-0.749049167515742524
# 0.77	0.784323247735839971
# 0.21	0.20887759801553331
# -0.9	-0.918813706027067713
# 0.38	0.386652735218839005
# 0.63	0.654553768392637024
# -0.77	-0.796550351808820042
# -0.12	-0.130519929380511742
# 0.82	0.864643019213710288
# -0.4	-0.421384089433338947
# -0.55	-0.580716880126989166
# 0.73	0.777761156749793753
# 0.07	0.0765164288438996488
# -0.76	-0.816215751829798136
# 0.4	0.434487992925123756
# 0.48	0.525882048388482599
# -0.7	-0.761302866282146459
# -0.03	-0.0365504182704292539
# 0.7	0.77698431849002987
# -0.41	-0.455513506257950342
# -0.43	-0.481511229989286687
# 0.67	0.754803922408943386
# 0	-0.000721715652079255383
# -0.66	-0.75014417224701014
# 0.42	0.475416467981227597
# 0.39	0.447326603329477662
# -0.65	-0.757539412418845142
# 0.03	0.0305363772989424871
# 0.63	0.73651115118603181
# -0.42	-0.496633082497666784
# -0.36	-0.422841918740382259
# 0.64	0.763572169334023263
# -0.05	-0.0629183048526149771
# -0.6	-0.724078469079772881
# 0.43	0.526299298189015231
# 0.32	0.392420931667182951
# -0.64	-0.78046412687820767
# 0.08	0.103980865082086632
# 0.58	0.714922437289871025
# -0.45	-0.562981688031778945
# -0.28	-0.355908669226571391
# 0.62	0.787876882809840552
# -0.1	-0.135103727297876095
# -0.55	-0.70389799330477162
# 0.45	0.592074938162200409
# 0.25	0.328070443088622102
# -0.61	-0.800343193782884039
# 0.14	0.186342015336873296
t/02-nist_ref.t ........ ok
t/03-neg_lag.t ......... ok
t/04-correlogram.t ..... ok
t/05-PASW_RiessData.t .. ok
t/pod-coverage.t ....... ok
t/pod.t ................ ok
All tests successful.
Files=8, Tests=84,  1 wallclock secs ( 0.03 usr  0.05 sys +  0.40 cusr  0.12 csys =  0.60 CPU)
Result: PASS

------------------------------
PREREQUISITES
------------------------------

Prerequisite modules loaded:

requires:

    Module           Need   Have    
    ---------------- ------ --------
    List::AllUtils   0.07   0.14    
    Math::Cephes     0.5303 0.5305  
    Statistics::Data 0.08   0.11    
    Statistics::Lite 3.2    3.62    
    Statistics::Zed  0.10   0.10    

build_requires:

    Module           Need   Have    
    ---------------- ------ --------
    List::AllUtils   0.07   0.14    
    Math::Cephes     0.5303 0.5305  
    Statistics::Data 0.08   0.11    
    Statistics::Lite 3.2    3.62    
    Statistics::Zed  0.072  0.10    
    Test::More       0.92   1.302086

configure_requires:

    Module           Need   Have    
    ---------------- ------ --------
    Module::Build    0.4007 0.4224  


------------------------------
ENVIRONMENT AND OTHER CONTEXT
------------------------------

Environment variables:

    AUTOMATED_TESTING = 1
    LANG = en_US.UTF-8
    PATH = /home/sand/bin:/usr/local/bin:/usr/bin:/bin:/usr/games:/usr/local/perl/bin:/usr/X11/bin:/sbin:/usr/sbin
    PERL5LIB = /tmp/loop_over_bdir-17187-NCKDwH/Net-DNS-1.12-0/blib/arch:/tmp/loop_over_bdir-17187-NCKDwH/Net-DNS-1.12-0/blib/lib
    PERL5OPT = 
    PERL5_CPANPLUS_IS_RUNNING = 23231
    PERL5_CPAN_IS_RUNNING = 23231
    PERL_CANARY_STABILITY_NOPROMPT = 1
    PERL_MM_USE_DEFAULT = 1
    PERL_USE_UNSAFE_INC = 1
    SHELL = /usr/bin/zsh
    TERM = screen

Perl special variables (and OS-specific diagnostics, for MSWin32):

    $^X = /tmp/basesmoker-reloperl-u0B0/bin/perl
    $UID/$EUID = 1005 / 1005
    $GID = 1005 1005
    $EGID = 1005 1005

Perl module toolchain versions installed:

    Module              Have    
    ------------------- --------
    CPAN                2.18    
    CPAN::Meta          2.150010
    Cwd                 3.68    
    ExtUtils::CBuilder  0.280228
    ExtUtils::Command   7.30    
    ExtUtils::Install   2.14    
    ExtUtils::MakeMaker 7.30    
    ExtUtils::Manifest  1.70    
    ExtUtils::ParseXS   3.35    
    File::Spec          3.68    
    JSON                2.94    
    JSON::PP            2.94    
    Module::Build       0.4224  
    Module::Signature   0.81    
    Parse::CPAN::Meta   2.150010
    Test::Harness       3.39    
    Test::More          1.302086
    YAML                1.23    
    YAML::Syck          1.30    
    version             0.9918  


--

Summary of my perl5 (revision 5 version 27 subversion 4) configuration:
  Commit id: 43272d222fe12f33c708d42b2a71af36cc92e4bd
  Platform:
    osname=linux
    osvers=4.9.0-2-amd64
    archname=x86_64-linux-ld
    uname='linux k93msid 4.9.0-2-amd64 #1 smp debian 4.9.18-1 (2017-03-30) x86_64 gnulinux '
    config_args='-Dprefix=/home/sand/src/perl/repoperls/installed-perls/host/k93msid/v5.27.3-16-g43272d222f/ea6b -Dmyhostname=k93msid -Dinstallusrbinperl=n -Uversiononly -Dusedevel -des -Ui_db -Dlibswanted=cl pthread socket inet nsl gdbm dbm malloc dl ld sun m crypt sec util c cposix posix ucb BSD gdbm_compat -Uuseithreads -Duselongdouble -DEBUGGING=none'
    hint=recommended
    useposix=true
    d_sigaction=define
    useithreads=undef
    usemultiplicity=undef
    use64bitint=define
    use64bitall=define
    uselongdouble=define
    usemymalloc=n
    default_inc_excludes_dot=define
    bincompat5005=undef
  Compiler:
    cc='cc'
    ccflags ='-fwrapv -fno-strict-aliasing -pipe -fstack-protector-strong -I/usr/local/include -D_LARGEFILE_SOURCE -D_FILE_OFFSET_BITS=64 -D_FORTIFY_SOURCE=2'
    optimize='-O2'
    cppflags='-fwrapv -fno-strict-aliasing -pipe -fstack-protector-strong -I/usr/local/include'
    ccversion=''
    gccversion='6.3.0 20170406'
    gccosandvers=''
    intsize=4
    longsize=8
    ptrsize=8
    doublesize=8
    byteorder=12345678
    doublekind=3
    d_longlong=define
    longlongsize=8
    d_longdbl=define
    longdblsize=16
    longdblkind=3
    ivtype='long'
    ivsize=8
    nvtype='long double'
    nvsize=16
    Off_t='off_t'
    lseeksize=8
    alignbytes=16
    prototype=define
  Linker and Libraries:
    ld='cc'
    ldflags =' -fstack-protector-strong -L/usr/local/lib'
    libpth=/usr/local/lib /usr/lib/gcc/x86_64-linux-gnu/6/include-fixed /usr/include/x86_64-linux-gnu /usr/lib /lib/x86_64-linux-gnu /lib/../lib /usr/lib/x86_64-linux-gnu /usr/lib/../lib /lib
    libs=-lpthread -lnsl -ldl -lm -lcrypt -lutil -lc
    perllibs=-lpthread -lnsl -ldl -lm -lcrypt -lutil -lc
    libc=libc-2.24.so
    so=so
    useshrplib=false
    libperl=libperl.a
    gnulibc_version='2.24'
  Dynamic Linking:
    dlsrc=dl_dlopen.xs
    dlext=so
    d_dlsymun=undef
    ccdlflags='-Wl,-E'
    cccdlflags='-fPIC'
    lddlflags='-shared -O2 -L/usr/local/lib -fstack-protector-strong'


Characteristics of this binary (from libperl): 
  Compile-time options:
    HAS_TIMES
    PERLIO_LAYERS
    PERL_COPY_ON_WRITE
    PERL_DONT_CREATE_GVSV
    PERL_MALLOC_WRAP
    PERL_OP_PARENT
    PERL_PRESERVE_IVUV
    PERL_USE_DEVEL
    USE_64_BIT_ALL
    USE_64_BIT_INT
    USE_LARGE_FILES
    USE_LOCALE
    USE_LOCALE_COLLATE
    USE_LOCALE_CTYPE
    USE_LOCALE_NUMERIC
    USE_LOCALE_TIME
    USE_LONG_DOUBLE
    USE_PERLIO
    USE_PERL_ATOF
  Built under linux
  Compiled at Aug 25 2017 07:26:20
  %ENV:
    PERL5LIB="/tmp/loop_over_bdir-17187-NCKDwH/Net-DNS-1.12-0/blib/arch:/tmp/loop_over_bdir-17187-NCKDwH/Net-DNS-1.12-0/blib/lib"
    PERL5OPT=""
    PERL5_CPANPLUS_IS_RUNNING="23231"
    PERL5_CPAN_IS_RUNNING="23231"
    PERL_CANARY_STABILITY_NOPROMPT="1"
    PERL_MM_USE_DEFAULT="1"
    PERL_USE_UNSAFE_INC="1"
  @INC:
    /tmp/loop_over_bdir-17187-NCKDwH/Net-DNS-1.12-0/blib/arch
    /tmp/loop_over_bdir-17187-NCKDwH/Net-DNS-1.12-0/blib/lib
    /home/sand/src/perl/repoperls/installed-perls/host/k93msid/v5.27.3-16-g43272d222f/ea6b/lib/site_perl/5.27.4/x86_64-linux-ld
    /home/sand/src/perl/repoperls/installed-perls/host/k93msid/v5.27.3-16-g43272d222f/ea6b/lib/site_perl/5.27.4
    /home/sand/src/perl/repoperls/installed-perls/host/k93msid/v5.27.3-16-g43272d222f/ea6b/lib/5.27.4/x86_64-linux-ld
    /home/sand/src/perl/repoperls/installed-perls/host/k93msid/v5.27.3-16-g43272d222f/ea6b/lib/5.27.4
    .