Back
From: metabase:user:9820532a-708b-1014-9a05-b18a96298da1
Subject: PASS Spark-Form-0.2103-TRIAL v5.15.4 GNU/Linux
Date: 2011-11-12T11:24:52Z
This distribution has been tested as part of the CPAN Testers
project, supporting the Perl programming language. See
http://wiki.cpantesters.org/ for more information or email
questions to cpan-testers-discuss@perl.org
--
Dear Kent Fredric,
This is a computer-generated report for Spark-Form-0.2103-TRIAL
on perl 5.15.4, created by CPAN-Reporter-1.2002.
Thank you for uploading your work to CPAN. Congratulations!
All tests were successful.
Sections of this report:
* Tester comments
* Program output
* Prerequisites
* Environment and other context
------------------------------
TESTER COMMENTS
------------------------------
Additional comments from tester:
this report is from an automated smoke testing program
and was not reviewed by a human for accuracy
------------------------------
PROGRAM OUTPUT
------------------------------
Output from './Build test':
t/00-compile.t ................ ok
# Testing Spark::Form 0.2103, Perl 5.015004, /home/bri/perl5/perlbrew/perls/perl-5.15.4-th-ld/bin/perl5.15.4
t/00-load.t ................... ok
#
#
# perl: v5.15.4 (wanted any version) on linux from /home/bri/perl5/perlbrew/perls/perl-5.15.4-th-ld/bin/perl5.15.4
#
# Carp => 1.23 (want any version)
# Data::Couplet => 0.02004314 (want 0.02004312)
# Data::Dumper => 2.134 (want any version)
# Dist::Zilla::PluginBundle::Author::KENTNL => module not found. (want 1.0.0)
# Dist::Zilla::PluginBundle::Author::KENTNL::Lite => module not found. (want 0.01009803)
# English => 1.04 (want any version)
# File::Find => 1.20 (want any version)
# File::Temp => 0.22 (want any version)
# HTML::Tiny => 1.05 (want any version)
# List::MoreUtils => 0.33 (want any version)
# List::Util => 1.23 (want any version)
# Module::Build => 0.3901 (want 0.3601)
# Module::Pluggable::Object => 3.9 (want any version)
# Moose => 2.0302 (want 0.90)
# Moose::Role => 2.0302 (want 0.90)
# MooseX::Clone => 0.05 (want any version)
# MooseX::LazyRequire => 0.07 (want 0.04)
# MooseX::Types => 0.30 (want 0.20)
# MooseX::Types::Moose => 0.30 (want any version)
# Scalar::Util => 1.23 (want any version)
# Test::More => 0.9801 (want 0.88)
# namespace::autoclean => 0.13 (want any version)
#
# Thanks for using my code. I hope it works for you.
# If not, please try and include this output in the bug report.
# That will help me reproduce the issue and solve you problem.
#
t/000-report-versions-tiny.t .. ok
t/02-simple.t ................. ok
t/03-form-register.t .......... ok
t/04-form-custom-lazy.t ....... ok
t/05-confirm.t ................ ok
t/06-maxlength.t .............. ok
t/07-minlength.t .............. ok
t/08-notempty.t ............... ok
t/09-regex.t .................. ok
t/10-combinatorics.t .......... ok
t/11-reset.t .................. ok
t/12-checkbox.t ............... ok
t/13-select.t ................. ok
t/14-list.t ................... ok
t/15-submit.t ................. ok
t/16-file.t ................... ok
t/17-text.t ................... ok
t/18-textarea.t ............... ok
t/19-button.t ................. ok
t/20-hidden.t ................. ok
t/21-image.t .................. ok
t/22-multiselect.t ............ ok
t/23-password.t ............... ok
t/24-radio.t .................. ok
t/25-noload.t ................. ok
t/26-clone.t .................. ok
t/27-partial_clone.t .......... ok
t/28-compose.t ................ ok
t/29-partial-fill.t ........... ok
t/author-critic.t ............. skipped: these tests are for testing by the author
t/release-cpan-changes.t ...... skipped: these tests are for release candidate testing
t/release-distmeta.t .......... skipped: these tests are for release candidate testing
t/release-eol.t ............... skipped: these tests are for release candidate testing
t/release-kwalitee.t .......... skipped: these tests are for release candidate testing
t/release-pod-coverage.t ...... skipped: these tests are for release candidate testing
t/release-pod-syntax.t ........ skipped: these tests are for release candidate testing
All tests successful.
Files=38, Tests=131, 50 wallclock secs ( 0.14 usr 0.05 sys + 46.44 cusr 1.58 csys = 48.21 CPU)
Result: PASS
------------------------------
PREREQUISITES
------------------------------
Prerequisite modules loaded:
requires:
Module Need Have
------------------------- ---------- ----------
Carp 0 1.23
Data::Couplet 0.02004312 0.02004314
HTML::Tiny 0 1.05
List::MoreUtils 0 0.33
List::Util 0 1.23
Module::Pluggable::Object 0 3.9
Moose 0.90 2.0302
Moose::Role 0.90 2.0302
MooseX::Clone 0 0.05
MooseX::LazyRequire 0.04 0.07
MooseX::Types 0.20 0.30
MooseX::Types::Moose 0 0.30
namespace::autoclean 0 0.13
Scalar::Util 0 1.23
build_requires:
Module Need Have
------------------------- ---------- ----------
Data::Dumper 0 2.134
English 0 1.04
File::Find 0 1.20
File::Temp 0 0.22
Module::Build 0.3601 0.39_01
Test::More 0.88 0.98_01
configure_requires:
Module Need Have
------------------------- ---------- ----------
Module::Build 0.3601 0.39_01
------------------------------
ENVIRONMENT AND OTHER CONTEXT
------------------------------
Environment variables:
AUTOMATED_TESTING = 1
LANG = C
LANGUAGE = en_GB:en
LC_ALL = C
PATH = /home/bri/bin:/home/bri/perl5/perlbrew/bin:/home/bri/perl5/perlbrew/perls/perl-5.15.4-th-ld/bin:~/bin:/usr/local/sbin:/usr/local/bin:/usr/sbin:/usr/bin:/sbin:/bin:/usr/games
PATH_WITHOUT_PERLBREW = ~/bin:/usr/local/sbin:/usr/local/bin:/usr/sbin:/usr/bin:/sbin:/bin:/usr/games
PERL5LIB =
PERL5OPT =
PERL5_CPANPLUS_IS_RUNNING = 32147
PERL5_CPAN_IS_RUNNING = 32147
PERL5_CPAN_IS_RUNNING_IN_RECURSION = 1872,32147
PERLBREW_BASHRC_VERSION = 0.31
PERLBREW_HOME = /home/bri/.perlbrew
PERLBREW_PATH = /home/bri/perl5/perlbrew/bin:/home/bri/perl5/perlbrew/perls/perl-5.15.4-th-ld/bin
PERLBREW_PERL = perl-5.15.4-th-ld
PERLBREW_ROOT = /home/bri/perl5/perlbrew
PERLBREW_VERSION = 0.31
PERL_CPANM_OPT = --prompt --mirror http://172.16.1.3/cpan/
PERL_CR_SMOKER_CURRENT = Spark-Form-0.2103-TRIAL
PERL_EXTUTILS_AUTOINSTALL = --defaultdeps
PERL_MM_USE_DEFAULT = 1
SHELL = /bin/bash
TERM = linux
Perl special variables (and OS-specific diagnostics, for MSWin32):
$^X = /home/bri/perl5/perlbrew/perls/perl-5.15.4-th-ld/bin/perl5.15.4
$UID/$EUID = 1000 / 1000
$GID = 1000 4 20 24 46 112 120 122 1000
$EGID = 1000 4 20 24 46 112 120 122 1000
Perl module toolchain versions installed:
Module Have
------------------- --------
CPAN 1.9800
CPAN::Meta 2.112621
Cwd 3.37
ExtUtils::CBuilder 0.280204
ExtUtils::Command 1.17
ExtUtils::Install 1.57
ExtUtils::MakeMaker 6.62
ExtUtils::Manifest 1.60
ExtUtils::ParseXS 3.05
File::Spec 3.34
JSON 2.53
JSON::PP 2.27200
Module::Build 0.39_01
Module::Signature n/a
Parse::CPAN::Meta 1.4401
Test::Harness 3.23
Test::More 0.98_01
YAML 0.77
YAML::Syck 1.19
version 0.94
--
Summary of my perl5 (revision 5 version 15 subversion 4) configuration:
Platform:
osname=linux, osvers=2.6.38-11-generic, archname=i686-linux-thread-multi-ld
uname='linux lappy 2.6.38-11-generic #48-ubuntu smp fri jul 29 19:05:14 utc 2011 i686 i686 i386 gnulinux '
config_args='-de -Dprefix=/home/bri/perl5/perlbrew/perls/perl-5.15.4-th-ld -Dusethreads -Duselongdouble -Dusedevel'
hint=recommended, useposix=true, d_sigaction=define
useithreads=define, usemultiplicity=define
useperlio=define, d_sfio=undef, uselargefiles=define, usesocks=undef
use64bitint=undef, use64bitall=undef, uselongdouble=define
usemymalloc=n, bincompat5005=undef
Compiler:
cc='cc', ccflags ='-D_REENTRANT -D_GNU_SOURCE -fno-strict-aliasing -pipe -fstack-protector -I/usr/local/include -D_LARGEFILE_SOURCE -D_FILE_OFFSET_BITS=64',
optimize='-O2',
cppflags='-D_REENTRANT -D_GNU_SOURCE -fno-strict-aliasing -pipe -fstack-protector -I/usr/local/include'
ccversion='', gccversion='4.5.2', gccosandvers=''
intsize=4, longsize=4, ptrsize=4, doublesize=8, byteorder=1234
d_longlong=define, longlongsize=8, d_longdbl=define, longdblsize=12
ivtype='long', ivsize=4, nvtype='long double', nvsize=12, Off_t='off_t', lseeksize=8
alignbytes=4, prototype=define
Linker and Libraries:
ld='cc', ldflags =' -fstack-protector -L/usr/local/lib'
libpth=/usr/local/lib /lib /usr/lib /usr/lib/i386-linux-gnu /usr/lib64
libs=-lnsl -ldl -lm -lcrypt -lutil -lpthread -lc
perllibs=-lnsl -ldl -lm -lcrypt -lutil -lpthread -lc
libc=, so=so, useshrplib=false, libperl=libperl.a
gnulibc_version='2.13'
Dynamic Linking:
dlsrc=dl_dlopen.xs, dlext=so, d_dlsymun=undef, ccdlflags='-Wl,-E'
cccdlflags='-fPIC', lddlflags='-shared -O2 -L/usr/local/lib -fstack-protector'
Characteristics of this binary (from libperl):
Compile-time options: HAS_TIMES MULTIPLICITY PERLIO_LAYERS
PERL_DONT_CREATE_GVSV PERL_IMPLICIT_CONTEXT
PERL_MALLOC_WRAP PERL_PRESERVE_IVUV PERL_USE_DEVEL
USE_ITHREADS USE_LARGE_FILES USE_LOCALE
USE_LOCALE_COLLATE USE_LOCALE_CTYPE
USE_LOCALE_NUMERIC USE_LONG_DOUBLE USE_PERLIO
USE_PERL_ATOF USE_REENTRANT_API
Built under linux
Compiled at Nov 9 2011 22:49:20
%ENV:
PERL5LIB=""
PERL5OPT=""
PERL5_CPANPLUS_IS_RUNNING="32147"
PERL5_CPAN_IS_RUNNING="32147"
PERL5_CPAN_IS_RUNNING_IN_RECURSION="1872,32147"
PERLBREW_BASHRC_VERSION="0.31"
PERLBREW_HOME="/home/bri/.perlbrew"
PERLBREW_PATH="/home/bri/perl5/perlbrew/bin:/home/bri/perl5/perlbrew/perls/perl-5.15.4-th-ld/bin"
PERLBREW_PERL="perl-5.15.4-th-ld"
PERLBREW_ROOT="/home/bri/perl5/perlbrew"
PERLBREW_VERSION="0.31"
PERL_CPANM_OPT="--prompt --mirror http://172.16.1.3/cpan/"
PERL_CR_SMOKER_CURRENT="Spark-Form-0.2103-TRIAL"
PERL_EXTUTILS_AUTOINSTALL="--defaultdeps"
PERL_MM_USE_DEFAULT="1"
@INC:
/home/bri/perl5/perlbrew/perls/perl-5.15.4-th-ld/lib/site_perl/5.15.4/i686-linux-thread-multi-ld
/home/bri/perl5/perlbrew/perls/perl-5.15.4-th-ld/lib/site_perl/5.15.4
/home/bri/perl5/perlbrew/perls/perl-5.15.4-th-ld/lib/5.15.4/i686-linux-thread-multi-ld
/home/bri/perl5/perlbrew/perls/perl-5.15.4-th-ld/lib/5.15.4
.