WWW-FetchStory v0.2307 Perl 5 v5.26.3 x86_64-linux

Status
Pass
From
Slaven Rezić
Dist
WWW-FetchStory v0.2307
Platform
Perl 5 v5.26.3 x86_64-linux
Date
2022-07-18 16:09:02
ID
f0665212-06b3-11ed-baa9-4c632cbfd570
This distribution has been tested as part of the CPAN Testers
project, supporting the Perl programming language.  See
http://wiki.cpantesters.org/ for more information or email
questions to cpan-testers-discuss@perl.org


--
Dear Kathryn Andersen,

This is a computer-generated report for WWW-FetchStory-0.2307
on perl 5.26.3, created by CPAN-Reporter-1.2018.

Thank you for uploading your work to CPAN.  Congratulations!
All tests were successful.

Sections of this report:

    * Tester comments
    * Program output
    * Prerequisites
    * Environment and other context

------------------------------
TESTER COMMENTS
------------------------------

Additional comments from tester:

none provided

------------------------------
PROGRAM OUTPUT
------------------------------

Output from './Build test':

t/00-compile.t ........... ok
# 
# Versions for all modules listed in MYMETA.json (including optional ones):
# 
# === Configure Requires ===
# 
#     Module        Want   Have
#     ------------- ---- ------
#     Module::Build 0.28 0.4231
# 
# === Build Requires ===
# 
#     Module        Want   Have
#     ------------- ---- ------
#     Module::Build 0.28 0.4231
# 
# === Test Requires ===
# 
#     Module              Want     Have
#     ------------------- ---- --------
#     ExtUtils::MakeMaker  any     7.62
#     File::Spec           any     3.75
#     IO::Handle           any     1.48
#     IPC::Open3           any     1.20
#     Test::More           any 1.302190
# 
# === Test Recommends ===
# 
#     Module         Want     Have
#     ---------- -------- --------
#     CPAN::Meta 2.120900 2.150010
# 
# === Runtime Requires ===
# 
#     Module                 Want   Have
#     ---------------------- ---- ------
#     Archive::Zip            any   1.68
#     Date::Format            any   2.24
#     EBook::EPUB             any    0.6
#     Encode                  any   3.18
#     Encode::ZapCP1252       any   0.40
#     File::Basename          any   2.85
#     File::Temp              any 0.2311
#     Getopt::Long           2.34   2.52
#     HTML::Entities          any   3.77
#     HTML::Strip             any   2.10
#     HTML::Tidy::libXML      any   0.02
#     HTTP::Cookies           any   6.10
#     HTTP::Cookies::Mozilla  any  2.036
#     Module::Pluggable       any    5.2
#     Pod::Usage              any   1.69
#     WWW::Mechanize::Sleepy  any    0.7
#     XML::LibXML             any 2.0207
#     YAML::Any               any   1.30
#     strict                  any   1.11
#     warnings                any   1.37
# 
t/00-report-prereqs.t .... ok
t/author-distmeta.t ...... skipped: these tests are for testing by the author
t/author-pod-coverage.t .. skipped: these tests are for testing by the author
t/author-pod-syntax.t .... skipped: these tests are for testing by the author
t/author-portability.t ... skipped: these tests are for testing by the author
t/release-has-version.t .. skipped: these tests are for release candidate testing
All tests successful.
Files=7, Tests=27,  1 wallclock secs ( 0.03 usr  0.01 sys +  0.82 cusr  0.14 csys =  1.00 CPU)
Result: PASS

------------------------------
PREREQUISITES
------------------------------

Prerequisite modules loaded:

requires:

    Module                 Need  Have    
    ---------------------- ----- --------
    Archive::Zip           0     1.68    
    Date::Format           0     2.24    
    EBook::EPUB            0     0.6     
    Encode                 0     3.18    
    Encode::ZapCP1252      0     0.40    
    File::Basename         0     2.85    
    File::Temp             0     0.2311  
    Getopt::Long           2.34  2.52    
    HTML::Entities         0     3.77    
    HTML::Strip            0     2.10    
    HTML::Tidy::libXML     0     0.02    
    HTTP::Cookies          0     6.10    
    HTTP::Cookies::Mozilla 0     2.036   
    Module::Pluggable      0     5.2     
    Pod::Usage             0     1.69    
    strict                 0     1.11    
    warnings               0     1.37    
    WWW::Mechanize::Sleepy 0     0.7     
    XML::LibXML            0     2.0207  
    YAML::Any              0     1.30    

build_requires:

    Module                 Need  Have    
    ---------------------- ----- --------
    ExtUtils::MakeMaker    0     7.62    
    File::Spec             0     3.75    
    IO::Handle             0     1.48    
    IPC::Open3             0     1.20    
    Module::Build          0.28  0.4231  
    perl                   5.006 5.026003
    Test::More             0     1.302190

configure_requires:

    Module                 Need  Have    
    ---------------------- ----- --------
    Module::Build          0.28  0.4231  


------------------------------
ENVIRONMENT AND OTHER CONTEXT
------------------------------

Environment variables:

    LANG = en_US.UTF-8
    PATH = /usr/local/bin:/usr/bin:/bin:/usr/local/sbin:/usr/sbin:/sbin:/home/cpansand/bin/linux-gnu:/home/cpansand/bin/sh:/home/cpansand/bin:/usr/games:/home/cpansand/devel:/home/eserte/src/srezic-misc/scripts
    PERL5LIB = /home/cpansand/.local/share/.cpan/build/2022071816/WWW-Mechanize-Sleepy-0.7-2/blib/arch:/home/cpansand/.local/share/.cpan/build/2022071816/WWW-Mechanize-Sleepy-0.7-2/blib/lib:/home/cpansand/.local/share/.cpan/build/2022071816/HTTP-Cookies-Mozilla-2.036-2/blib/arch:/home/cpansand/.local/share/.cpan/build/2022071816/HTTP-Cookies-Mozilla-2.036-2/blib/lib:/home/cpansand/.local/share/.cpan/build/2022071816/HTML-Tidy-libXML-0.02-2/blib/arch:/home/cpansand/.local/share/.cpan/build/2022071816/HTML-Tidy-libXML-0.02-2/blib/lib:/home/cpansand/.local/share/.cpan/build/2022071816/HTML-Strip-2.10-2/blib/arch:/home/cpansand/.local/share/.cpan/build/2022071816/HTML-Strip-2.10-2/blib/lib:/home/cpansand/.local/share/.cpan/build/2022071816/Encode-ZapCP1252-0.40-2/blib/arch:/home/cpansand/.local/share/.cpan/build/2022071816/Encode-ZapCP1252-0.40-2/blib/lib:/home/cpansand/.local/share/.cpan/build/2022071816/EBook-EPUB-0.6-2/blib/arch:/home/cpansand/.local/share/.cpan/build/2022071816/EBook-EPUB-0.6-2/blib/lib
    PERL5OPT = 
    PERL5_CPANPLUS_IS_RUNNING = 5690
    PERL5_CPAN_IS_RUNNING = 5690
    PERL5_CPAN_IS_RUNNING_IN_RECURSION = 31807,5690
    PERLDOC = -MPod::Perldoc::ToTextOverstrike
    PERL_BATCH = yes
    PERL_CANARY_STABILITY_NOPROMPT = 1
    PERL_CPAN_REPORTER_CONFIG = /var/tmp/cpansmoker-1023/2022071815/cpanreporter_000_config.ini
    PERL_EXTUTILS_AUTOINSTALL = --defaultdeps
    PERL_USE_UNSAFE_INC = 1
    SHELL = /usr/bin/zsh
    TERM = screen
    TMPDIR = /var/tmp/cpansmoker-1023/2022071815

Perl special variables (and OS-specific diagnostics, for MSWin32):

    $^X = /opt/perl-5.26.3/bin/perl
    $UID/$EUID = 1023 / 1023
    $GID = 1023 1023
    $EGID = 1023 1023

Perl module toolchain versions installed:

    Module              Have    
    ------------------- --------
    CPAN                2.18    
    CPAN::Meta          2.150010
    Cwd                 3.75    
    ExtUtils::CBuilder  0.280236
    ExtUtils::Command   7.62    
    ExtUtils::Install   2.20    
    ExtUtils::MakeMaker 7.62    
    ExtUtils::Manifest  1.70    
    ExtUtils::ParseXS   3.35    
    File::Spec          3.75    
    JSON                4.07    
    JSON::PP            4.10    
    Module::Build       0.4231  
    Module::Signature   n/a     
    Parse::CPAN::Meta   2.150010
    Test::Harness       3.38    
    Test::More          1.302190
    YAML                1.30    
    YAML::Syck          1.34    
    version             0.9917  


--

Summary of my perl5 (revision 5 version 26 subversion 3) configuration:
   
  Platform:
    osname=linux
    osvers=4.15.0-154-generic
    archname=x86_64-linux
    uname='linux cloud6.bbbike.org 4.15.0-154-generic #161-ubuntu smp fri jul 30 13:04:17 utc 2021 x86_64 x86_64 x86_64 gnulinux '
    config_args='-ds -e -Dprefix=/opt/perl-5.26.3 -Dcf_email=srezic@cpan.org'
    hint=recommended
    useposix=true
    d_sigaction=define
    useithreads=undef
    usemultiplicity=undef
    use64bitint=define
    use64bitall=define
    uselongdouble=undef
    usemymalloc=n
    default_inc_excludes_dot=define
    bincompat5005=undef
  Compiler:
    cc='cc'
    ccflags ='-fwrapv -fno-strict-aliasing -pipe -fstack-protector-strong -I/usr/local/include -D_LARGEFILE_SOURCE -D_FILE_OFFSET_BITS=64'
    optimize='-O2'
    cppflags='-fwrapv -fno-strict-aliasing -pipe -fstack-protector-strong -I/usr/local/include'
    ccversion=''
    gccversion='7.5.0'
    gccosandvers=''
    intsize=4
    longsize=8
    ptrsize=8
    doublesize=8
    byteorder=12345678
    doublekind=3
    d_longlong=define
    longlongsize=8
    d_longdbl=define
    longdblsize=16
    longdblkind=3
    ivtype='long'
    ivsize=8
    nvtype='double'
    nvsize=8
    Off_t='off_t'
    lseeksize=8
    alignbytes=8
    prototype=define
  Linker and Libraries:
    ld='cc'
    ldflags =' -fstack-protector-strong -L/usr/local/lib'
    libpth=/usr/local/lib /usr/lib/gcc/x86_64-linux-gnu/7/include-fixed /usr/include/x86_64-linux-gnu /usr/lib /lib/x86_64-linux-gnu /lib/../lib /usr/lib/x86_64-linux-gnu /usr/lib/../lib /lib
    libs=-lpthread -lnsl -lgdbm -ldb -ldl -lm -lcrypt -lutil -lc
    perllibs=-lpthread -lnsl -ldl -lm -lcrypt -lutil -lc
    libc=libc-2.27.so
    so=so
    useshrplib=false
    libperl=libperl.a
    gnulibc_version='2.27'
  Dynamic Linking:
    dlsrc=dl_dlopen.xs
    dlext=so
    d_dlsymun=undef
    ccdlflags='-Wl,-E'
    cccdlflags='-fPIC'
    lddlflags='-shared -O2 -L/usr/local/lib -fstack-protector-strong'


Characteristics of this binary (from libperl): 
  Compile-time options:
    HAS_TIMES
    PERLIO_LAYERS
    PERL_COPY_ON_WRITE
    PERL_DONT_CREATE_GVSV
    PERL_MALLOC_WRAP
    PERL_OP_PARENT
    PERL_PRESERVE_IVUV
    USE_64_BIT_ALL
    USE_64_BIT_INT
    USE_LARGE_FILES
    USE_LOCALE
    USE_LOCALE_COLLATE
    USE_LOCALE_CTYPE
    USE_LOCALE_NUMERIC
    USE_LOCALE_TIME
    USE_PERLIO
    USE_PERL_ATOF
  Locally applied patches:
    Devel::PatchPerl 2.08
  Built under linux
  Compiled at Sep 10 2021 22:51:12
  %ENV:
    PERL5LIB="/home/cpansand/.local/share/.cpan/build/2022071816/WWW-Mechanize-Sleepy-0.7-2/blib/arch:/home/cpansand/.local/share/.cpan/build/2022071816/WWW-Mechanize-Sleepy-0.7-2/blib/lib:/home/cpansand/.local/share/.cpan/build/2022071816/HTTP-Cookies-Mozilla-2.036-2/blib/arch:/home/cpansand/.local/share/.cpan/build/2022071816/HTTP-Cookies-Mozilla-2.036-2/blib/lib:/home/cpansand/.local/share/.cpan/build/2022071816/HTML-Tidy-libXML-0.02-2/blib/arch:/home/cpansand/.local/share/.cpan/build/2022071816/HTML-Tidy-libXML-0.02-2/blib/lib:/home/cpansand/.local/share/.cpan/build/2022071816/HTML-Strip-2.10-2/blib/arch:/home/cpansand/.local/share/.cpan/build/2022071816/HTML-Strip-2.10-2/blib/lib:/home/cpansand/.local/share/.cpan/build/2022071816/Encode-ZapCP1252-0.40-2/blib/arch:/home/cpansand/.local/share/.cpan/build/2022071816/Encode-ZapCP1252-0.40-2/blib/lib:/home/cpansand/.local/share/.cpan/build/2022071816/EBook-EPUB-0.6-2/blib/arch:/home/cpansand/.local/share/.cpan/build/2022071816/EBook-EPUB-0.6-2/blib/lib"
    PERL5OPT=""
    PERL5_CPANPLUS_IS_RUNNING="5690"
    PERL5_CPAN_IS_RUNNING="5690"
    PERL5_CPAN_IS_RUNNING_IN_RECURSION="31807,5690"
    PERLDOC="-MPod::Perldoc::ToTextOverstrike"
    PERL_BATCH="yes"
    PERL_CANARY_STABILITY_NOPROMPT="1"
    PERL_CPAN_REPORTER_CONFIG="/var/tmp/cpansmoker-1023/2022071815/cpanreporter_000_config.ini"
    PERL_EXTUTILS_AUTOINSTALL="--defaultdeps"
    PERL_USE_UNSAFE_INC="1"
  @INC:
    /home/cpansand/.local/share/.cpan/build/2022071816/WWW-Mechanize-Sleepy-0.7-2/blib/arch
    /home/cpansand/.local/share/.cpan/build/2022071816/WWW-Mechanize-Sleepy-0.7-2/blib/lib
    /home/cpansand/.local/share/.cpan/build/2022071816/HTTP-Cookies-Mozilla-2.036-2/blib/arch
    /home/cpansand/.local/share/.cpan/build/2022071816/HTTP-Cookies-Mozilla-2.036-2/blib/lib
    /home/cpansand/.local/share/.cpan/build/2022071816/HTML-Tidy-libXML-0.02-2/blib/arch
    /home/cpansand/.local/share/.cpan/build/2022071816/HTML-Tidy-libXML-0.02-2/blib/lib
    /home/cpansand/.local/share/.cpan/build/2022071816/HTML-Strip-2.10-2/blib/arch
    /home/cpansand/.local/share/.cpan/build/2022071816/HTML-Strip-2.10-2/blib/lib
    /home/cpansand/.local/share/.cpan/build/2022071816/Encode-ZapCP1252-0.40-2/blib/arch
    /home/cpansand/.local/share/.cpan/build/2022071816/Encode-ZapCP1252-0.40-2/blib/lib
    /home/cpansand/.local/share/.cpan/build/2022071816/EBook-EPUB-0.6-2/blib/arch
    /home/cpansand/.local/share/.cpan/build/2022071816/EBook-EPUB-0.6-2/blib/lib
    /opt/perl-5.26.3/lib/site_perl/5.26.3/x86_64-linux
    /opt/perl-5.26.3/lib/site_perl/5.26.3
    /opt/perl-5.26.3/lib/5.26.3/x86_64-linux
    /opt/perl-5.26.3/lib/5.26.3
    .