Win32-CommandLine v0.960 Perl 5 v5.32.1 MSWin32-x86-multi-thread-64int
- Status
- Pass
- From
- gregor herrmann
- Dist
-
Win32-CommandLine v0.960
- Platform
- Perl 5 v5.32.1 MSWin32-x86-multi-thread-64int
- Date
- 2022-03-16 18:39:50
- ID
- f06a8fa2-6d5a-1014-8029-0b45c1b81f1c
This distribution has been tested as part of the CPAN Testers
project, supporting the Perl programming language. See
http://wiki.cpantesters.org/ for more information or email
questions to cpan-testers-discuss@perl.org
--
Dear Roy Ivy III,
This is a computer-generated report for Win32-CommandLine-0.960
on perl 5.32.1, created by CPAN-Reporter-1.2018.
Thank you for uploading your work to CPAN. Congratulations!
All tests were successful.
Sections of this report:
* Tester comments
* Program output
* Prerequisites
* Environment and other context
------------------------------
TESTER COMMENTS
------------------------------
Additional comments from tester:
this report is from an automated smoke testing program
and was not reviewed by a human for accuracy
------------------------------
PROGRAM OUTPUT
------------------------------
Output from 'C:\Strawberry\perl\bin\perl.exe ./Build test':
Building Win32-CommandLine
t\00.signature.t ........... skipped: Signature test [to run: set TEST_SIGNATURE]
# MSWin32, perl v5.032001, C:\Strawberry\perl\bin\perl.exe
# Win32::CommandLine 0.960, $Win32::CommandLine->VERSION()=0.960
t\01.load.t ................ ok
t\11.commandline.t ......... ok
t\12.argv-ENVnullglob-f.t .. ok
t\12.argv-ENVnullglob-t.t .. ok
t\12.argv-tilde.t .......... ok
t\12.argv.t ................ ok
t\13.xx.t .................. ok
t\14.subshells.t ........... ok
t\15._ltrim.t .............. ok
t\80.style.t ............... skipped: Author tests [to run: set TEST_AUTHOR]
t\90.exports.t ............. skipped: Author tests [to run: set TEST_AUTHOR]
t\91.pod-coverage.t ........ skipped: Author tests [to run: set TEST_AUTHOR]
t\91.pod.t ................. skipped: Author tests [to run: set TEST_AUTHOR]
t\95.critic-tests.t ........ skipped: Author tests [to run: set TEST_AUTHOR]
t\95.critic.t .............. skipped: Author tests [to run: set TEST_AUTHOR]
t\96.version.t ............. skipped: Author tests [to run: set TEST_AUTHOR]
t\97.license.t ............. skipped: Author tests [to run: set TEST_AUTHOR]
t\97.meta.t ................ skipped: Author tests [to run: set TEST_AUTHOR]
t\97.perl-minv.t ........... skipped: Author tests [to run: set TEST_AUTHOR]
t\99.distribution.t ........ skipped: Author tests [to run: set TEST_AUTHOR]
t\99.kwalitee.t ............ skipped: Author tests [to run: set TEST_AUTHOR]
t\99.signature.t ........... skipped: Release tests [to run: set TEST_RELEASE]
All tests successful.
Files=23, Tests=274, 214 wallclock secs ( 0.20 usr + 0.05 sys = 0.25 CPU)
Result: PASS
------------------------------
PREREQUISITES
------------------------------
Prerequisite modules loaded:
requires:
Module Need Have
----------------------- ------ --------
Carp::Assert 0 0.21
File::Globstar 0 0.6
File::Which 0 1.23
perl v5.8.8 5.032001
Pod::Usage 1.30 2.01
version 0.74 0.9928
build_requires:
Module Need Have
----------------------- ------ --------
Carp 0 1.50
Config 0 5.032001
CPAN::Meta 0 2.150010
Cwd 0 3.78
ExtUtils::CBuilder 0 0.280235
ExtUtils::Manifest 1.54 1.73
File::Basename 0 2.85
File::Find 0 1.37
File::Glob 0 1.33
File::Path 0 2.18
File::Spec 0 3.78
File::Spec::Functions 0 3.78
File::Which 0 1.23
FindBin 0 1.52
IO::File 0 1.48
IPC::Run3 0 0.048
Module::Build 0.421 0.4231
perl v5.6.1 5.032001
Probe::Perl 0 0.03
TAP::Formatter::Color 0 3.43_03
TAP::Formatter::Console 0 3.43_03
TAP::Harness 0 3.43_03
Test::CPAN::Meta 0 0.25
Test::CPAN::Meta::JSON 0 0.16
Test::Differences 0 0.69
Test::More 0 1.302190
Text::Template 1.44 1.60
URI 0 5.10
version 0.77 0.9928
configure_requires:
Module Need Have
----------------------- ------ --------
Config 0 5.032001
Cwd 0 3.78
ExtUtils::Manifest 1.54 1.73
File::Basename 0 2.85
File::Find 0 1.37
File::Glob 0 1.33
File::Path 0 2.18
File::Spec 0 3.78
File::Spec::Functions 0 3.78
File::Which 0 1.23
FindBin 0 1.52
IO::File 0 1.48
Module::Build 0.421 0.4231
perl v5.6.1 5.032001
TAP::Formatter::Color 0 3.43_03
TAP::Formatter::Console 0 3.43_03
TAP::Harness 0 3.43_03
Text::Template 1.44 1.60
URI 0 5.10
version 0.77 0.9928
------------------------------
ENVIRONMENT AND OTHER CONTEXT
------------------------------
Environment variables:
AUTOMATED_TESTING = 1
COMSPEC = C:\WINDOWS.0\system32\cmd.exe
NONINTERACTIVE_TESTING = 1
NUMBER_OF_PROCESSORS = 1
PATH = C:\WINDOWS.0\system32;C:\strawberry\c\bin;C:\strawberry\perl\site\bin;C:\strawberry\perl\bin
PERL5LIB =
PERL5OPT =
PERL5_CPANPLUS_IS_RUNNING = 4088
PERL5_CPAN_IS_RUNNING = 4088
PERL5_CPAN_IS_RUNNING_IN_RECURSION = 1336,4088
PERL_CR_SMOKER_CURRENT = Win32-CommandLine-0.960
PERL_EXTUTILS_AUTOINSTALL = --defaultdeps
PERL_MM_USE_DEFAULT = 1
PERL_USE_UNSAFE_INC = 1
PROCESSOR_IDENTIFIER = x86 Family 6 Model 14 Stepping 8, GenuineIntel
TEMP = C:\DOKUME~1\smoker\LOKALE~1\Temp
TERM = dumb
Perl special variables (and OS-specific diagnostics, for MSWin32):
$^X = C:\Strawberry\perl\bin\perl.exe
$UID/$EUID = 0 / 0
$GID = 0
$EGID = 0
Win32::GetOSName = WinXP/.Net
Win32::GetOSVersion = Service Pack 3, 5, 1, 2600, 2, 3, 0, 256, 1
Win32::FsType = NTFS
Win32::IsAdminUser = 1
Perl module toolchain versions installed:
Module Have
------------------- --------
CPAN 2.33
CPAN::Meta 2.150010
Cwd 3.78
ExtUtils::CBuilder 0.280235
ExtUtils::Command 7.64
ExtUtils::Install 2.20
ExtUtils::MakeMaker 7.64
ExtUtils::Manifest 1.73
ExtUtils::ParseXS 3.44
File::Spec 3.78
JSON 4.05
JSON::PP 4.07
Module::Build 0.4231
Module::Signature 0.88
Parse::CPAN::Meta 2.150010
Test::Harness 3.43_03
Test::More 1.302190
YAML 1.30
YAML::Syck 1.34
version 0.9928
--
Summary of my perl5 (revision 5 version 32 subversion 1) configuration:
Platform:
osname=MSWin32
osvers=10.0.19042.746
archname=MSWin32-x86-multi-thread-64int
uname='Win32 strawberry-perl 5.32.1.1 #1 Sun Jan 24 12:17:47 2021 i386'
config_args='undef'
hint=recommended
useposix=true
d_sigaction=undef
useithreads=define
usemultiplicity=define
use64bitint=define
use64bitall=undef
uselongdouble=undef
usemymalloc=n
default_inc_excludes_dot=define
bincompat5005=undef
Compiler:
cc='gcc'
ccflags =' -DWIN32 -D__USE_MINGW_ANSI_STDIO -DPERL_TEXTMODE_SCRIPTS -DPERL_IMPLICIT_CONTEXT -DPERL_IMPLICIT_SYS -DUSE_PERLIO -fwrapv -fno-strict-aliasing -mms-bitfields'
optimize='-s -O2'
cppflags='-DWIN32'
ccversion=''
gccversion='8.3.0'
gccosandvers=''
intsize=4
longsize=4
ptrsize=4
doublesize=8
byteorder=12345678
doublekind=3
d_longlong=define
longlongsize=8
d_longdbl=define
longdblsize=12
longdblkind=3
ivtype='long long'
ivsize=8
nvtype='double'
nvsize=8
Off_t='long long'
lseeksize=8
alignbytes=8
prototype=define
Linker and Libraries:
ld='g++'
ldflags ='-s -L"C:\STRAWB~1\perl\lib\CORE" -L"C:\STRAWB~1\c\lib"'
libpth=C:\STRAWB~1\c\lib C:\STRAWB~1\c\i686-w64-mingw32\lib C:\STRAWB~1\c\lib\gcc\i686-w64-mingw32\8.3.0
libs= -lmoldname -lkernel32 -luser32 -lgdi32 -lwinspool -lcomdlg32 -ladvapi32 -lshell32 -lole32 -loleaut32 -lnetapi32 -luuid -lws2_32 -lmpr -lwinmm -lversion -lodbc32 -lodbccp32 -lcomctl32
perllibs= -lmoldname -lkernel32 -luser32 -lgdi32 -lwinspool -lcomdlg32 -ladvapi32 -lshell32 -lole32 -loleaut32 -lnetapi32 -luuid -lws2_32 -lmpr -lwinmm -lversion -lodbc32 -lodbccp32 -lcomctl32
libc=
so=dll
useshrplib=true
libperl=libperl532.a
gnulibc_version=''
Dynamic Linking:
dlsrc=dl_win32.xs
dlext=xs.dll
d_dlsymun=undef
ccdlflags=' '
cccdlflags=' '
lddlflags='-mdll -s -L"C:\STRAWB~1\perl\lib\CORE" -L"C:\STRAWB~1\c\lib"'
Characteristics of this binary (from libperl):
Compile-time options:
HAS_TIMES
HAVE_INTERP_INTERN
MULTIPLICITY
PERLIO_LAYERS
PERL_COPY_ON_WRITE
PERL_DONT_CREATE_GVSV
PERL_IMPLICIT_CONTEXT
PERL_IMPLICIT_SYS
PERL_MALLOC_WRAP
PERL_OP_PARENT
PERL_PRESERVE_IVUV
USE_64_BIT_INT
USE_ITHREADS
USE_LARGE_FILES
USE_LOCALE
USE_LOCALE_COLLATE
USE_LOCALE_CTYPE
USE_LOCALE_NUMERIC
USE_LOCALE_TIME
USE_PERLIO
USE_PERL_ATOF
Built under MSWin32
Compiled at Jan 24 2021 12:22:49
%ENV:
PERL5_CPANPLUS_IS_RUNNING="4088"
PERL5_CPAN_IS_RUNNING="4088"
PERL5_CPAN_IS_RUNNING_IN_RECURSION="1336,4088"
PERL_CR_SMOKER_CURRENT="Win32-CommandLine-0.960"
PERL_EXTUTILS_AUTOINSTALL="--defaultdeps"
PERL_MM_USE_DEFAULT="1"
PERL_USE_UNSAFE_INC="1"
@INC:
C:/Strawberry/perl/site/lib/MSWin32-x86-multi-thread-64int
C:/Strawberry/perl/site/lib
C:/Strawberry/perl/vendor/lib
C:/Strawberry/perl/lib
.