DBIx-Class-Helpers v2.036000 Perl 5 v5.37.7 x86_64-linux-thread-multi
- Status
- Pass
- From
- Andreas J. König (ANDK)
- Dist
-
DBIx-Class-Helpers v2.036000
- Platform
- Perl 5 v5.37.7 x86_64-linux-thread-multi
- Date
- 2023-01-19 17:15:57
- ID
- f0716c9c-981c-11ed-a4ea-1c824f93e27b
This distribution has been tested as part of the CPAN Testers
project, supporting the Perl programming language. See
http://wiki.cpantesters.org/ for more information or email
questions to cpan-testers-discuss@perl.org
--
Dear Arthur Axel 'fREW' Schmidt,
This is a computer-generated report for DBIx-Class-Helpers-2.036000
on perl 5.37.7, created by CPAN-Reporter-1.2018.
Thank you for uploading your work to CPAN. Congratulations!
All tests were successful.
Sections of this report:
* Tester comments
* Program output
* Prerequisites
* Environment and other context
------------------------------
TESTER COMMENTS
------------------------------
Additional comments from tester:
this report is from an automated smoke testing program
and was not reviewed by a human for accuracy
------------------------------
PROGRAM OUTPUT
------------------------------
Output from '/usr/bin/make test':
PERL_DL_NONLAZY=1 "/tmp/basesmoker-reloperl-zkvw/bin/perl" "-MExtUtils::Command::MM" "-MTest::Harness" "-e" "undef *Test::Harness::Switches; test_harness(0, 'blib/lib', 'blib/arch')" t/*.t t/ResultClass/*.t t/ResultSet/*.t t/ResultSet/DateMethods1/*.t t/ResultSet/RemoveColumns/*.t t/ResultSet/Shortcut/*.t t/ResultSet/Shortcut/Search/*.t t/Row/*.t t/Schema/*.t t/Schema/Verifier/*.t
t/author-pod-syntax.t ........................ skipped: these tests are for testing by the author
t/bug-1.t .................................... ok
t/ResultClass/Tee.t .......................... ok
t/ResultSet/Bare.t ........................... ok
t/ResultSet/CorrelateRelationship.t .......... ok
t/ResultSet/DateMethods1/bugs.t .............. ok
t/ResultSet/DateMethods1/mssql.t ............. ok
t/ResultSet/DateMethods1/mysql.t ............. ok
t/ResultSet/DateMethods1/oracle.t ............ ok
t/ResultSet/DateMethods1/pg.t ................ ok
t/ResultSet/DateMethods1/sqlite.t ............ ok
t/ResultSet/Errors.t ......................... ok
t/ResultSet/Explain.t ........................ ok
t/ResultSet/IgnoreWantarray.t ................ ok
t/ResultSet/Me.t ............................. ok
t/ResultSet/NoColumns.t ...................... ok
t/ResultSet/OneRow.t ......................... ok
t/ResultSet/Random.t ......................... ok
t/ResultSet/RemoveColumns.t .................. ok
t/ResultSet/RemoveColumns/_resolved_attrs.t .. ok
t/ResultSet/ResultClassDWIM.t ................ ok
t/ResultSet/SearchOr.t ....................... ok
t/ResultSet/SetOperations.t .................. ok
t/ResultSet/Shortcut/AddColumns.t ............ ok
t/ResultSet/Shortcut/Columns.t ............... ok
t/ResultSet/Shortcut/Distinct.t .............. ok
t/ResultSet/Shortcut/GroupBy.t ............... ok
t/ResultSet/Shortcut/HasRows.t ............... ok
t/ResultSet/Shortcut/HRI.t ................... ok
t/ResultSet/Shortcut/Limit.t ................. ok
t/ResultSet/Shortcut/LimitedPage.t ........... ok
t/ResultSet/Shortcut/OrderBy.t ............... ok
t/ResultSet/Shortcut/OrderByMagic.t .......... ok
t/ResultSet/Shortcut/Prefetch.t .............. ok
t/ResultSet/Shortcut/RemoveColumns.t ......... ok
t/ResultSet/Shortcut/ResultsExist.t .......... ok
t/ResultSet/Shortcut/Rows.t .................. ok
t/ResultSet/Shortcut/Search/Base.t ........... ok
t/ResultSet/Shortcut/Search/Like.t ........... ok
t/ResultSet/Shortcut/Search/NotLike.t ........ ok
t/ResultSet/Shortcut/Search/NotNull.t ........ ok
t/ResultSet/Shortcut/Search/Null.t ........... ok
t/Row/CleanResultSet.t ....................... ok
t/Row/JoinTable.t ............................ ok
t/Row/NumifyGet.t ............................ ok
t/Row/OnColumnChange.t ....................... ok
t/Row/OnColumnMissing.t ...................... ok
t/Row/ProxyResultSetMethod.t ................. ok
t/Row/ProxyResultSetUpdate.t ................. ok
t/Row/RelationshipDWIM.t ..................... ok
t/Row/SelfResultSet.t ........................ ok
t/Row/StorageValues.t ........................ ok
t/Row/SubClass.t ............................. ok
t/Row/ToJSON.t ............................... ok
t/Schema/DateTime.t .......................... ok
t/Schema/DidYouMean.t ........................ ok
t/Schema/GenerateSource.t .................... ok
t/Schema/LintContents.t ...................... ok
t/Schema/Verifier.t .......................... ok
t/Schema/Verifier/C3.t ....................... ok
t/Schema/Verifier/ColumnInfo.t ............... ok
t/Schema/Verifier/Parent.t ................... ok
t/Schema/Verifier/RelationshipColumnName.t ... ok
t/utilities.t ................................ ok
All tests successful.
Files=64, Tests=230, 23 wallclock secs ( 0.22 usr 0.09 sys + 21.02 cusr 2.12 csys = 23.45 CPU)
Result: PASS
------------------------------
PREREQUISITES
------------------------------
Prerequisite modules loaded:
requires:
Module Need Have
-------------------------- -------- --------
Carp::Clan 6.04 6.08
DBIx::Class 0.0826 0.082843
DBIx::Class::Candy 0.003001 0.005003
DBIx::Introspector 0.001002 0.001005
Lingua::EN::Inflect 0 1.905
List::Util 0 1.63
Module::Runtime 0 0.016
Moo 2 2.005005
namespace::clean 0.23 0.27
parent 0 0.239
Safe::Isa 0 1.000010
Sub::Exporter::Progressive 0.001006 0.001013
Text::Brew 0 0.02
Try::Tiny 0 0.31
build_requires:
Module Need Have
-------------------------- -------- --------
aliased 0.34 0.34
DateTime::Format::SQLite 0 0.11
DBD::SQLite 0 1.72
ExtUtils::MakeMaker 0 7.66
Test::Deep 0 1.204
Test::Fatal 0.006 0.017
Test::More 0.94 1.302191
Test::Roo 1.003 1.004
configure_requires:
Module Need Have
-------------------------- -------- --------
ExtUtils::MakeMaker 0 7.66
------------------------------
ENVIRONMENT AND OTHER CONTEXT
------------------------------
Environment variables:
AUTOMATED_TESTING = 1
LANG = en_US.UTF-8
PATH = /home/sand/bin:/usr/local/bin:/usr/local/sbin:/usr/sbin:/usr/bin:/sbin:/bin:/usr/games:/usr/local/games:/snap/bin:/usr/local/perl/bin:/usr/X11/bin
PERL = /tmp/basesmoker-reloperl-zkvw/bin/perl
PERL5LIB = /tmp/loop_over_bdir-2019-uac5yV/CGI-Application-NetNewsIface-0.0204-0/blib/arch:/tmp/loop_over_bdir-2019-uac5yV/CGI-Application-NetNewsIface-0.0204-0/blib/lib:/tmp/loop_over_bdir-2019-uac5yV/LCFG-Build-Skeleton-0.5.0-0/blib/arch:/tmp/loop_over_bdir-2019-uac5yV/LCFG-Build-Skeleton-0.5.0-0/blib/lib
PERL5OPT =
PERL5_CPANPLUS_IS_RUNNING = 2027
PERL5_CPAN_IS_RUNNING = 2027
PERL_CANARY_STABILITY_NOPROMPT = 1
PERL_MM_USE_DEFAULT = 1
PERL_USE_UNSAFE_INC = 1
SHELL = /usr/bin/zsh
TERM = screen
Perl special variables (and OS-specific diagnostics, for MSWin32):
$^X = /tmp/basesmoker-reloperl-zkvw/bin/perl
$UID/$EUID = 1005 / 1005
$GID = 1005 1005
$EGID = 1005 1005
Perl module toolchain versions installed:
Module Have
------------------- --------
CPAN 2.34
CPAN::Meta 2.150010
Cwd 3.88
ExtUtils::CBuilder 0.280238
ExtUtils::Command 7.66
ExtUtils::Install 2.20
ExtUtils::MakeMaker 7.66
ExtUtils::Manifest 1.73
ExtUtils::ParseXS 3.49
File::Spec 3.88
JSON 4.10
JSON::PP 4.16
Module::Build 0.4232
Module::Signature 0.88
Parse::CPAN::Meta 2.150010
Test::Harness 3.44
Test::More 1.302191
YAML 1.30
YAML::Syck 1.34
version 0.9929
--
Summary of my perl5 (revision 5 version 37 subversion 7) configuration:
Commit id: b1163c2ae562670f2bf4c7700087f0c9d0ad8fe5
Platform:
osname=linux
osvers=5.4.0-136-generic
archname=x86_64-linux-thread-multi
uname='linux k93focal 5.4.0-136-generic #153-ubuntu smp thu nov 24 15:56:58 utc 2022 x86_64 x86_64 x86_64 gnulinux '
config_args='-Dprefix=/home/sand/src/perl/repoperls/installed-perls/host/k93focal/v5.37.7/d119 -Dmyhostname=k93focal -Dinstallusrbinperl=n -Uversiononly -Dusedevel -des -Ui_db -Dlibswanted=cl pthread socket inet nsl gdbm dbm malloc dl ld sun m crypt sec util c cposix posix ucb BSD gdbm_compat -Duseithreads -Uuselongdouble -DEBUGGING=both'
hint=recommended
useposix=true
d_sigaction=define
useithreads=define
usemultiplicity=define
use64bitint=define
use64bitall=define
uselongdouble=undef
usemymalloc=n
default_inc_excludes_dot=define
Compiler:
cc='cc'
ccflags ='-D_REENTRANT -D_GNU_SOURCE -fwrapv -DDEBUGGING -fno-strict-aliasing -pipe -fstack-protector-strong -I/usr/local/include -D_LARGEFILE_SOURCE -D_FILE_OFFSET_BITS=64'
optimize='-O2 -g'
cppflags='-D_REENTRANT -D_GNU_SOURCE -fwrapv -DDEBUGGING -fno-strict-aliasing -pipe -fstack-protector-strong -I/usr/local/include'
ccversion=''
gccversion='9.4.0'
gccosandvers=''
intsize=4
longsize=8
ptrsize=8
doublesize=8
byteorder=12345678
doublekind=3
d_longlong=define
longlongsize=8
d_longdbl=define
longdblsize=16
longdblkind=3
ivtype='long'
ivsize=8
nvtype='double'
nvsize=8
Off_t='off_t'
lseeksize=8
alignbytes=8
prototype=define
Linker and Libraries:
ld='cc'
ldflags =' -fstack-protector-strong -L/usr/local/lib'
libpth=/usr/local/lib /usr/lib/x86_64-linux-gnu /usr/lib /usr/lib64
libs=-lpthread -lnsl -ldl -lm -lcrypt -lutil -lc
perllibs=-lpthread -lnsl -ldl -lm -lcrypt -lutil -lc
libc=libc-2.31.so
so=so
useshrplib=false
libperl=libperl.a
gnulibc_version='2.31'
Dynamic Linking:
dlsrc=dl_dlopen.xs
dlext=so
d_dlsymun=undef
ccdlflags='-Wl,-E'
cccdlflags='-fPIC'
lddlflags='-shared -O2 -g -L/usr/local/lib -fstack-protector-strong'
Characteristics of this binary (from libperl):
Compile-time options:
DEBUGGING
HAS_TIMES
MULTIPLICITY
PERLIO_LAYERS
PERL_COPY_ON_WRITE
PERL_DONT_CREATE_GVSV
PERL_HASH_FUNC_SIPHASH13
PERL_HASH_USE_SBOX32
PERL_MALLOC_WRAP
PERL_OP_PARENT
PERL_PRESERVE_IVUV
PERL_TRACK_MEMPOOL
PERL_USE_DEVEL
PERL_USE_SAFE_PUTENV
USE_64_BIT_ALL
USE_64_BIT_INT
USE_ITHREADS
USE_LARGE_FILES
USE_LOCALE
USE_LOCALE_COLLATE
USE_LOCALE_CTYPE
USE_LOCALE_NUMERIC
USE_LOCALE_TIME
USE_PERLIO
USE_PERL_ATOF
USE_REENTRANT_API
USE_THREAD_SAFE_LOCALE
Built under linux
Compiled at Jan 17 2023 19:30:57
%ENV:
PERL="/tmp/basesmoker-reloperl-zkvw/bin/perl"
PERL5LIB="/tmp/loop_over_bdir-2019-uac5yV/CGI-Application-NetNewsIface-0.0204-0/blib/arch:/tmp/loop_over_bdir-2019-uac5yV/CGI-Application-NetNewsIface-0.0204-0/blib/lib:/tmp/loop_over_bdir-2019-uac5yV/LCFG-Build-Skeleton-0.5.0-0/blib/arch:/tmp/loop_over_bdir-2019-uac5yV/LCFG-Build-Skeleton-0.5.0-0/blib/lib"
PERL5OPT=""
PERL5_CPANPLUS_IS_RUNNING="2027"
PERL5_CPAN_IS_RUNNING="2027"
PERL_CANARY_STABILITY_NOPROMPT="1"
PERL_MM_USE_DEFAULT="1"
PERL_USE_UNSAFE_INC="1"
@INC:
/tmp/loop_over_bdir-2019-uac5yV/CGI-Application-NetNewsIface-0.0204-0/blib/arch
/tmp/loop_over_bdir-2019-uac5yV/CGI-Application-NetNewsIface-0.0204-0/blib/lib
/tmp/loop_over_bdir-2019-uac5yV/LCFG-Build-Skeleton-0.5.0-0/blib/arch
/tmp/loop_over_bdir-2019-uac5yV/LCFG-Build-Skeleton-0.5.0-0/blib/lib
/home/sand/src/perl/repoperls/installed-perls/host/k93focal/v5.37.7/d119/lib/site_perl/5.37.7/x86_64-linux-thread-multi
/home/sand/src/perl/repoperls/installed-perls/host/k93focal/v5.37.7/d119/lib/site_perl/5.37.7
/home/sand/src/perl/repoperls/installed-perls/host/k93focal/v5.37.7/d119/lib/5.37.7/x86_64-linux-thread-multi
/home/sand/src/perl/repoperls/installed-perls/host/k93focal/v5.37.7/d119/lib/5.37.7
.