ExtUtils-ParseXS v3.35 Perl 5 v5.8.5 x86_64-linux

Status
Pass
From
Nigel Horne
Dist
ExtUtils-ParseXS v3.35
Platform
Perl 5 v5.8.5 x86_64-linux
Date
2019-02-25 15:13:43
ID
f07f041c-390f-11e9-aeca-fd4c1a3aa5ed
This distribution has been tested as part of the CPAN Testers
project, supporting the Perl programming language.  See
http://wiki.cpantesters.org/ for more information or email
questions to cpan-testers-discuss@perl.org


--
Dear Steffen Mueller,

This is a computer-generated report for ExtUtils-ParseXS-3.35
on perl 5.8.5, created by CPAN-Reporter-1.2018.

Thank you for uploading your work to CPAN.  Congratulations!
All tests were successful.

Sections of this report:

    * Tester comments
    * Program output
    * Prerequisites
    * Environment and other context

------------------------------
TESTER COMMENTS
------------------------------

Additional comments from tester:

this report is from an automated smoke testing program
and was not reviewed by a human for accuracy

------------------------------
PROGRAM OUTPUT
------------------------------

Output from '/usr/bin/make test':

PERL_DL_NONLAZY=1 "/home/njh/perl5/perlbrew/perls/perl-5.8.5/bin/perl" "-MExtUtils::Command::MM" "-MTest::Harness" "-e" "undef *Test::Harness::Switches; test_harness(0, 'blib/lib', 'blib/arch')" t/*.t
t/001-basic.t ............................ ok
t/002-more.t ............................. ok
t/101-standard_typemap_locations.t ....... ok
t/102-trim_whitespace.t .................. ok
t/103-tidy_type.t ........................ ok
t/104-map_type.t ......................... ok
t/105-valid_proto_string.t ............... ok
t/106-process_typemaps.t ................. ok
t/003-usage.t ............................ ok
t/108-map_type.t ......................... ok
t/109-standard_XS_defs.t ................. ok
t/111-analyze_preprocessor_statements.t .. ok
t/110-assign_func_args.t ................. ok
t/112-set_cond.t ......................... ok
t/113-check_cond_preproc_statements.t .... ok
t/114-blurt_death_Warn.t ................. ok
t/115-avoid-noise.t ...................... ok
t/501-t-compile.t ........................ ok
t/510-t-bare.t ........................... ok
t/511-t-whitespace.t ..................... ok
t/512-t-file.t ........................... ok
t/513-t-merge.t .......................... ok
t/514-t-embed.t .......................... ok
t/515-t-cmd.t ............................ ok
t/516-t-clone.t .......................... ok
t/517-t-targetable.t ..................... ok
t/600-t-compat.t ......................... ok
All tests successful.
Files=27, Tests=264,  3 wallclock secs ( 0.13 usr  0.07 sys +  3.68 cusr  1.04 csys =  4.92 CPU)
Result: PASS

------------------------------
PREREQUISITES
------------------------------

Prerequisite modules loaded:

requires:

    Module              Need Have    
    ------------------- ---- --------
    Carp                0    1.03    
    Cwd                 0    3.2701  
    DynaLoader          0    1.05    
    Exporter            5.57 5.58    
    ExtUtils::CBuilder  0    0.280230
    ExtUtils::MakeMaker 6.46 7.34    
    File::Basename      0    2.73    
    File::Spec          0    3.2701  
    Symbol              0    1.05    
    Test::More          0.47 1.302141

build_requires:

    Module              Need Have    
    ------------------- ---- --------
    ExtUtils::MakeMaker 0    7.34    

configure_requires:

    Module              Need Have    
    ------------------- ---- --------
    ExtUtils::MakeMaker 6.46 7.34    


------------------------------
ENVIRONMENT AND OTHER CONTEXT
------------------------------

Environment variables:

    AUTOMATED_TESTING = 1
    HARNESS_OPTIONS = j2
    NONINTERACTIVE_TESTING = 1
    PATH = /home/njh/perl5/perlbrew/bin:/home/njh/perl5/perlbrew/perls/perl-5.8.5/bin:/home/njh/src/njh/smoker/bin:/usr/bin:/bin
    PERL5LIB = /home/njh/.cpan/build/ExtUtils-InstallPaths-0.012-48/blib/arch:/home/njh/.cpan/build/ExtUtils-InstallPaths-0.012-48/blib/lib:/home/njh/.cpan/build/ExtUtils-Helpers-0.026-48/blib/arch:/home/njh/.cpan/build/ExtUtils-Helpers-0.026-48/blib/lib:/home/njh/.cpan/build/Text-ParseWords-3.30-4/blib/arch:/home/njh/.cpan/build/Text-ParseWords-3.30-4/blib/lib:/home/njh/.cpan/build/ExtUtils-Config-0.008-48/blib/arch:/home/njh/.cpan/build/ExtUtils-Config-0.008-48/blib/lib
    PERL5OPT = 
    PERL5_CPANPLUS_IS_RUNNING = 20277
    PERL5_CPAN_IS_RUNNING = 20277
    PERLBREW_HOME = /home/njh/.perlbrew
    PERLBREW_MANPATH = /home/njh/perl5/perlbrew/perls/perl-5.8.5/man
    PERLBREW_PATH = /home/njh/perl5/perlbrew/bin:/home/njh/perl5/perlbrew/perls/perl-5.8.5/bin
    PERLBREW_PERL = perl-5.8.5
    PERLBREW_ROOT = /home/njh/perl5/perlbrew
    PERLBREW_SHELLRC_VERSION = 0.86
    PERLBREW_VERSION = 0.86
    PERL_MM_USE_DEFAULT = 1
    PERL_USE_UNSAFE_INC = 1
    SHELL = /bin/sh
    TMPDIR = /tmp/testwrapper.20266

Perl special variables (and OS-specific diagnostics, for MSWin32):

    $^X = /home/njh/perl5/perlbrew/perls/perl-5.8.5/bin/perl
    $UID/$EUID = 1000 / 1000
    $GID = 1000 1000
    $EGID = 1000 1000

Perl module toolchain versions installed:

    Module              Have    
    ------------------- --------
    CPAN                2.22    
    CPAN::Meta          2.143240
    Cwd                 3.2701  
    ExtUtils::CBuilder  0.280230
    ExtUtils::Command   7.34    
    ExtUtils::Install   2.06    
    ExtUtils::MakeMaker 7.34    
    ExtUtils::Manifest  1.70    
    ExtUtils::ParseXS   n/a     
    File::Spec          3.2701  
    JSON                4.02    
    JSON::PP            4.00    
    Module::Build       0.32    
    Module::Signature   n/a     
    Parse::CPAN::Meta   1.4414  
    Test::Harness       3.42    
    Test::More          1.302141
    YAML                n/a     
    YAML::Syck          1.31    
    version             0.9924  


--

Summary of my perl5 (revision 5 version 8 subversion 5) configuration:
  Platform:
    osname=linux, osvers=2.6.32-042stab127.2, archname=x86_64-linux
    uname='linux builder 2.6.32-042stab127.2 #1 smp thu jan 4 16:41:44 msk 2018 x86_64 gnulinux '
    config_args='-de -Dprefix=/home/njh/perl5/perlbrew/perls/perl-5.8.5 -Aeval:scriptdir=/home/njh/perl5/perlbrew/perls/perl-5.8.5/bin'
    hint=recommended, useposix=true, d_sigaction=define
    usethreads=undef use5005threads=undef useithreads=undef usemultiplicity=undef
    useperlio=define d_sfio=undef uselargefiles=define usesocks=undef
    use64bitint=define use64bitall=define uselongdouble=undef
    usemymalloc=n, bincompat5005=undef
  Compiler:
    cc='cc', ccflags ='-fno-strict-aliasing -pipe -I/usr/local/include -D_LARGEFILE_SOURCE -D_FILE_OFFSET_BITS=64',
    optimize='-O2',
    cppflags='-fno-strict-aliasing -pipe -I/usr/local/include'
    ccversion='', gccversion='6.3.0 20170516', gccosandvers=''
    intsize=4, longsize=8, ptrsize=8, doublesize=8, byteorder=12345678
    d_longlong=define, longlongsize=8, d_longdbl=define, longdblsize=16
    ivtype='long', ivsize=8, nvtype='double', nvsize=8, Off_t='off_t', lseeksize=8
    alignbytes=8, prototype=define
  Linker and Libraries:
    ld='cc', ldflags =' -L/usr/local/lib'
    libpth=/usr/local/lib /lib/x86_64-linux-gnu /lib/../lib /usr/lib/x86_64-linux-gnu /usr/lib/../lib /lib /usr/lib
    libs=-lnsl -lgdbm -ldb -ldl -lm -lcrypt -lutil -lc -lgdbm_compat
    perllibs=-lnsl -ldl -lm -lcrypt -lutil -lc -lgdbm_compat
    libc=libc-2.24.so, so=so, useshrplib=false, libperl=libperl.a
    gnulibc_version='2.24'
  Dynamic Linking:
    dlsrc=dl_dlopen.xs, dlext=so, d_dlsymun=undef, ccdlflags='-Wl,-E'
    cccdlflags='-fpic', lddlflags='-shared -L/usr/local/lib'


Characteristics of this binary (from libperl): 
  Compile-time options: USE_64_BIT_INT USE_64_BIT_ALL USE_LARGE_FILES
  Locally applied patches:
	Devel::PatchPerl 1.52
  Built under linux
  Compiled at Jan  2 2019 12:08:34
  %ENV:
    PERL5LIB="/home/njh/.cpan/build/ExtUtils-InstallPaths-0.012-48/blib/arch:/home/njh/.cpan/build/ExtUtils-InstallPaths-0.012-48/blib/lib:/home/njh/.cpan/build/ExtUtils-Helpers-0.026-48/blib/arch:/home/njh/.cpan/build/ExtUtils-Helpers-0.026-48/blib/lib:/home/njh/.cpan/build/Text-ParseWords-3.30-4/blib/arch:/home/njh/.cpan/build/Text-ParseWords-3.30-4/blib/lib:/home/njh/.cpan/build/ExtUtils-Config-0.008-48/blib/arch:/home/njh/.cpan/build/ExtUtils-Config-0.008-48/blib/lib"
    PERL5OPT=""
    PERL5_CPANPLUS_IS_RUNNING="20277"
    PERL5_CPAN_IS_RUNNING="20277"
    PERLBREW_HOME="/home/njh/.perlbrew"
    PERLBREW_MANPATH="/home/njh/perl5/perlbrew/perls/perl-5.8.5/man"
    PERLBREW_PATH="/home/njh/perl5/perlbrew/bin:/home/njh/perl5/perlbrew/perls/perl-5.8.5/bin"
    PERLBREW_PERL="perl-5.8.5"
    PERLBREW_ROOT="/home/njh/perl5/perlbrew"
    PERLBREW_SHELLRC_VERSION="0.86"
    PERLBREW_VERSION="0.86"
    PERL_MM_USE_DEFAULT="1"
    PERL_USE_UNSAFE_INC="1"
  @INC:
    /home/njh/.cpan/build/ExtUtils-InstallPaths-0.012-48/blib/arch
    /home/njh/.cpan/build/ExtUtils-InstallPaths-0.012-48/blib/lib
    /home/njh/.cpan/build/ExtUtils-Helpers-0.026-48/blib/arch
    /home/njh/.cpan/build/ExtUtils-Helpers-0.026-48/blib/lib
    /home/njh/.cpan/build/Text-ParseWords-3.30-4/blib/arch
    /home/njh/.cpan/build/Text-ParseWords-3.30-4/blib/lib
    /home/njh/.cpan/build/ExtUtils-Config-0.008-48/blib/arch
    /home/njh/.cpan/build/ExtUtils-Config-0.008-48/blib/lib
    /home/njh/perl5/perlbrew/perls/perl-5.8.5/lib/5.8.5/x86_64-linux
    /home/njh/perl5/perlbrew/perls/perl-5.8.5/lib/5.8.5
    /home/njh/perl5/perlbrew/perls/perl-5.8.5/lib/site_perl/5.8.5/x86_64-linux
    /home/njh/perl5/perlbrew/perls/perl-5.8.5/lib/site_perl/5.8.5
    /home/njh/perl5/perlbrew/perls/perl-5.8.5/lib/site_perl
    .