Term-Choose_HAE v0.057 Perl 5 v5.22.1 x86_64-linux-thread-multi
- Status
- Pass
- From
- Nigel Horne
- Dist
-
Term-Choose_HAE v0.057
- Platform
- Perl 5 v5.22.1 x86_64-linux-thread-multi
- Date
- 2018-11-16 07:55:09
- ID
- f0907200-e974-11e8-91d4-806a7185317f
This distribution has been tested as part of the CPAN Testers
project, supporting the Perl programming language. See
http://wiki.cpantesters.org/ for more information or email
questions to cpan-testers-discuss@perl.org
--
Dear Matthaeus Kiem,
This is a computer-generated report for Term-Choose_HAE-0.057
on perl 5.22.1, created by CPAN-Reporter-1.2018.
Thank you for uploading your work to CPAN. Congratulations!
All tests were successful.
Sections of this report:
* Tester comments
* Program output
* Prerequisites
* Environment and other context
------------------------------
TESTER COMMENTS
------------------------------
Additional comments from tester:
this report is from an automated smoke testing program
and was not reviewed by a human for accuracy
------------------------------
PROGRAM OUTPUT
------------------------------
Output from '/usr/bin/make test':
PERL_DL_NONLAZY=1 "/home/njh/perl5/perlbrew/perls/perl-5.22.1/bin/perl" "-MExtUtils::Command::MM" "-MTest::Harness" "-e" "undef *Test::Harness::Switches; test_harness(0, 'blib/lib', 'blib/arch')" t/*/*.t
# Testing Term::Choose_HAE 0.057, Perl 5.022001, /home/njh/perl5/perlbrew/perls/perl-5.22.1/bin/perl
t/00_load/00-load.t .............. ok
t/01_arguments/01_new.t .......... ok
t/01_arguments/01_new_invalid.t .. ok
All tests successful.
Files=3, Tests=358, 0 wallclock secs ( 0.05 usr 0.00 sys + 0.33 cusr 0.03 csys = 0.41 CPU)
Result: PASS
------------------------------
PREREQUISITES
------------------------------
Prerequisite modules loaded:
requires:
Module Need Have
----------------------- -------- --------
Exporter 0 5.72
if 0 0.0604
parent 0 0.232
Parse::ANSIColor::Tiny 0 0.601
perl 5.010001 5.022001
strict 0 1.09
Term::ANSIColor 0 4.03
Term::Choose == 1.628 1.628
Term::Choose::Constants == 1.628 1.628
Term::Choose::LineFold == 1.628 1.628
Text::ANSI::WideUtil 0 0.22
warnings 0 1.34
build_requires:
Module Need Have
----------------------- -------- --------
File::Spec::Functions 0 3.74
FindBin 0 1.51
lib 0 0.63
Test::Fatal 0 0.014
Test::More 0 1.302140
configure_requires:
Module Need Have
----------------------- -------- --------
ExtUtils::MakeMaker 0 7.34
------------------------------
ENVIRONMENT AND OTHER CONTEXT
------------------------------
Environment variables:
AUTOMATED_TESTING = 1
HARNESS_OPTIONS = j4
LANG = en_GB.UTF-8
LANGUAGE = en_GB:en
PATH = /home/njh/perl5/perlbrew/bin:/home/njh/perl5/perlbrew/perls/perl-5.22.1/bin:/home/njh/src/njh/smoker/bin:/usr/bin:/bin
PERL5LIB = /home/njh/.cpan/build/Text-ANSI-WideUtil-0.22-11/blib/arch:/home/njh/.cpan/build/Text-ANSI-WideUtil-0.22-11/blib/lib:/home/njh/.cpan/build/Text-WideChar-Util-0.16-11/blib/arch:/home/njh/.cpan/build/Text-WideChar-Util-0.16-11/blib/lib:/home/njh/.cpan/build/Unicode-LineBreak-2018.003-11/blib/arch:/home/njh/.cpan/build/Unicode-LineBreak-2018.003-11/blib/lib:/home/njh/.cpan/build/MIME-Charset-1.012.2-9/blib/arch:/home/njh/.cpan/build/MIME-Charset-1.012.2-9/blib/lib:/home/njh/.cpan/build/Text-ANSI-Util-0.22-11/blib/arch:/home/njh/.cpan/build/Text-ANSI-Util-0.22-11/blib/lib:/home/njh/.cpan/build/Data-Dump-1.23-0/blib/arch:/home/njh/.cpan/build/Data-Dump-1.23-0/blib/lib:/home/njh/.cpan/build/Term-Choose-1.628-11/blib/arch:/home/njh/.cpan/build/Term-Choose-1.628-11/blib/lib:/home/njh/.cpan/build/Parse-ANSIColor-Tiny-0.601-11/blib/arch:/home/njh/.cpan/build/Parse-ANSIColor-Tiny-0.601-11/blib/lib
PERL5OPT =
PERL5_CPANPLUS_IS_RUNNING = 19457
PERL5_CPAN_IS_RUNNING = 19457
PERLBREW_HOME = /home/njh/.perlbrew
PERLBREW_MANPATH = /home/njh/perl5/perlbrew/perls/perl-5.22.1/man
PERLBREW_PATH = /home/njh/perl5/perlbrew/bin:/home/njh/perl5/perlbrew/perls/perl-5.22.1/bin
PERLBREW_PERL = perl-5.22.1
PERLBREW_ROOT = /home/njh/perl5/perlbrew
PERLBREW_SHELLRC_VERSION = 0.82
PERLBREW_VERSION = 0.82
SHELL = /bin/sh
TEMP = /tmp/user/1000
TMPDIR = /tmp/user/1000/testwrapper.19442
Perl special variables (and OS-specific diagnostics, for MSWin32):
$^X = /home/njh/perl5/perlbrew/perls/perl-5.22.1/bin/perl
$UID/$EUID = 1000 / 1000
$GID = 1000 4 24 25 29 30 44 46 108 112 1000
$EGID = 1000 4 24 25 29 30 44 46 108 112 1000
Perl module toolchain versions installed:
Module Have
------------------- --------
CPAN 2.16
CPAN::Meta 2.150010
Cwd 3.74
ExtUtils::CBuilder 0.280230
ExtUtils::Command 7.34
ExtUtils::Install 2.14
ExtUtils::MakeMaker 7.34
ExtUtils::Manifest 1.71
ExtUtils::ParseXS 3.35
File::Spec 3.74
JSON 2.97001
JSON::PP 2.97001
Module::Build 0.4218
Module::Signature n/a
Parse::CPAN::Meta 2.150010
Test::Harness 3.36
Test::More 1.302140
YAML 1.27
YAML::Syck 1.30
version 0.9909
--
Summary of my perl5 (revision 5 version 22 subversion 1) configuration:
Platform:
osname=linux, osvers=4.2.0-1-amd64, archname=x86_64-linux-thread-multi
uname='linux nigelhorne.force9.co.uk 4.2.0-1-amd64 #1 smp debian 4.2.6-1 (2015-11-10) x86_64 gnulinux '
config_args='-de -Dprefix=/home/njh/perl5/perlbrew/perls/perl-5.22.1 -Duseithreads -Dusemultiplicity -Dusedevel -Accflags= -Aeval:scriptdir=/home/njh/perl5/perlbrew/perls/perl-5.22.1/bin'
hint=recommended, useposix=true, d_sigaction=define
useithreads=define, usemultiplicity=define
use64bitint=define, use64bitall=define, uselongdouble=undef
usemymalloc=n, bincompat5005=undef
Compiler:
cc='cc', ccflags ='-D_REENTRANT -D_GNU_SOURCE -fwrapv -fno-strict-aliasing -pipe -fstack-protector-strong -I/usr/local/include -D_LARGEFILE_SOURCE -D_FILE_OFFSET_BITS=64',
optimize='-O2',
cppflags='-D_REENTRANT -D_GNU_SOURCE -fwrapv -fno-strict-aliasing -pipe -fstack-protector-strong -I/usr/local/include'
ccversion='', gccversion='5.3.1 20151207', gccosandvers=''
intsize=4, longsize=8, ptrsize=8, doublesize=8, byteorder=12345678, doublekind=3
d_longlong=define, longlongsize=8, d_longdbl=define, longdblsize=16, longdblkind=3
ivtype='long', ivsize=8, nvtype='double', nvsize=8, Off_t='off_t', lseeksize=8
alignbytes=8, prototype=define
Linker and Libraries:
ld='cc', ldflags =' -fstack-protector-strong -L/usr/local/lib'
libpth=/usr/local/lib /usr/lib/gcc/x86_64-linux-gnu/5/include-fixed /usr/include/x86_64-linux-gnu /usr/lib /lib/x86_64-linux-gnu /lib/../lib /usr/lib/x86_64-linux-gnu /usr/lib/../lib /lib
libs=-lpthread -lnsl -lgdbm -ldb -ldl -lm -lcrypt -lutil -lc -lgdbm_compat
perllibs=-lpthread -lnsl -ldl -lm -lcrypt -lutil -lc
libc=libc-2.21.so, so=so, useshrplib=false, libperl=libperl.a
gnulibc_version='2.21'
Dynamic Linking:
dlsrc=dl_dlopen.xs, dlext=so, d_dlsymun=undef, ccdlflags='-Wl,-E'
cccdlflags='-fPIC', lddlflags='-shared -O2 -L/usr/local/lib -fstack-protector-strong'
Characteristics of this binary (from libperl):
Compile-time options: HAS_TIMES MULTIPLICITY PERLIO_LAYERS
PERL_DONT_CREATE_GVSV
PERL_HASH_FUNC_ONE_AT_A_TIME_HARD
PERL_IMPLICIT_CONTEXT PERL_MALLOC_WRAP
PERL_NEW_COPY_ON_WRITE PERL_PRESERVE_IVUV
PERL_USE_DEVEL USE_64_BIT_ALL USE_64_BIT_INT
USE_ITHREADS USE_LARGE_FILES USE_LOCALE
USE_LOCALE_COLLATE USE_LOCALE_CTYPE
USE_LOCALE_NUMERIC USE_LOCALE_TIME USE_PERLIO
USE_PERL_ATOF USE_REENTRANT_API
Built under linux
Compiled at Dec 20 2015 00:32:13
%ENV:
PERL5LIB="/home/njh/.cpan/build/Text-ANSI-WideUtil-0.22-11/blib/arch:/home/njh/.cpan/build/Text-ANSI-WideUtil-0.22-11/blib/lib:/home/njh/.cpan/build/Text-WideChar-Util-0.16-11/blib/arch:/home/njh/.cpan/build/Text-WideChar-Util-0.16-11/blib/lib:/home/njh/.cpan/build/Unicode-LineBreak-2018.003-11/blib/arch:/home/njh/.cpan/build/Unicode-LineBreak-2018.003-11/blib/lib:/home/njh/.cpan/build/MIME-Charset-1.012.2-9/blib/arch:/home/njh/.cpan/build/MIME-Charset-1.012.2-9/blib/lib:/home/njh/.cpan/build/Text-ANSI-Util-0.22-11/blib/arch:/home/njh/.cpan/build/Text-ANSI-Util-0.22-11/blib/lib:/home/njh/.cpan/build/Data-Dump-1.23-0/blib/arch:/home/njh/.cpan/build/Data-Dump-1.23-0/blib/lib:/home/njh/.cpan/build/Term-Choose-1.628-11/blib/arch:/home/njh/.cpan/build/Term-Choose-1.628-11/blib/lib:/home/njh/.cpan/build/Parse-ANSIColor-Tiny-0.601-11/blib/arch:/home/njh/.cpan/build/Parse-ANSIColor-Tiny-0.601-11/blib/lib"
PERL5OPT=""
PERL5_CPANPLUS_IS_RUNNING="19457"
PERL5_CPAN_IS_RUNNING="19457"
PERLBREW_HOME="/home/njh/.perlbrew"
PERLBREW_MANPATH="/home/njh/perl5/perlbrew/perls/perl-5.22.1/man"
PERLBREW_PATH="/home/njh/perl5/perlbrew/bin:/home/njh/perl5/perlbrew/perls/perl-5.22.1/bin"
PERLBREW_PERL="perl-5.22.1"
PERLBREW_ROOT="/home/njh/perl5/perlbrew"
PERLBREW_SHELLRC_VERSION="0.82"
PERLBREW_VERSION="0.82"
@INC:
/home/njh/.cpan/build/Text-ANSI-WideUtil-0.22-11/blib/arch
/home/njh/.cpan/build/Text-ANSI-WideUtil-0.22-11/blib/lib
/home/njh/.cpan/build/Text-WideChar-Util-0.16-11/blib/arch
/home/njh/.cpan/build/Text-WideChar-Util-0.16-11/blib/lib
/home/njh/.cpan/build/Unicode-LineBreak-2018.003-11/blib/arch
/home/njh/.cpan/build/Unicode-LineBreak-2018.003-11/blib/lib
/home/njh/.cpan/build/MIME-Charset-1.012.2-9/blib/arch
/home/njh/.cpan/build/MIME-Charset-1.012.2-9/blib/lib
/home/njh/.cpan/build/Text-ANSI-Util-0.22-11/blib/arch
/home/njh/.cpan/build/Text-ANSI-Util-0.22-11/blib/lib
/home/njh/.cpan/build/Data-Dump-1.23-0/blib/arch
/home/njh/.cpan/build/Data-Dump-1.23-0/blib/lib
/home/njh/.cpan/build/Term-Choose-1.628-11/blib/arch
/home/njh/.cpan/build/Term-Choose-1.628-11/blib/lib
/home/njh/.cpan/build/Parse-ANSIColor-Tiny-0.601-11/blib/arch
/home/njh/.cpan/build/Parse-ANSIColor-Tiny-0.601-11/blib/lib
/home/njh/perl5/perlbrew/perls/perl-5.22.1/lib/site_perl/5.22.1/x86_64-linux-thread-multi
/home/njh/perl5/perlbrew/perls/perl-5.22.1/lib/site_perl/5.22.1
/home/njh/perl5/perlbrew/perls/perl-5.22.1/lib/5.22.1/x86_64-linux-thread-multi
/home/njh/perl5/perlbrew/perls/perl-5.22.1/lib/5.22.1
.