Back
From: metabase:user:00e8548a-0e72-11e3-8ee3-df0a9c418065
Subject: PASS MRS-Client-1.0.1 v5.16.3 GNU/Linux
Date: 2013-08-30T07:51:12Z
This distribution has been tested as part of the CPAN Testers
project, supporting the Perl programming language. See
http://wiki.cpantesters.org/ for more information or email
questions to cpan-testers-discuss@perl.org
--
Dear Martin Senger,
This is a computer-generated report for MRS-Client-1.0.1
on perl 5.16.3, created by CPAN-Reporter-1.2010.
Thank you for uploading your work to CPAN. Congratulations!
All tests were successful.
Sections of this report:
* Tester comments
* Program output
* Prerequisites
* Environment and other context
------------------------------
TESTER COMMENTS
------------------------------
Additional comments from tester:
this report is from an automated smoke testing program
and was not reviewed by a human for accuracy
------------------------------
PROGRAM OUTPUT
------------------------------
Output from '/usr/bin/make test':
PERL_DL_NONLAZY=1 /root/perl5/perlbrew/perls/perl-5.16.3/bin/perl "-MExtUtils::Command::MM" "-e" "test_harness(0, 'blib/lib', 'blib/arch')" t/*.t
t/00-compile.t .......... ok
# Testing MRS::Client 1.0.1, Perl v5.16.3, /root/perl5/perlbrew/perls/perl-5.16.3/bin/perl
t/00-load.t ............. ok
# Data manipulation
t/01-data.t ............. ok
# Setting host and endpoints
t/02-endpoint.t ......... ok
t/03-network.t .......... skipped: these tests are for testing by the author (when AUTHOR_TESTING=1)
# Manipulation of hyperlinks
t/04-links.t ............ ok
t/author-critic.t ....... skipped: these tests are for testing by the author
t/author-pod-spell.t .... skipped: these tests are for testing by the author
t/release-eol.t ......... skipped: these tests are for release candidate testing
t/release-no-tabs.t ..... skipped: these tests are for release candidate testing
t/release-pod-syntax.t .. skipped: these tests are for release candidate testing
All tests successful.
Files=11, Tests=113, 3 wallclock secs ( 0.02 usr 0.00 sys + 0.80 cusr 0.17 csys = 0.99 CPU)
Result: PASS
------------------------------
PREREQUISITES
------------------------------
Prerequisite modules loaded:
requires:
Module Need Have
--------------------------------- ---- ------
base 0 2.18
Carp 0 1.26
constant 0 1.27
Data::Dumper 0 2.145
File::Basename 0 2.84
FindBin 0 1.51
Getopt::Std 0 1.07
Math::BigInt 0 1.998
overload 0 1.18
strict 0 1.07
vars 0 1.02
warnings 0 1.13
XML::Compile::SOAP11 2.26 2.38
XML::Compile::Transport::SOAPHTTP 0 2.38
XML::Compile::WSDL11 0 2.38
build_requires:
Module Need Have
--------------------------------- ---- ------
File::Find 0 1.20
File::Spec 0 3.40
File::Temp 0 0.2301
Test::More 0 0.98
configure_requires:
Module Need Have
--------------------------------- ---- ------
ExtUtils::MakeMaker 6.30 6.74
------------------------------
ENVIRONMENT AND OTHER CONTEXT
------------------------------
Environment variables:
AUTOMATED_TESTING = 1
LANG = en_US.UTF-8
PATH = /root/perl5/perlbrew/bin:/root/perl5/perlbrew/perls/perl-5.16.3/bin:/usr/kerberos/sbin:/usr/kerberos/bin:/usr/local/sbin:/usr/local/bin:/sbin:/bin:/usr/sbin:/usr/bin:/usr/X11R6/bin:/root/bin
PERL5LIB = /root/.cpan/build/XML-Compile-SOAP-2.38-7Y4w1u/blib/arch:/root/.cpan/build/XML-Compile-SOAP-2.38-7Y4w1u/blib/lib:/root/.cpan/build/XML-Compile-Cache-0.995-EclOlA/blib/arch:/root/.cpan/build/XML-Compile-Cache-0.995-EclOlA/blib/lib:/root/.cpan/build/XML-LibXML-Simple-0.93-_mcOhN/blib/arch:/root/.cpan/build/XML-LibXML-Simple-0.93-_mcOhN/blib/lib:/root/.cpan/build/XML-Compile-1.37-fjZVbL/blib/arch:/root/.cpan/build/XML-Compile-1.37-fjZVbL/blib/lib:/root/.cpan/build/XML-Compile-Tester-0.90-Ot1nfr/blib/arch:/root/.cpan/build/XML-Compile-Tester-0.90-Ot1nfr/blib/lib:/root/.cpan/build/Log-Report-0.995-IDBMDm/blib/arch:/root/.cpan/build/Log-Report-0.995-IDBMDm/blib/lib
PERL5OPT =
PERL5_CPANPLUS_IS_RUNNING = 10736
PERL5_CPAN_IS_RUNNING = 10736
PERL5_CPAN_IS_RUNNING_IN_RECURSION = 6591,10736
PERLBREW_BASHRC_VERSION = 0.66
PERLBREW_HOME = /root/.perlbrew
PERLBREW_MANPATH = /root/perl5/perlbrew/perls/perl-5.16.3/man
PERLBREW_PATH = /root/perl5/perlbrew/bin:/root/perl5/perlbrew/perls/perl-5.16.3/bin
PERLBREW_PERL = perl-5.16.3
PERLBREW_ROOT = /root/perl5/perlbrew
PERLBREW_VERSION = 0.66
PERL_CR_SMOKER_CURRENT = MRS-Client-1.0.1
PERL_EXTUTILS_AUTOINSTALL = --defaultdeps
PERL_MM_USE_DEFAULT = 1
SHELL = /bin/bash
TERM = xterm
Perl special variables (and OS-specific diagnostics, for MSWin32):
$^X = /root/perl5/perlbrew/perls/perl-5.16.3/bin/perl
$UID/$EUID = 0 / 0
$GID = 0 0 1 2 3 4 6 10
$EGID = 0 0 1 2 3 4 6 10
Perl module toolchain versions installed:
Module Have
------------------- --------
CPAN 2.00
CPAN::Meta 2.132140
Cwd 3.40
ExtUtils::CBuilder 0.280206
ExtUtils::Command 1.17
ExtUtils::Install 1.58
ExtUtils::MakeMaker 6.74
ExtUtils::Manifest 1.61
ExtUtils::ParseXS 3.21
File::Spec 3.40
JSON 2.59
JSON::PP 2.27202
Module::Build 0.4007
Module::Signature n/a
Parse::CPAN::Meta 1.4405
Test::Harness 3.28
Test::More 0.98
YAML 0.84
YAML::Syck 1.27
version 0.99
--
Summary of my perl5 (revision 5 version 16 subversion 3) configuration:
Platform:
osname=linux, osvers=2.6.18-348.16.1.el5, archname=x86_64-linux
uname='linux localhost.localdomain 2.6.18-348.16.1.el5 #1 smp wed aug 21 04:00:25 edt 2013 x86_64 x86_64 x86_64 gnulinux '
config_args='-de -Dprefix=/root/perl5/perlbrew/perls/perl-5.16.3 -Aeval:scriptdir=/root/perl5/perlbrew/perls/perl-5.16.3/bin'
hint=recommended, useposix=true, d_sigaction=define
useithreads=undef, usemultiplicity=undef
useperlio=define, d_sfio=undef, uselargefiles=define, usesocks=undef
use64bitint=define, use64bitall=define, uselongdouble=undef
usemymalloc=n, bincompat5005=undef
Compiler:
cc='cc', ccflags ='-fno-strict-aliasing -pipe -fstack-protector -I/usr/local/include -D_LARGEFILE_SOURCE -D_FILE_OFFSET_BITS=64',
optimize='-O2',
cppflags='-fno-strict-aliasing -pipe -fstack-protector -I/usr/local/include'
ccversion='', gccversion='4.1.2 20080704 (Red Hat 4.1.2-54)', gccosandvers=''
intsize=4, longsize=8, ptrsize=8, doublesize=8, byteorder=12345678
d_longlong=define, longlongsize=8, d_longdbl=define, longdblsize=16
ivtype='long', ivsize=8, nvtype='double', nvsize=8, Off_t='off_t', lseeksize=8
alignbytes=8, prototype=define
Linker and Libraries:
ld='cc', ldflags =' -fstack-protector -L/usr/local/lib'
libpth=/usr/local/lib /lib /usr/lib /lib64 /usr/lib64 /usr/local/lib64
libs=-lnsl -ldl -lm -lcrypt -lutil -lc
perllibs=-lnsl -ldl -lm -lcrypt -lutil -lc
libc=/lib/libc-2.5.so, so=so, useshrplib=false, libperl=libperl.a
gnulibc_version='2.5'
Dynamic Linking:
dlsrc=dl_dlopen.xs, dlext=so, d_dlsymun=undef, ccdlflags='-Wl,-E'
cccdlflags='-fPIC', lddlflags='-shared -O2 -L/usr/local/lib -fstack-protector'
Characteristics of this binary (from libperl):
Compile-time options: HAS_TIMES PERLIO_LAYERS PERL_DONT_CREATE_GVSV
PERL_MALLOC_WRAP PERL_PRESERVE_IVUV USE_64_BIT_ALL
USE_64_BIT_INT USE_LARGE_FILES USE_LOCALE
USE_LOCALE_COLLATE USE_LOCALE_CTYPE
USE_LOCALE_NUMERIC USE_PERLIO USE_PERL_ATOF
Built under linux
Compiled at Aug 26 2013 11:51:42
%ENV:
PERL5LIB="/root/.cpan/build/XML-Compile-SOAP-2.38-7Y4w1u/blib/arch:/root/.cpan/build/XML-Compile-SOAP-2.38-7Y4w1u/blib/lib:/root/.cpan/build/XML-Compile-Cache-0.995-EclOlA/blib/arch:/root/.cpan/build/XML-Compile-Cache-0.995-EclOlA/blib/lib:/root/.cpan/build/XML-LibXML-Simple-0.93-_mcOhN/blib/arch:/root/.cpan/build/XML-LibXML-Simple-0.93-_mcOhN/blib/lib:/root/.cpan/build/XML-Compile-1.37-fjZVbL/blib/arch:/root/.cpan/build/XML-Compile-1.37-fjZVbL/blib/lib:/root/.cpan/build/XML-Compile-Tester-0.90-Ot1nfr/blib/arch:/root/.cpan/build/XML-Compile-Tester-0.90-Ot1nfr/blib/lib:/root/.cpan/build/Log-Report-0.995-IDBMDm/blib/arch:/root/.cpan/build/Log-Report-0.995-IDBMDm/blib/lib"
PERL5OPT=""
PERL5_CPANPLUS_IS_RUNNING="10736"
PERL5_CPAN_IS_RUNNING="10736"
PERL5_CPAN_IS_RUNNING_IN_RECURSION="6591,10736"
PERLBREW_BASHRC_VERSION="0.66"
PERLBREW_HOME="/root/.perlbrew"
PERLBREW_MANPATH="/root/perl5/perlbrew/perls/perl-5.16.3/man"
PERLBREW_PATH="/root/perl5/perlbrew/bin:/root/perl5/perlbrew/perls/perl-5.16.3/bin"
PERLBREW_PERL="perl-5.16.3"
PERLBREW_ROOT="/root/perl5/perlbrew"
PERLBREW_VERSION="0.66"
PERL_CR_SMOKER_CURRENT="MRS-Client-1.0.1"
PERL_EXTUTILS_AUTOINSTALL="--defaultdeps"
PERL_MM_USE_DEFAULT="1"
@INC:
/root/.cpan/build/XML-Compile-SOAP-2.38-7Y4w1u/blib/arch
/root/.cpan/build/XML-Compile-SOAP-2.38-7Y4w1u/blib/lib
/root/.cpan/build/XML-Compile-Cache-0.995-EclOlA/blib/arch
/root/.cpan/build/XML-Compile-Cache-0.995-EclOlA/blib/lib
/root/.cpan/build/XML-LibXML-Simple-0.93-_mcOhN/blib/arch
/root/.cpan/build/XML-LibXML-Simple-0.93-_mcOhN/blib/lib
/root/.cpan/build/XML-Compile-1.37-fjZVbL/blib/arch
/root/.cpan/build/XML-Compile-1.37-fjZVbL/blib/lib
/root/.cpan/build/XML-Compile-Tester-0.90-Ot1nfr/blib/arch
/root/.cpan/build/XML-Compile-Tester-0.90-Ot1nfr/blib/lib
/root/.cpan/build/Log-Report-0.995-IDBMDm/blib/arch
/root/.cpan/build/Log-Report-0.995-IDBMDm/blib/lib
/root/perl5/perlbrew/perls/perl-5.16.3/lib/site_perl/5.16.3/x86_64-linux
/root/perl5/perlbrew/perls/perl-5.16.3/lib/site_perl/5.16.3
/root/perl5/perlbrew/perls/perl-5.16.3/lib/5.16.3/x86_64-linux
/root/perl5/perlbrew/perls/perl-5.16.3/lib/5.16.3
.