Weather-OpenWeatherMap v0.005004 Perl 5 v5.26.1 x86_64-haiku
- Status
- Pass
- From
- Serguei Trouchelle (STRO)
- Dist
-
Weather-OpenWeatherMap v0.005004
- Platform
- Perl 5 v5.26.1 x86_64-haiku
- Date
- 2018-10-04 17:35:52
- ID
- f0c893be-c7fb-11e8-b18f-da91a5bcaffc
This distribution has been tested as part of the CPAN Testers
project, supporting the Perl programming language. See
http://wiki.cpantesters.org/ for more information or email
questions to cpan-testers-discuss@perl.org
--
Dear Jon Portnoy (PAUSE Custodial Account),
This is a computer-generated report for Weather-OpenWeatherMap-0.005004
on perl 5.26.1, created by CPAN-Reporter-1.2018.
Thank you for uploading your work to CPAN. Congratulations!
All tests were successful.
Sections of this report:
* Tester comments
* Program output
* Prerequisites
* Environment and other context
------------------------------
TESTER COMMENTS
------------------------------
Additional comments from tester:
this report is from an automated smoke testing program
and was not reviewed by a human for accuracy
------------------------------
PROGRAM OUTPUT
------------------------------
Output from '/bin/make test':
Skip blib/lib/auto/share/dist/Weather-OpenWeatherMap/hourly.json (unchanged)
Skip blib/lib/auto/share/dist/Weather-OpenWeatherMap/3day.json (unchanged)
Skip blib/lib/auto/share/dist/Weather-OpenWeatherMap/failure.json (unchanged)
Skip blib/lib/auto/share/dist/Weather-OpenWeatherMap/find.json (unchanged)
Skip blib/lib/auto/share/dist/Weather-OpenWeatherMap/current.json (unchanged)
"/packages/perl-5.26.1-2/.self/bin/perl" "-MExtUtils::Command::MM" "-MTest::Harness" "-e" "undef *Test::Harness::Switches; test_harness(0, 'blib/lib', 'blib/arch')" t/*.t t/request/*.t t/request/forecast/*.t t/result/*.t t/result/forecast/*.t
#
# Versions for all modules listed in MYMETA.json (including optional ones):
#
# === Configure Requires ===
#
# Module Want Have
# ----------------------- ---- -------
# ExtUtils::MakeMaker any 7.35_06
# File::ShareDir::Install 0.06 0.13
#
# === Build Requires ===
#
# Module Want Have
# ------------------- ---- -------
# ExtUtils::MakeMaker any 7.35_06
#
# === Test Requires ===
#
# Module Want Have
# -------------------- ---- --------
# Devel::Cycle any 1.12
# ExtUtils::MakeMaker any 7.35_06
# File::Spec any 3.67
# Test::File::ShareDir 1 1.001002
# Test::More any 1.302138
# Test::Roo 1 1.004
#
# === Test Recommends ===
#
# Module Want Have
# ---------- -------- --------
# CPAN::Meta 2.120900 2.150010
#
# === Runtime Requires ===
#
# Module Want Have
# ------------------------ -------- --------
# Carp any 1.50
# Digest::SHA any 6.02
# Exporter::Tiny any 1.002001
# File::ShareDir any 1.116
# HTTP::Request any 6.18
# JSON::MaybeXS any 1.004000
# LWP::UserAgent any 6.35
# List::Objects::Types 1 2.001001
# List::Objects::WithUtils 2.010002 2.028003
# Module::Runtime any 0.016
# Moo 2 2.003004
# Path::Tiny 0.05 0.108
# Throwable 0.2 0.200013
# Try::Tiny any 0.30
# Types::DateTime any 0.002
# Types::Path::Tiny 0.005 0.006
# Types::Standard any 1.004002
# URI::Escape any 3.31
# strictures 2 2.000005
#
t/00-report-prereqs.t ........ ok
t/author-no-tabs.t ........... skipped: these tests are for testing by the author
t/author-pod-syntax.t ........ skipped: these tests are for testing by the author
# Sleeping 1 second
# Sleeping 1 second
t/cache.t .................... ok
t/error.t .................... ok
t/openweathermap.t ........... ok
t/release-cpan-changes.t ..... skipped: these tests are for release candidate testing
t/release-dist-manifest.t .... skipped: these tests are for release candidate testing
t/release-pod-linkcheck.t .... skipped: these tests are for release candidate testing
t/release-synopsis.t ......... skipped: these tests are for release candidate testing
t/release-unused-vars.t ...... skipped: these tests are for release candidate testing
t/request/current.t .......... ok
t/request/find.t ............. ok
t/request/forecast/daily.t ... ok
t/request/forecast/hourly.t .. ok
t/result/current.t ........... ok
t/result/find.t .............. ok
t/result/forecast/daily.t .... ok
t/result/forecast/hourly.t ... ok
t/units.t .................... ok
All tests successful.
Files=20, Tests=23, 15 wallclock secs ( 0.16 usr 0.08 sys + 9.98 cusr 2.80 csys = 13.02 CPU)
Result: PASS
------------------------------
PREREQUISITES
------------------------------
Prerequisite modules loaded:
requires:
Module Need Have
------------------------ -------- --------
Carp 0 1.50
Digest::SHA 0 6.02
Exporter::Tiny 0 1.002001
File::ShareDir 0 1.116
HTTP::Request 0 6.18
JSON::MaybeXS 0 1.004000
List::Objects::Types 1 2.001001
List::Objects::WithUtils 2.010002 2.028003
LWP::UserAgent 0 6.35
Module::Runtime 0 0.016
Moo 2 2.003004
Path::Tiny 0.05 0.108
perl 5.010001 5.026001
strictures 2 2.000005
Throwable 0.2 0.200013
Try::Tiny 0 0.30
Types::DateTime 0 0.002
Types::Path::Tiny 0.005 0.006
Types::Standard 0 1.004002
URI::Escape 0 3.31
build_requires:
Module Need Have
------------------------ -------- --------
Devel::Cycle 0 1.12
ExtUtils::MakeMaker 0 7.35_06
File::Spec 0 3.67
Test::File::ShareDir 1 1.001002
Test::More 0 1.302138
Test::Roo 1 1.004
configure_requires:
Module Need Have
------------------------ -------- --------
ExtUtils::MakeMaker 0 7.35_06
File::ShareDir::Install 0.06 0.13
------------------------------
ENVIRONMENT AND OTHER CONTEXT
------------------------------
Environment variables:
AUTOMATED_TESTING = 1
LC_COLLATE = en.UTF-8
LC_CTYPE = en.UTF-8
LC_MESSAGES = en.UTF-8
LC_MONETARY = en.UTF-8
LC_NUMERIC = en.UTF-8
LC_TIME = en.UTF-8
LC_TYPE = en_US.UTF-8
PATH = /boot/home/perl5/bin:.:/boot/home/config/non-packaged/bin:/boot/home/config/bin:/boot/system/non-packaged/bin:/bin:/boot/system/apps:/boot/system/preferences
PERL5LIB = /boot/home/perl5/lib/perl5
PERL5OPT =
PERL5_CPANPLUS_IS_RUNNING = 1180580
PERL5_CPAN_IS_RUNNING = 1180580
PERL5_CPAN_IS_RUNNING_IN_RECURSION = 410,1180580
PERL_CR_SMOKER_CURRENT = Weather-OpenWeatherMap-0.005004
PERL_EXTUTILS_AUTOINSTALL = --defaultdeps
PERL_LOCAL_LIB_ROOT = /boot/home/perl5
PERL_MB_OPT = --install_base "/boot/home/perl5"
PERL_MM_OPT = INSTALL_BASE=/boot/home/perl5
PERL_MM_USE_DEFAULT = 1
TERM = xterm
Perl special variables (and OS-specific diagnostics, for MSWin32):
$^X = /packages/perl-5.26.1-2/.self/bin/perl
$UID/$EUID = 0 / 0
$GID = 0 101 0
$EGID = 0 101 0
Perl module toolchain versions installed:
Module Have
------------------- ---------
CPAN 2.16
CPAN::Meta 2.150010
Cwd 3.67
ExtUtils::CBuilder 0.280230
ExtUtils::Command 7.35_06
ExtUtils::Install 2.14
ExtUtils::MakeMaker 7.35_06
ExtUtils::Manifest 1.71
ExtUtils::ParseXS 3.34
File::Spec 3.67
JSON 2.97001
JSON::PP 2.97001
Module::Build 0.42_28
Module::Signature n/a
Parse::CPAN::Meta 2.150010
Test::Harness 3.42
Test::More 1.302138
YAML 1.26
YAML::Syck 1.30
version 0.9923_02
--
Summary of my perl5 (revision 5 version 26 subversion 1) configuration:
Derived from:
Platform:
osname=haiku
osvers=1
archname=x86_64-haiku
uname='haiku shredder 1 hrev51655 dec 4 2017 12:44:17 x86_64 x86_64 haiku '
config_args='-Dprefix=/packages/perl-5.26.1-2/.self -Dprivlib=/packages/perl-5.26.1-2/.self/lib/perl5/5.26.1 -Dsiteprefix=/packages/perl-5.26.1-2/.self/non-packaged -Dsitelib=/packages/perl-5.26.1-2/.self/non-packaged/lib/perl5/site_perl/5.26 -Dvendorprefix=/packages/perl-5.26.1-2/.self -Dvendorlib=/packages/perl-5.26.1-2/.self/lib/perl5/vendor_perl/5.26 -Dcf_email=zooey@hirschkaefer.de -Uusenm -Duseshrplib -Uusemymalloc -Dlibpth=/boot/home/config/develop/lib /boot/system/develop/lib -Dusrinc=/boot/system/develop/headers/posix -Dlocinc=/boot/home/config/develop/headers /boot/system/develop/headers -Dlibc='/boot/system/lib/libroot.so' -Dlibs=-lnetwork -Dcc=gcc -Dld=gcc -Ud_link -Ddont_use_nlink -Ud_syserrlst -Dldlibpthname=LIBRARY_PATH -Dstartperl=#! perl -Dccdlflags=-Wl,-fno-stack-protector,-rpath=/packages/perl-5.26.1-2/.self/lib/perl5/5.26.1/x86_64-haiku/CORE -Dusesitecustomize -de'
hint=recommended
useposix=true
d_sigaction=define
useithreads=undef
usemultiplicity=undef
use64bitint=define
use64bitall=define
uselongdouble=undef
usemymalloc=n
default_inc_excludes_dot=define
bincompat5005=undef
Compiler:
cc='gcc'
ccflags ='-fwrapv -fno-strict-aliasing -pipe -D_FORTIFY_SOURCE=2'
optimize='-O'
cppflags='-fwrapv -fno-strict-aliasing -pipe'
ccversion=''
gccversion='5.4.0'
gccosandvers=''
intsize=4
longsize=8
ptrsize=8
doublesize=8
byteorder=12345678
doublekind=3
d_longlong=define
longlongsize=8
d_longdbl=define
longdblsize=16
longdblkind=3
ivtype='long'
ivsize=8
nvtype='double'
nvsize=8
Off_t='off_t'
lseeksize=8
alignbytes=8
prototype=define
Linker and Libraries:
ld='gcc'
ldflags =''
libpth=/boot/home/config/develop/lib /boot/system/develop/lib /boot/system/develop/tools/bin/../lib/gcc/x86_64-unknown-haiku/5.4.0/include-fixed
libs=-lnetwork
perllibs=-lnetwork
libc=/boot/system/lib/libroot.so
so=so
useshrplib=true
libperl=libperl.so
gnulibc_version=''
Dynamic Linking:
dlsrc=dl_dlopen.xs
dlext=so
d_dlsymun=undef
ccdlflags='-Wl,-fno-stack-protector,-rpath=/packages/perl-5.26.1-2/.self/lib/perl5/5.26.1/x86_64-haiku/CORE -Wl,-rpath,/packages/perl-5.26.1-2/.self/lib/perl5/5.26.1/x86_64-haiku/CORE'
cccdlflags='-fpic'
lddlflags='-shared'
Characteristics of this binary (from libperl):
Compile-time options:
HAS_TIMES
PERLIO_LAYERS
PERL_COPY_ON_WRITE
PERL_DONT_CREATE_GVSV
PERL_OP_PARENT
PERL_PRESERVE_IVUV
USE_64_BIT_ALL
USE_64_BIT_INT
USE_LARGE_FILES
USE_LOCALE
USE_LOCALE_COLLATE
USE_LOCALE_CTYPE
USE_LOCALE_NUMERIC
USE_LOCALE_TIME
USE_PERLIO
USE_PERL_ATOF
USE_SITECUSTOMIZE
Locally applied patches:
uncommitted-changes
Built under haiku
Compiled at Mar 14 2018 20:50:46
%ENV:
PERL5LIB="/boot/home/perl5/lib/perl5"
PERL5OPT=""
PERL5_CPANPLUS_IS_RUNNING="1180580"
PERL5_CPAN_IS_RUNNING="1180580"
PERL5_CPAN_IS_RUNNING_IN_RECURSION="410,1180580"
PERL_CR_SMOKER_CURRENT="Weather-OpenWeatherMap-0.005004"
PERL_EXTUTILS_AUTOINSTALL="--defaultdeps"
PERL_LOCAL_LIB_ROOT="/boot/home/perl5"
PERL_MB_OPT="--install_base "/boot/home/perl5""
PERL_MM_OPT="INSTALL_BASE=/boot/home/perl5"
PERL_MM_USE_DEFAULT="1"
@INC:
/boot/home/perl5/lib/perl5/5.26.1/x86_64-haiku
/boot/home/perl5/lib/perl5/5.26.1
/boot/home/perl5/lib/perl5/x86_64-haiku
/boot/home/perl5/lib/perl5
/packages/perl-5.26.1-2/.self/non-packaged/lib/perl5/site_perl/5.26/x86_64-haiku
/packages/perl-5.26.1-2/.self/non-packaged/lib/perl5/site_perl/5.26
/packages/perl-5.26.1-2/.self/lib/perl5/vendor_perl/5.26/x86_64-haiku
/packages/perl-5.26.1-2/.self/lib/perl5/vendor_perl/5.26
/packages/perl-5.26.1-2/.self/lib/perl5/5.26.1/x86_64-haiku
/packages/perl-5.26.1-2/.self/lib/perl5/5.26.1