WebService-Swapi v0.1.7 Perl 5 v5.30.0 amd64-freebsd

Status
Pass
From
Slaven Rezić (SREZIC)
Dist
WebService-Swapi v0.1.7
Platform
Perl 5 v5.30.0 amd64-freebsd
Date
2020-01-12 07:05:39
ID
f0d8302c-3509-11ea-90a0-e55b1f24ea8f
This distribution has been tested as part of the CPAN Testers
project, supporting the Perl programming language.  See
http://wiki.cpantesters.org/ for more information or email
questions to cpan-testers-discuss@perl.org


--
Dear Kian Meng, Ang,

This is a computer-generated report for WebService-Swapi-0.1.7
on perl 5.30.0, created by CPAN-Reporter-1.2018.

Thank you for uploading your work to CPAN.  Congratulations!
All tests were successful.

Sections of this report:

    * Tester comments
    * Program output
    * Prerequisites
    * Environment and other context

------------------------------
TESTER COMMENTS
------------------------------

Additional comments from tester:

none provided

------------------------------
PROGRAM OUTPUT
------------------------------

Output from './Build test':

t/00-compile.t .............. ok
# Testing with Perl 5.030000, /usr/perl5.30.0p/bin/perl
#     Data::Serializer version is 0.60
#     Devel::Cover::Report::Codecov version is 0.25
#     Devel::Cover::Report::Coveralls version is 0.11
#     JSON version is 4.02
#     Module::Build::Tiny version is 0.039
#     Moo version is 2.003006
#     Pod::Coverage::TrustPod version is 0.100005
#     REST::Client version is 273
#     Role::REST::Client version is 0.23
#     Test::More version is 1.302170
#     Test::Perl::Critic version is 1.04
#     Test::Pod version is 1.52
#     Types::Standard version is 1.008001
#     namespace::clean version is 0.27
t/000-report-versions.t ..... ok
t/00_compile.t .............. ok
t/01_instantiation.t ........ ok
t/02_ping.t ................. ok
t/03_request.t .............. ok
t/04_resource.t ............. ok
t/05_schema.t ............... ok
t/06_search.t ............... ok
t/07_get_object.t ........... ok
t/author-eol.t .............. skipped: these tests are for testing by the author
t/author-minimum-version.t .. skipped: these tests are for testing by the author
t/author-pod-coverage.t ..... skipped: these tests are for testing by the author
t/author-pod-syntax.t ....... skipped: these tests are for testing by the author
t/release-dist-manifest.t ... skipped: these tests are for release candidate testing
t/release-distmeta.t ........ skipped: these tests are for release candidate testing
t/release-has-version.t ..... skipped: these tests are for release candidate testing
t/release-kwalitee.t ........ skipped: these tests are for release candidate testing
t/release-unused-vars.t ..... skipped: these tests are for release candidate testing
All tests successful.
Files=19, Tests=42, 16 wallclock secs ( 0.10 usr  0.06 sys +  3.19 cusr  1.02 csys =  4.37 CPU)
Result: PASS

------------------------------
PREREQUISITES
------------------------------

Prerequisite modules loaded:

requires:

    Module                          Need     Have    
    ------------------------------- -------- --------
    Data::Serializer                0        0.60    
    JSON                            0        4.02    
    Moo                             0        2.003006
    namespace::clean                0        0.27    
    perl                            5.008001 5.030000
    REST::Client                    0        273     
    Role::REST::Client              0        0.23    
    Types::Standard                 0        1.008001

build_requires:

    Module                          Need     Have    
    ------------------------------- -------- --------
    Devel::Cover                    0        1.33    
    Devel::Cover::Report::Codecov   0        0.25    
    Devel::Cover::Report::Coveralls 0        0.11    
    Pod::Coverage::TrustPod         0        0.100005
    Test::More                      0        1.302170
    Test::Perl::Critic              0        1.04    
    Test::Pod                       0        1.52    
    Test::Pod::Coverage             0        1.10    

configure_requires:

    Module                          Need     Have    
    ------------------------------- -------- --------
    Module::Build::Tiny             0.034    0.039   


------------------------------
ENVIRONMENT AND OTHER CONTEXT
------------------------------

Environment variables:

    PATH = /usr/local/bin:/usr/bin:/bin:/usr/local/sbin:/usr/sbin:/sbin:/home/cpansand/bin/freebsd12.0:/home/cpansand/bin/sh:/home/cpansand/bin:/usr/games:/home/cpansand/devel:/usr/home/eserte/src/srezic-misc/scripts
    PERL5LIB = /home/cpansand/.cpan/build/2020011207/WebService-ThreatStack-1.00-0/blib/arch:/home/cpansand/.cpan/build/2020011207/WebService-ThreatStack-1.00-0/blib/lib:/home/cpansand/.cpan/build/2020011207/plenigo-2.0006-0/blib/arch:/home/cpansand/.cpan/build/2020011207/plenigo-2.0006-0/blib/lib:/home/cpansand/.cpan/build/2020011207/HTTP-Cookies-6.08-2/blib/arch:/home/cpansand/.cpan/build/2020011207/HTTP-Cookies-6.08-2/blib/lib
    PERL5OPT = 
    PERL5_CPANPLUS_IS_RUNNING = 26490
    PERL5_CPAN_IS_RUNNING = 26490
    PERL5_CPAN_IS_RUNNING_IN_RECURSION = 86966,26490
    PERLDOC = -MPod::Perldoc::ToTextOverstrike
    PERL_BATCH = yes
    PERL_CANARY_STABILITY_NOPROMPT = 1
    PERL_CPAN_REPORTER_CONFIG = /var/tmp/cpansmoker-1023/2020011109/cpanreporter_002_config.ini
    PERL_EXTUTILS_AUTOINSTALL = --defaultdeps
    PERL_USE_UNSAFE_INC = 1
    SHELL = /usr/local/bin/zsh
    TERM = screen
    TMPDIR = /var/tmp/cpansmoker-1023/2020011109

Perl special variables (and OS-specific diagnostics, for MSWin32):

    $^X = /usr/perl5.30.0p/bin/perl
    $UID/$EUID = 1023 / 1023
    $GID = 1023 1023
    $EGID = 1023 1023

Perl module toolchain versions installed:

    Module              Have    
    ------------------- --------
    CPAN                2.27    
    CPAN::Meta          2.150010
    Cwd                 3.78    
    ExtUtils::CBuilder  0.280231
    ExtUtils::Command   7.42    
    ExtUtils::Install   2.14    
    ExtUtils::MakeMaker 7.42    
    ExtUtils::Manifest  1.72    
    ExtUtils::ParseXS   3.40    
    File::Spec          3.78    
    JSON                4.02    
    JSON::PP            4.04    
    Module::Build       0.4229  
    Module::Signature   0.83    
    Parse::CPAN::Meta   2.150010
    Test::Harness       3.42    
    Test::More          1.302170
    YAML                1.29    
    YAML::Syck          1.31    
    version             0.9924  


--

Summary of my perl5 (revision 5 version 30 subversion 0) configuration:
   
  Platform:
    osname=freebsd
    osvers=12.0-stable
    archname=amd64-freebsd
    uname='freebsd cloud1.bbbike.org 12.0-stable freebsd 12.0-stable 5f6d693b936(stable12) generic amd64 '
    config_args='-ds -e -Dprefix=/usr/perl5.30.0p -Dcf_email=srezic@cpan.org -Doptimize=-O2 -pipe'
    hint=recommended
    useposix=true
    d_sigaction=define
    useithreads=undef
    usemultiplicity=undef
    use64bitint=define
    use64bitall=define
    uselongdouble=undef
    usemymalloc=n
    default_inc_excludes_dot=define
    bincompat5005=undef
  Compiler:
    cc='cc'
    ccflags ='-DHAS_FPSETMASK -DHAS_FLOATINGPOINT_H -fno-strict-aliasing -pipe -fstack-protector-strong -I/usr/local/include -D_FORTIFY_SOURCE=2'
    optimize='-O2 -pipe'
    cppflags='-DHAS_FPSETMASK -DHAS_FLOATINGPOINT_H -fno-strict-aliasing -pipe -fstack-protector-strong -I/usr/local/include'
    ccversion=''
    gccversion='4.2.1 Compatible FreeBSD Clang 8.0.0 (tags/RELEASE_800/final 356365)'
    gccosandvers=''
    intsize=4
    longsize=8
    ptrsize=8
    doublesize=8
    byteorder=12345678
    doublekind=3
    d_longlong=define
    longlongsize=8
    d_longdbl=define
    longdblsize=16
    longdblkind=3
    ivtype='long'
    ivsize=8
    nvtype='double'
    nvsize=8
    Off_t='off_t'
    lseeksize=8
    alignbytes=8
    prototype=define
  Linker and Libraries:
    ld='cc'
    ldflags ='-pthread -Wl,-E  -fstack-protector-strong -L/usr/local/lib'
    libpth=/usr/lib /usr/local/lib /usr/lib/clang/8.0.0/lib /usr/lib
    libs=-lpthread -lgdbm -ldl -lm -lcrypt -lutil -lc
    perllibs=-lpthread -ldl -lm -lcrypt -lutil -lc
    libc=
    so=so
    useshrplib=false
    libperl=libperl.a
    gnulibc_version=''
  Dynamic Linking:
    dlsrc=dl_dlopen.xs
    dlext=so
    d_dlsymun=undef
    ccdlflags=' '
    cccdlflags='-DPIC -fPIC'
    lddlflags='-shared  -L/usr/local/lib -fstack-protector-strong'


Characteristics of this binary (from libperl): 
  Compile-time options:
    HAS_TIMES
    PERLIO_LAYERS
    PERL_COPY_ON_WRITE
    PERL_DONT_CREATE_GVSV
    PERL_MALLOC_WRAP
    PERL_OP_PARENT
    PERL_PRESERVE_IVUV
    USE_64_BIT_ALL
    USE_64_BIT_INT
    USE_LARGE_FILES
    USE_LOCALE
    USE_LOCALE_COLLATE
    USE_LOCALE_CTYPE
    USE_LOCALE_NUMERIC
    USE_LOCALE_TIME
    USE_PERLIO
    USE_PERL_ATOF
  Built under freebsd
  Compiled at May 22 2019 20:12:17
  %ENV:
    PERL5LIB="/home/cpansand/.cpan/build/2020011207/WebService-ThreatStack-1.00-0/blib/arch:/home/cpansand/.cpan/build/2020011207/WebService-ThreatStack-1.00-0/blib/lib:/home/cpansand/.cpan/build/2020011207/plenigo-2.0006-0/blib/arch:/home/cpansand/.cpan/build/2020011207/plenigo-2.0006-0/blib/lib:/home/cpansand/.cpan/build/2020011207/HTTP-Cookies-6.08-2/blib/arch:/home/cpansand/.cpan/build/2020011207/HTTP-Cookies-6.08-2/blib/lib"
    PERL5OPT=""
    PERL5_CPANPLUS_IS_RUNNING="26490"
    PERL5_CPAN_IS_RUNNING="26490"
    PERL5_CPAN_IS_RUNNING_IN_RECURSION="86966,26490"
    PERLDOC="-MPod::Perldoc::ToTextOverstrike"
    PERL_BATCH="yes"
    PERL_CANARY_STABILITY_NOPROMPT="1"
    PERL_CPAN_REPORTER_CONFIG="/var/tmp/cpansmoker-1023/2020011109/cpanreporter_002_config.ini"
    PERL_EXTUTILS_AUTOINSTALL="--defaultdeps"
    PERL_USE_UNSAFE_INC="1"
  @INC:
    /home/cpansand/.cpan/build/2020011207/WebService-ThreatStack-1.00-0/blib/arch
    /home/cpansand/.cpan/build/2020011207/WebService-ThreatStack-1.00-0/blib/lib
    /home/cpansand/.cpan/build/2020011207/plenigo-2.0006-0/blib/arch
    /home/cpansand/.cpan/build/2020011207/plenigo-2.0006-0/blib/lib
    /home/cpansand/.cpan/build/2020011207/HTTP-Cookies-6.08-2/blib/arch
    /home/cpansand/.cpan/build/2020011207/HTTP-Cookies-6.08-2/blib/lib
    /usr/perl5.30.0p/lib/site_perl/5.30.0/amd64-freebsd
    /usr/perl5.30.0p/lib/site_perl/5.30.0
    /usr/perl5.30.0p/lib/5.30.0/amd64-freebsd
    /usr/perl5.30.0p/lib/5.30.0
    .