Report for Apache-ASP-2.62

Back
From: metabase:user:314402c4-2aae-11df-837a-5e0a49663a4f
Subject: PASS Apache-ASP-2.62 v5.20.1 RC1 GNU/Linux
Date: 2014-08-29T13:18:18Z

This distribution has been tested as part of the CPAN Testers
project, supporting the Perl programming language.  See
http://wiki.cpantesters.org/ for more information or email
questions to cpan-testers-discuss@perl.org


--
Dear J Chamas,

This is a computer-generated report for Apache-ASP-2.62
on perl 5.20.1, created by CPAN-Reporter-1.2011.

Thank you for uploading your work to CPAN.  Congratulations!
All tests were successful.

Sections of this report:

    * Tester comments
    * Program output
    * Prerequisites
    * Environment and other context

------------------------------
TESTER COMMENTS
------------------------------

Additional comments from tester:

none provided

------------------------------
PROGRAM OUTPUT
------------------------------

Output from '/usr/bin/make test':

PERL_DL_NONLAZY=1 /bbbike/perl-5.20.1-RC1/bin/perl "-MExtUtils::Command::MM" "-MTest::Harness" "-e" "undef *Test::Harness::Switches; test_harness(0, 'blib/lib', 'blib/arch')" t/*.t
t/application.t .......... ok
t/asp-perl1.t ............ ok
t/asp-perl2.t ............ ok
t/asp_object.t ........... ok
t/cache.t ................ ok
t/cgi_headers.t .......... ok
Use of uninitialized value $rv in lc at /tmpfs/.cpan-build/Apache-ASP-2.62-s39dvr/blib/lib/Apache/ASP.pm line 2018.
Use of uninitialized value $rv in lc at /tmpfs/.cpan-build/Apache-ASP-2.62-s39dvr/blib/lib/Apache/ASP.pm line 2018.
Use of uninitialized value $rv in lc at /tmpfs/.cpan-build/Apache-ASP-2.62-s39dvr/blib/lib/Apache/ASP.pm line 2018.
Use of uninitialized value $rv in lc at /tmpfs/.cpan-build/Apache-ASP-2.62-s39dvr/blib/lib/Apache/ASP.pm line 2018.
Use of uninitialized value $rv in lc at /tmpfs/.cpan-build/Apache-ASP-2.62-s39dvr/blib/lib/Apache/ASP.pm line 2018.
Use of uninitialized value $rv in lc at /tmpfs/.cpan-build/Apache-ASP-2.62-s39dvr/blib/lib/Apache/ASP.pm line 2018.
Use of uninitialized value $rv in lc at /tmpfs/.cpan-build/Apache-ASP-2.62-s39dvr/blib/lib/Apache/ASP.pm line 2018.
Use of uninitialized value $rv in lc at /tmpfs/.cpan-build/Apache-ASP-2.62-s39dvr/blib/lib/Apache/ASP.pm line 2018.
Use of uninitialized value $rv in lc at /tmpfs/.cpan-build/Apache-ASP-2.62-s39dvr/blib/lib/Apache/ASP.pm line 2018.
t/closure.t .............. ok
t/collection.t ........... ok
t/collectionitem.t ....... ok
t/cookies.t .............. ok
t/end.t .................. ok
t/general.t .............. ok
t/global_event_end.t ..... ok
t/include.t .............. ok
Use of uninitialized value $rv in lc at /tmpfs/.cpan-build/Apache-ASP-2.62-s39dvr/blib/lib/Apache/ASP.pm line 2018.
 at /tmpfs/.cpan-build/Apache-ASP-2.62-s39dvr/blib/lib/Apache/ASP.pm line 2018.
	Apache::ASP::get_dir_config(Apache::ASP::CGI::Table=HASH(0x24f9028), "Global") called at /tmpfs/.cpan-build/Apache-ASP-2.62-s39dvr/blib/lib/Apache/ASP.pm line 276
	Apache::ASP::new("Apache::ASP", Apache::ASP::CGI=HASH(0x20057c8), "t/include_change.t") called at /tmpfs/.cpan-build/Apache-ASP-2.62-s39dvr/blib/lib/Apache/ASP.pm line 184
	Apache::ASP::handler(Apache::ASP::CGI=HASH(0x20057c8)) called at /tmpfs/.cpan-build/Apache-ASP-2.62-s39dvr/blib/lib/Apache/ASP/CGI.pm line 40
	Apache::ASP::CGI::do_self("NoState", 1, "Debug", 0, "UseStrict", 0) called at t/include_change.t line 5
Use of uninitialized value $rv in lc at /tmpfs/.cpan-build/Apache-ASP-2.62-s39dvr/blib/lib/Apache/ASP.pm line 2018.
 at /tmpfs/.cpan-build/Apache-ASP-2.62-s39dvr/blib/lib/Apache/ASP.pm line 2018.
	Apache::ASP::get_dir_config(Apache::ASP::CGI::Table=HASH(0x24f9028), "GlobalPackage") called at /tmpfs/.cpan-build/Apache-ASP-2.62-s39dvr/blib/lib/Apache/ASP.pm line 280
	Apache::ASP::new("Apache::ASP", Apache::ASP::CGI=HASH(0x20057c8), "t/include_change.t") called at /tmpfs/.cpan-build/Apache-ASP-2.62-s39dvr/blib/lib/Apache/ASP.pm line 184
	Apache::ASP::handler(Apache::ASP::CGI=HASH(0x20057c8)) called at /tmpfs/.cpan-build/Apache-ASP-2.62-s39dvr/blib/lib/Apache/ASP/CGI.pm line 40
	Apache::ASP::CGI::do_self("NoState", 1, "Debug", 0, "UseStrict", 0) called at t/include_change.t line 5
Use of uninitialized value $rv in lc at /tmpfs/.cpan-build/Apache-ASP-2.62-s39dvr/blib/lib/Apache/ASP.pm line 2018.
 at /tmpfs/.cpan-build/Apache-ASP-2.62-s39dvr/blib/lib/Apache/ASP.pm line 2018.
	Apache::ASP::get_dir_config(Apache::ASP::CGI::Table=HASH(0x24f9028), "InodeNames") called at /tmpfs/.cpan-build/Apache-ASP-2.62-s39dvr/blib/lib/Apache/ASP.pm line 280
	Apache::ASP::new("Apache::ASP", Apache::ASP::CGI=HASH(0x20057c8), "t/include_change.t") called at /tmpfs/.cpan-build/Apache-ASP-2.62-s39dvr/blib/lib/Apache/ASP.pm line 184
	Apache::ASP::handler(Apache::ASP::CGI=HASH(0x20057c8)) called at /tmpfs/.cpan-build/Apache-ASP-2.62-s39dvr/blib/lib/Apache/ASP/CGI.pm line 40
	Apache::ASP::CGI::do_self("NoState", 1, "Debug", 0, "UseStrict", 0) called at t/include_change.t line 5
Use of uninitialized value $rv in lc at /tmpfs/.cpan-build/Apache-ASP-2.62-s39dvr/blib/lib/Apache/ASP.pm line 2018.
 at /tmpfs/.cpan-build/Apache-ASP-2.62-s39dvr/blib/lib/Apache/ASP.pm line 2018.
	Apache::ASP::get_dir_config(Apache::ASP::CGI::Table=HASH(0x24f9028), "NoCache") called at /tmpfs/.cpan-build/Apache-ASP-2.62-s39dvr/blib/lib/Apache/ASP.pm line 280
	Apache::ASP::new("Apache::ASP", Apache::ASP::CGI=HASH(0x20057c8), "t/include_change.t") called at /tmpfs/.cpan-build/Apache-ASP-2.62-s39dvr/blib/lib/Apache/ASP.pm line 184
	Apache::ASP::handler(Apache::ASP::CGI=HASH(0x20057c8)) called at /tmpfs/.cpan-build/Apache-ASP-2.62-s39dvr/blib/lib/Apache/ASP/CGI.pm line 40
	Apache::ASP::CGI::do_self("NoState", 1, "Debug", 0, "UseStrict", 0) called at t/include_change.t line 5
Use of uninitialized value $rv in lc at /tmpfs/.cpan-build/Apache-ASP-2.62-s39dvr/blib/lib/Apache/ASP.pm line 2018.
 at /tmpfs/.cpan-build/Apache-ASP-2.62-s39dvr/blib/lib/Apache/ASP.pm line 2018.
	Apache::ASP::get_dir_config(Apache::ASP::CGI::Table=HASH(0x24f9028), "StatINC") called at /tmpfs/.cpan-build/Apache-ASP-2.62-s39dvr/blib/lib/Apache/ASP.pm line 280
	Apache::ASP::new("Apache::ASP", Apache::ASP::CGI=HASH(0x20057c8), "t/include_change.t") called at /tmpfs/.cpan-build/Apache-ASP-2.62-s39dvr/blib/lib/Apache/ASP.pm line 184
	Apache::ASP::handler(Apache::ASP::CGI=HASH(0x20057c8)) called at /tmpfs/.cpan-build/Apache-ASP-2.62-s39dvr/blib/lib/Apache/ASP/CGI.pm line 40
	Apache::ASP::CGI::do_self("NoState", 1, "Debug", 0, "UseStrict", 0) called at t/include_change.t line 5
Use of uninitialized value $rv in lc at /tmpfs/.cpan-build/Apache-ASP-2.62-s39dvr/blib/lib/Apache/ASP.pm line 2018.
 at /tmpfs/.cpan-build/Apache-ASP-2.62-s39dvr/blib/lib/Apache/ASP.pm line 2018.
	Apache::ASP::get_dir_config(Apache::ASP::CGI::Table=HASH(0x24f9028), "StatINCMatch") called at /tmpfs/.cpan-build/Apache-ASP-2.62-s39dvr/blib/lib/Apache/ASP.pm line 280
	Apache::ASP::new("Apache::ASP", Apache::ASP::CGI=HASH(0x20057c8), "t/include_change.t") called at /tmpfs/.cpan-build/Apache-ASP-2.62-s39dvr/blib/lib/Apache/ASP.pm line 184
	Apache::ASP::handler(Apache::ASP::CGI=HASH(0x20057c8)) called at /tmpfs/.cpan-build/Apache-ASP-2.62-s39dvr/blib/lib/Apache/ASP/CGI.pm line 40
	Apache::ASP::CGI::do_self("NoState", 1, "Debug", 0, "UseStrict", 0) called at t/include_change.t line 5
Use of uninitialized value $rv in lc at /tmpfs/.cpan-build/Apache-ASP-2.62-s39dvr/blib/lib/Apache/ASP.pm line 2018.
 at /tmpfs/.cpan-build/Apache-ASP-2.62-s39dvr/blib/lib/Apache/ASP.pm line 2018.
	Apache::ASP::get_dir_config(Apache::ASP::CGI::Table=HASH(0x24f9028), "XSLT") called at /tmpfs/.cpan-build/Apache-ASP-2.62-s39dvr/blib/lib/Apache/ASP.pm line 280
	Apache::ASP::new("Apache::ASP", Apache::ASP::CGI=HASH(0x20057c8), "t/include_change.t") called at /tmpfs/.cpan-build/Apache-ASP-2.62-s39dvr/blib/lib/Apache/ASP.pm line 184
	Apache::ASP::handler(Apache::ASP::CGI=HASH(0x20057c8)) called at /tmpfs/.cpan-build/Apache-ASP-2.62-s39dvr/blib/lib/Apache/ASP/CGI.pm line 40
	Apache::ASP::CGI::do_self("NoState", 1, "Debug", 0, "UseStrict", 0) called at t/include_change.t line 5
Use of uninitialized value $rv in lc at /tmpfs/.cpan-build/Apache-ASP-2.62-s39dvr/blib/lib/Apache/ASP.pm line 2018.
 at /tmpfs/.cpan-build/Apache-ASP-2.62-s39dvr/blib/lib/Apache/ASP.pm line 2018.
	Apache::ASP::get_dir_config(Apache::ASP::CGI::Table=HASH(0x24f9028), "Filter") called at /tmpfs/.cpan-build/Apache-ASP-2.62-s39dvr/blib/lib/Apache/ASP.pm line 326
	Apache::ASP::new("Apache::ASP", Apache::ASP::CGI=HASH(0x20057c8), "t/include_change.t") called at /tmpfs/.cpan-build/Apache-ASP-2.62-s39dvr/blib/lib/Apache/ASP.pm line 184
	Apache::ASP::handler(Apache::ASP::CGI=HASH(0x20057c8)) called at /tmpfs/.cpan-build/Apache-ASP-2.62-s39dvr/blib/lib/Apache/ASP/CGI.pm line 40
	Apache::ASP::CGI::do_self("NoState", 1, "Debug", 0, "UseStrict", 0) called at t/include_change.t line 5
Use of uninitialized value $rv in lc at /tmpfs/.cpan-build/Apache-ASP-2.62-s39dvr/blib/lib/Apache/ASP.pm line 2018.
 at /tmpfs/.cpan-build/Apache-ASP-2.62-s39dvr/blib/lib/Apache/ASP.pm line 2018.
	Apache::ASP::get_dir_config(Apache::ASP::CGI::Table=HASH(0x24f9028), "CompressGzip") called at /tmpfs/.cpan-build/Apache-ASP-2.62-s39dvr/blib/lib/Apache/ASP.pm line 353
	Apache::ASP::new("Apache::ASP", Apache::ASP::CGI=HASH(0x20057c8), "t/include_change.t") called at /tmpfs/.cpan-build/Apache-ASP-2.62-s39dvr/blib/lib/Apache/ASP.pm line 184
	Apache::ASP::handler(Apache::ASP::CGI=HASH(0x20057c8)) called at /tmpfs/.cpan-build/Apache-ASP-2.62-s39dvr/blib/lib/Apache/ASP/CGI.pm line 40
	Apache::ASP::CGI::do_self("NoState", 1, "Debug", 0, "UseStrict", 0) called at t/include_change.t line 5
t/include_change.t ....... ok
t/include_dir_error.t .... ok
t/include_runtime.t ...... ok
t/inode_names.t .......... ok
Use of uninitialized value $rv in lc at /tmpfs/.cpan-build/Apache-ASP-2.62-s39dvr/blib/lib/Apache/ASP.pm line 2018.
Use of uninitialized value $rv in lc at /tmpfs/.cpan-build/Apache-ASP-2.62-s39dvr/blib/lib/Apache/ASP.pm line 2018.
Use of uninitialized value $rv in lc at /tmpfs/.cpan-build/Apache-ASP-2.62-s39dvr/blib/lib/Apache/ASP.pm line 2018.
Use of uninitialized value $rv in lc at /tmpfs/.cpan-build/Apache-ASP-2.62-s39dvr/blib/lib/Apache/ASP.pm line 2018.
Use of uninitialized value $rv in lc at /tmpfs/.cpan-build/Apache-ASP-2.62-s39dvr/blib/lib/Apache/ASP.pm line 2018.
Use of uninitialized value $rv in lc at /tmpfs/.cpan-build/Apache-ASP-2.62-s39dvr/blib/lib/Apache/ASP.pm line 2018.
Use of uninitialized value $rv in lc at /tmpfs/.cpan-build/Apache-ASP-2.62-s39dvr/blib/lib/Apache/ASP.pm line 2018.
Use of uninitialized value $rv in lc at /tmpfs/.cpan-build/Apache-ASP-2.62-s39dvr/blib/lib/Apache/ASP.pm line 2018.
Use of uninitialized value $rv in lc at /tmpfs/.cpan-build/Apache-ASP-2.62-s39dvr/blib/lib/Apache/ASP.pm line 2018.
t/load.t ................. ok
t/long_names.t ........... ok
t/loops.t ................ ok
Use of uninitialized value $rv in lc at /tmpfs/.cpan-build/Apache-ASP-2.62-s39dvr/blib/lib/Apache/ASP.pm line 2018.
Use of uninitialized value $rv in lc at /tmpfs/.cpan-build/Apache-ASP-2.62-s39dvr/blib/lib/Apache/ASP.pm line 2018.
Use of uninitialized value $rv in lc at /tmpfs/.cpan-build/Apache-ASP-2.62-s39dvr/blib/lib/Apache/ASP.pm line 2018.
Use of uninitialized value $rv in lc at /tmpfs/.cpan-build/Apache-ASP-2.62-s39dvr/blib/lib/Apache/ASP.pm line 2018.
Use of uninitialized value $rv in lc at /tmpfs/.cpan-build/Apache-ASP-2.62-s39dvr/blib/lib/Apache/ASP.pm line 2018.
Use of uninitialized value $rv in lc at /tmpfs/.cpan-build/Apache-ASP-2.62-s39dvr/blib/lib/Apache/ASP.pm line 2018.
Use of uninitialized value $rv in lc at /tmpfs/.cpan-build/Apache-ASP-2.62-s39dvr/blib/lib/Apache/ASP.pm line 2018.
Use of uninitialized value $rv in lc at /tmpfs/.cpan-build/Apache-ASP-2.62-s39dvr/blib/lib/Apache/ASP.pm line 2018.
Use of uninitialized value $rv in lc at /tmpfs/.cpan-build/Apache-ASP-2.62-s39dvr/blib/lib/Apache/ASP.pm line 2018.
Use of uninitialized value $rv in lc at /tmpfs/.cpan-build/Apache-ASP-2.62-s39dvr/blib/lib/Apache/ASP.pm line 2018.
t/mail_error.t ........... ok
t/no_cache.t ............. ok
t/raw.t .................. ok
t/raw_include.t .......... ok
Use of uninitialized value $rv in lc at /tmpfs/.cpan-build/Apache-ASP-2.62-s39dvr/blib/lib/Apache/ASP.pm line 2018.
Use of uninitialized value $rv in lc at /tmpfs/.cpan-build/Apache-ASP-2.62-s39dvr/blib/lib/Apache/ASP.pm line 2018.
Use of uninitialized value $rv in lc at /tmpfs/.cpan-build/Apache-ASP-2.62-s39dvr/blib/lib/Apache/ASP.pm line 2018.
Use of uninitialized value $rv in lc at /tmpfs/.cpan-build/Apache-ASP-2.62-s39dvr/blib/lib/Apache/ASP.pm line 2018.
Use of uninitialized value $rv in lc at /tmpfs/.cpan-build/Apache-ASP-2.62-s39dvr/blib/lib/Apache/ASP.pm line 2018.
Use of uninitialized value $rv in lc at /tmpfs/.cpan-build/Apache-ASP-2.62-s39dvr/blib/lib/Apache/ASP.pm line 2018.
Use of uninitialized value $rv in lc at /tmpfs/.cpan-build/Apache-ASP-2.62-s39dvr/blib/lib/Apache/ASP.pm line 2018.
Use of uninitialized value $rv in lc at /tmpfs/.cpan-build/Apache-ASP-2.62-s39dvr/blib/lib/Apache/ASP.pm line 2018.
Use of uninitialized value $rv in lc at /tmpfs/.cpan-build/Apache-ASP-2.62-s39dvr/blib/lib/Apache/ASP.pm line 2018.
Use of uninitialized value $rv in lc at /tmpfs/.cpan-build/Apache-ASP-2.62-s39dvr/blib/lib/Apache/ASP.pm line 2018.
Use of uninitialized value $rv in lc at /tmpfs/.cpan-build/Apache-ASP-2.62-s39dvr/blib/lib/Apache/ASP.pm line 2018.
Use of uninitialized value $rv in lc at /tmpfs/.cpan-build/Apache-ASP-2.62-s39dvr/blib/lib/Apache/ASP.pm line 2018.
Use of uninitialized value $rv in lc at /tmpfs/.cpan-build/Apache-ASP-2.62-s39dvr/blib/lib/Apache/ASP.pm line 2018.
Use of uninitialized value $rv in lc at /tmpfs/.cpan-build/Apache-ASP-2.62-s39dvr/blib/lib/Apache/ASP.pm line 2018.
Use of uninitialized value $rv in lc at /tmpfs/.cpan-build/Apache-ASP-2.62-s39dvr/blib/lib/Apache/ASP.pm line 2018.
Use of uninitialized value $rv in lc at /tmpfs/.cpan-build/Apache-ASP-2.62-s39dvr/blib/lib/Apache/ASP.pm line 2018.
Use of uninitialized value $rv in lc at /tmpfs/.cpan-build/Apache-ASP-2.62-s39dvr/blib/lib/Apache/ASP.pm line 2018.
Use of uninitialized value $rv in lc at /tmpfs/.cpan-build/Apache-ASP-2.62-s39dvr/blib/lib/Apache/ASP.pm line 2018.
Use of uninitialized value $rv in lc at /tmpfs/.cpan-build/Apache-ASP-2.62-s39dvr/blib/lib/Apache/ASP.pm line 2018.
Use of uninitialized value $rv in lc at /tmpfs/.cpan-build/Apache-ASP-2.62-s39dvr/blib/lib/Apache/ASP.pm line 2018.
t/reload_global_asa.t .... ok
t/req_params_none.t ...... ok
t/request.t .............. ok
t/response.t ............. ok
t/response_end.t ......... ok
t/same_name.t ............ ok
t/server.t ............... ok
t/server_mail.t .......... skipped: (no reason given)
t/server_transfer.t ...... ok
t/session.t .............. ok
t/session_events.t ....... ok
t/session_query_parse.t .. ok
t/session_serialize.t .... ok
t/share.t ................ ok
t/stat_inc.t ............. ok
t/strict_error.t ......... ok
t/taint_check.t .......... ok
t/unique_packages.t ...... ok
t/xmlsubs.t .............. ok
t/xmlsubs_aspargs.t ...... ok
t/xmlsubs_perlargs.t ..... ok
t/xmlsubsmatch.t ......... ok
All tests successful.
Files=47, Tests=340,  8 wallclock secs ( 0.16 usr  0.22 sys +  2.39 cusr  0.84 csys =  3.61 CPU)
Result: PASS

------------------------------
PREREQUISITES
------------------------------

Prerequisite modules loaded:

requires:

    Module              Need Have  
    ------------------- ---- ------
    Carp                0    1.3301
    Class::Struct       0    0.65  
    Data::Dumper        0    2.151 
    Digest::MD5         0    2.53  
    Fcntl               0    1.11  
    File::Basename      0    2.85  
    MLDBM               0    2.05  
    MLDBM::Sync         0    0.30  
    SDBM_File           0    1.11  

build_requires:

    Module              Need Have  
    ------------------- ---- ------
    ExtUtils::MakeMaker 0    6.98  


------------------------------
ENVIRONMENT AND OTHER CONTEXT
------------------------------

Environment variables:

    DBIC_NO_WARN_BAD_PERL = 1
    LANG = C
    LC_ALL = de_DE.UTF-8
    PATH = /usr/local/bin:/usr/bin:/bin:/usr/local/sbin:/usr/sbin:/sbin:/home/eserte/bin/linux-gnu:/home/eserte/bin/sh:/home/eserte/bin:/usr/games:/home/eserte/devel:/home/eserte/src/srezic-misc/scripts
    PERL5LIB = 
    PERL5OPT = 
    PERL5_CPANPLUS_IS_RUNNING = 27548
    PERL5_CPAN_IS_RUNNING = 27548
    PERL5_CPAN_IS_RUNNING_IN_RECURSION = 11131,27548
    PERLDOC = -MPod::Perldoc::ToTextOverstrike
    PERL_BATCH = yes
    PERL_CPAN_REPORTER_CONFIG = /var/tmp/cpansmoker-1001/gGAUMdRtgZ_config.ini
    PERL_EXTUTILS_AUTOINSTALL = --defaultdeps
    PERL_HTML_DISPLAY_CLASS = HTML::Display::Mozilla
    PERL_PARALLEL_SMOKER = yes
    SHELL = /bin/zsh
    TERM = screen
    TMPDIR = /var/tmp/cpansmoker-1001

Perl special variables (and OS-specific diagnostics, for MSWin32):

    $^X = /bbbike/perl-5.20.1-RC1/bin/perl
    $UID/$EUID = 1001 / 1001
    $GID = 1001 109 1001
    $EGID = 1001 109 1001

Perl module toolchain versions installed:

    Module              Have    
    ------------------- --------
    CPAN                2.05    
    CPAN::Meta          2.140640
    Cwd                 3.48    
    ExtUtils::CBuilder  0.280217
    ExtUtils::Command   1.18    
    ExtUtils::Install   1.67    
    ExtUtils::MakeMaker 6.98    
    ExtUtils::Manifest  1.65    
    ExtUtils::ParseXS   3.24    
    File::Spec          3.48    
    JSON                2.90    
    JSON::PP            2.27203 
    Module::Build       0.4208  
    Module::Signature   0.73    
    Parse::CPAN::Meta   1.4414  
    Test::Harness       3.33    
    Test::More          1.001003
    YAML                1.09    
    YAML::Syck          1.27    
    version             0.9909  


--

Summary of my perl5 (revision 5 version 20 subversion 1) configuration:
   
  Platform:
    osname=linux, osvers=3.2.0-4-amd64, archname=x86_64-linux
    uname='linux eserte 3.2.0-4-amd64 #1 smp debian 3.2.60-1+deb7u3 x86_64 gnulinux '
    config_args='-ds -e -Dprefix=/opt/perl-5.20.1-RC1'
    hint=recommended, useposix=true, d_sigaction=define
    useithreads=undef, usemultiplicity=undef
    use64bitint=define, use64bitall=define, uselongdouble=undef
    usemymalloc=n, bincompat5005=undef
  Compiler:
    cc='cc', ccflags ='-fwrapv -fno-strict-aliasing -pipe -fstack-protector -I/usr/local/include -D_LARGEFILE_SOURCE -D_FILE_OFFSET_BITS=64',
    optimize='-O2',
    cppflags='-fwrapv -fno-strict-aliasing -pipe -fstack-protector -I/usr/local/include'
    ccversion='', gccversion='4.7.2', gccosandvers=''
    intsize=4, longsize=8, ptrsize=8, doublesize=8, byteorder=12345678
    d_longlong=define, longlongsize=8, d_longdbl=define, longdblsize=16
    ivtype='long', ivsize=8, nvtype='double', nvsize=8, Off_t='off_t', lseeksize=8
    alignbytes=8, prototype=define
  Linker and Libraries:
    ld='cc', ldflags =' -fstack-protector -L/usr/local/lib'
    libpth=/usr/local/lib /usr/lib/gcc/x86_64-linux-gnu/4.7/include-fixed /usr/include/x86_64-linux-gnu /usr/lib /lib/x86_64-linux-gnu /lib/../lib /usr/lib/x86_64-linux-gnu /usr/lib/../lib /lib
    libs=-lnsl -ldb -ldl -lm -lcrypt -lutil -lc
    perllibs=-lnsl -ldl -lm -lcrypt -lutil -lc
    libc=libc-2.13.so, so=so, useshrplib=false, libperl=libperl.a
    gnulibc_version='2.13'
  Dynamic Linking:
    dlsrc=dl_dlopen.xs, dlext=so, d_dlsymun=undef, ccdlflags='-Wl,-E'
    cccdlflags='-fPIC', lddlflags='-shared -O2 -L/usr/local/lib -fstack-protector'


Characteristics of this binary (from libperl): 
  Compile-time options: HAS_TIMES PERLIO_LAYERS PERL_DONT_CREATE_GVSV
                        PERL_HASH_FUNC_ONE_AT_A_TIME_HARD PERL_MALLOC_WRAP
                        PERL_NEW_COPY_ON_WRITE PERL_PRESERVE_IVUV
                        USE_64_BIT_ALL USE_64_BIT_INT USE_LARGE_FILES
                        USE_LOCALE USE_LOCALE_COLLATE USE_LOCALE_CTYPE
                        USE_LOCALE_NUMERIC USE_PERLIO USE_PERL_ATOF
  Locally applied patches:
	RC1
  Built under linux
  Compiled at Aug 25 2014 19:48:42
  %ENV:
    PERL5LIB=""
    PERL5OPT=""
    PERL5_CPANPLUS_IS_RUNNING="27548"
    PERL5_CPAN_IS_RUNNING="27548"
    PERL5_CPAN_IS_RUNNING_IN_RECURSION="11131,27548"
    PERLDOC="-MPod::Perldoc::ToTextOverstrike"
    PERL_BATCH="yes"
    PERL_CPAN_REPORTER_CONFIG="/var/tmp/cpansmoker-1001/gGAUMdRtgZ_config.ini"
    PERL_EXTUTILS_AUTOINSTALL="--defaultdeps"
    PERL_HTML_DISPLAY_CLASS="HTML::Display::Mozilla"
    PERL_PARALLEL_SMOKER="yes"
  @INC:
    /opt/perl-5.20.1-RC1/lib/site_perl/5.20.1/x86_64-linux
    /opt/perl-5.20.1-RC1/lib/site_perl/5.20.1
    /opt/perl-5.20.1-RC1/lib/5.20.1/x86_64-linux
    /opt/perl-5.20.1-RC1/lib/5.20.1
    .