Back
From: metabase:user:dc1c8589-6bf4-1014-abca-562cf06b08ef
Subject: PASS Regexp-Common-2016053101 v5.24.0
Date: 2016-05-31T13:29:12Z
This distribution has been tested as part of the CPAN Testers
project, supporting the Perl programming language. See
http://wiki.cpantesters.org/ for more information or email
questions to cpan-testers-discuss@perl.org
--
Dear Abigail,
This is a computer-generated report for Regexp-Common-2016053101
on perl 5.24.0, created by CPAN-Reporter-1.2017.
Thank you for uploading your work to CPAN. Congratulations!
All tests were successful.
Sections of this report:
* Tester comments
* Program output
* Prerequisites
* Environment and other context
------------------------------
TESTER COMMENTS
------------------------------
Additional comments from tester:
none provided
------------------------------
PROGRAM OUTPUT
------------------------------
Output from 'C:\strawberry-perl-5.24-32bit\c\bin\dmake.exe test':
"C:\strawberry-perl-5.24-32bit\perl\bin\perl.exe" "-MExtUtils::Command::MM" "-MTest::Harness" "-e" "undef *Test::Harness::Switches; test_harness(0, 'blib\lib', 'blib\arch')" t/test___luhn.t t/test_balanced.t t/test_bases.t t/test_bases_sep.t t/test_comments.t t/test_curry.t t/test_i.t t/test_keep.t t/test_lingua_palindrome.t t/test_list.t t/test_no_import.t t/test_profanity.t t/test_squares.t t/test_sub.t t/test_sub_named.t t/test_ws.t t/comment/delimited.t t/comment/html.t t/comment/nested.t t/comment/pascal.t t/comment/single_line.t t/comment/single_or_multiline.t t/delimited/101_delimited.t t/delimited/111_bquoted.t t/net/101_ipv4.t t/net/102_ipv4_strict.t t/net/111_ipv6.t t/net/121_mac.t t/net/131_domain.t t/number/101_integer.t t/number/111_integer_base.t t/number/121_integer_places.t t/number/122_integer_places.t t/number/123_integer_places.t t/number/131_integer_sep.t t/number/141_integer_group.t t/number/801_roman.t t/number/decimal.t t/number/number.t t/SEN/usa_ssn.t t/URI/any.t t/URI/fax.t t/URI/file.t t/URI/ftp.t t/URI/gopher.t t/URI/http.t t/URI/news.t t/URI/nntp.t t/URI/pop.t t/URI/prospero.t t/URI/tel.t t/URI/telnet.t t/URI/tv.t t/URI/wais.t t/zip/101_austria.t t/zip/102_austria.t t/zip/australia.t t/zip/belgium.t t/zip/denmark.t t/zip/france.t t/zip/germany.t t/zip/greenland.t t/zip/italy.t t/zip/netherlands.t t/zip/norway.t t/zip/spain.t t/zip/us.t t/zip/zip.t t/zzz_author_tests/101_pod.t t/zzz_author_tests/102_pod_coverage.t t/zzz_author_tests/120_versions.t t/zzz_author_tests/130_permissions.t t/zzz_author_tests/140_git.t
t/comment/delimited.t .................. ok
t/comment/html.t ....................... ok
t/comment/nested.t ..................... ok
t/comment/pascal.t ..................... ok
t/comment/single_line.t ................ ok
t/comment/single_or_multiline.t ........ ok
t/delimited/101_delimited.t ............ skipped: Test::Regexp not found
t/delimited/111_bquoted.t .............. skipped: Test::Regexp not found
t/net/101_ipv4.t ....................... ok
t/net/102_ipv4_strict.t ................ skipped: Test::Regexp not found
t/net/111_ipv6.t ....................... ok
t/net/121_mac.t ........................ ok
t/net/131_domain.t ..................... ok
t/number/101_integer.t ................. skipped: Test::Regexp not found
t/number/111_integer_base.t ............ skipped: Test::Regexp not found
t/number/121_integer_places.t .......... skipped: Test::Regexp not found
t/number/122_integer_places.t .......... skipped: Test::Regexp not found
t/number/123_integer_places.t .......... skipped: Test::Regexp not found
t/number/131_integer_sep.t ............. skipped: Test::Regexp not found
t/number/141_integer_group.t ........... skipped: Test::Regexp not found
t/number/801_roman.t ................... skipped: Test::Regexp not found
t/number/decimal.t ..................... ok
t/number/number.t ...................... ok
t/SEN/usa_ssn.t ........................ ok
t/test___luhn.t ........................ ok
t/test_balanced.t ...................... ok
t/test_bases.t ......................... ok
t/test_bases_sep.t ..................... ok
t/test_comments.t ...................... ok
t/test_curry.t ......................... ok
t/test_i.t ............................. ok
t/test_keep.t .......................... ok
t/test_lingua_palindrome.t ............. ok
t/test_list.t .......................... ok
t/test_no_import.t ..................... ok
t/test_profanity.t ..................... ok
t/test_squares.t ....................... ok
t/test_sub.t ........................... ok
t/test_sub_named.t ..................... ok
t/test_ws.t ............................ ok
t/URI/any.t ............................ ok
t/URI/fax.t ............................ ok
t/URI/file.t ........................... ok
t/URI/ftp.t ............................ ok
t/URI/gopher.t ......................... ok
t/URI/http.t ........................... ok
t/URI/news.t ........................... ok
t/URI/nntp.t ........................... ok
t/URI/pop.t ............................ ok
t/URI/prospero.t ....................... ok
t/URI/tel.t ............................ ok
t/URI/telnet.t ......................... ok
t/URI/tv.t ............................. ok
t/URI/wais.t ........................... ok
t/zip/101_austria.t .................... skipped: Test::Regexp not found
t/zip/102_austria.t .................... skipped: Test::Regexp not found
t/zip/australia.t ...................... ok
t/zip/belgium.t ........................ ok
t/zip/denmark.t ........................ ok
t/zip/france.t ......................... ok
t/zip/germany.t ........................ ok
t/zip/greenland.t ...................... ok
t/zip/italy.t .......................... ok
t/zip/netherlands.t .................... ok
t/zip/norway.t ......................... ok
t/zip/spain.t .......................... ok
t/zip/us.t ............................. ok
t/zip/zip.t ............................ ok
t/zzz_author_tests/101_pod.t ........... skipped: AUTHOR test
t/zzz_author_tests/102_pod_coverage.t .. skipped: AUTHOR test
t/zzz_author_tests/120_versions.t ...... skipped: AUTHOR test
t/zzz_author_tests/130_permissions.t ... skipped: AUTHOR test
t/zzz_author_tests/140_git.t ........... skipped: AUTHOR test
All tests successful.
Files=73, Tests=191901, 55 wallclock secs (20.89 usr + 0.19 sys = 21.08 CPU)
Result: PASS
------------------------------
PREREQUISITES
------------------------------
Prerequisite modules loaded:
requires:
Module Need Have
------------------- ------- --------
perl 5.00473 5.024000
strict 0 1.11
vars 0 1.03
build_requires:
Module Need Have
------------------- ------- --------
ExtUtils::MakeMaker 0 7.18
configure_requires:
Module Need Have
------------------- ------- --------
ExtUtils::MakeMaker 0 7.18
strict 0 1.11
------------------------------
ENVIRONMENT AND OTHER CONTEXT
------------------------------
Environment variables:
COMSPEC = C:\WINDOWS\system32\cmd.exe
NONINTERACTIVE_TESTING = 1
NUMBER_OF_PROCESSORS = 4
PATH = C:\strawberry-perl-5.24-32bit\perl\site\bin;C:\strawberry-perl-5.24-32bit\perl\bin;C:\strawberry-perl-5.24-32bit\c\bin;C:\ProgramData\Oracle\Java\javapath;C:\Program Files (x86)\Wizvera\Delfino;C:\WINDOWS\SYSTEM32;C:\WINDOWS;C:\WINDOWS\SYSTEM32\WBEM;C:\WINDOWS\SYSTEM32\WINDOWSPOWERSHELL\V1.0\;C:\PROGRAM FILES (X86)\LENOVO\ACCESS CONNECTIONS\;C:\PROGRAM FILES\THINKPAD\BLUETOOTH SOFTWARE\;C:\PROGRAM FILES\THINKPAD\BLUETOOTH SOFTWARE\SYSWOW64;C:\Program Files (x86)\Intel\OpenCL SDK\2.0\bin\x86;C:\Program Files (x86)\Intel\OpenCL SDK\2.0\bin\x64;C:\Program Files (x86)\Windows Kits\8.1\Windows Performance Toolkit\;C:\WINDOWS\system32;C:\WINDOWS;C:\WINDOWS\System32\Wbem;C:\WINDOWS\System32\WindowsPowerShell\v1.0\;C:\Program Files\Microsoft\Web Platform Installer\;;C:\Program Files\Docker Toolbox;C:\Program Files (x86)\Microsoft VS Code\bin;c:\Util\babun\.babun;C:\Util\babun\.babun
PERL5LIB =
PERL5OPT =
PERL5_CPANPLUS_IS_RUNNING = 10340
PERL5_CPAN_IS_RUNNING = 10340
PERL_MM_USE_DEFAULT = 1
PROCESSOR_IDENTIFIER = Intel64 Family 6 Model 42 Stepping 7, GenuineIntel
TEMP = C:\Users\kang\AppData\Local\Temp
TERM = dumb
Perl special variables (and OS-specific diagnostics, for MSWin32):
$^X = C:\strawberry-perl-5.24-32bit\perl\bin\perl.exe
$UID/$EUID = 0 / 0
$GID = 0
$EGID = 0
Win32::GetOSName = Win10
Win32::GetOSVersion = , 10, 0, 10586, 2, 0, 0, 256, 1
Win32::FsType = NTFS
Win32::IsAdminUser = 0
Perl module toolchain versions installed:
Module Have
------------------- --------
CPAN 2.11
CPAN::Meta 2.150005
Cwd 3.63
ExtUtils::CBuilder 0.280225
ExtUtils::Command 7.18
ExtUtils::Install 2.04
ExtUtils::MakeMaker 7.18
ExtUtils::Manifest 1.70
ExtUtils::ParseXS 3.31
File::Spec 3.63
JSON 2.90
JSON::PP 2.27400
Module::Build 0.4218
Module::Signature n/a
Parse::CPAN::Meta 1.4417
Test::Harness 3.36
Test::More 1.302022
YAML 1.15
YAML::Syck n/a
version 0.9917
--
Summary of my perl5 (revision 5 version 24 subversion 0) configuration:
Platform:
osname=MSWin32, osvers=6.3, archname=MSWin32-x86-multi-thread-64int
uname='Win32 strawberry-perl 5.24.0.1 #1 Tue May 10 17:10:11 2016 i386'
config_args='undef'
hint=recommended, useposix=true, d_sigaction=undef
useithreads=define, usemultiplicity=define
use64bitint=define, use64bitall=undef, uselongdouble=undef
usemymalloc=n, bincompat5005=undef
Compiler:
cc='gcc', ccflags =' -s -O2 -DWIN32 -DPERL_TEXTMODE_SCRIPTS -DPERL_IMPLICIT_CONTEXT -DPERL_IMPLICIT_SYS -fwrapv -fno-strict-aliasing -mms-bitfields',
optimize='-s -O2',
cppflags='-DWIN32'
ccversion='', gccversion='4.9.2', gccosandvers=''
intsize=4, longsize=4, ptrsize=4, doublesize=8, byteorder=12345678, doublekind=3
d_longlong=define, longlongsize=8, d_longdbl=define, longdblsize=12, longdblkind=3
ivtype='long long', ivsize=8, nvtype='double', nvsize=8, Off_t='long long', lseeksize=8
alignbytes=8, prototype=define
Linker and Libraries:
ld='g++', ldflags ='-s -L"C:\strawberry-perl-5.24-32bit\perl\lib\CORE" -L"C:\strawberry-perl-5.24-32bit\c\lib"'
libpth=C:\strawberry-perl-5.24-32bit\c\lib C:\strawberry-perl-5.24-32bit\c\i686-w64-mingw32\lib C:\strawberry-perl-5.24-32bit\c\lib\gcc\i686-w64-mingw32\4.9.2
libs=-lmoldname -lkernel32 -luser32 -lgdi32 -lwinspool -lcomdlg32 -ladvapi32 -lshell32 -lole32 -loleaut32 -lnetapi32 -luuid -lws2_32 -lmpr -lwinmm -lversion -lodbc32 -lodbccp32 -lcomctl32
perllibs=-lmoldname -lkernel32 -luser32 -lgdi32 -lwinspool -lcomdlg32 -ladvapi32 -lshell32 -lole32 -loleaut32 -lnetapi32 -luuid -lws2_32 -lmpr -lwinmm -lversion -lodbc32 -lodbccp32 -lcomctl32
libc=, so=dll, useshrplib=true, libperl=libperl524.a
gnulibc_version=''
Dynamic Linking:
dlsrc=dl_win32.xs, dlext=xs.dll, d_dlsymun=undef, ccdlflags=' '
cccdlflags=' ', lddlflags='-mdll -s -L"C:\strawberry-perl-5.24-32bit\perl\lib\CORE" -L"C:\strawberry-perl-5.24-32bit\c\lib"'
Characteristics of this binary (from libperl):
Compile-time options: HAS_TIMES HAVE_INTERP_INTERN MULTIPLICITY
PERLIO_LAYERS PERL_COPY_ON_WRITE
PERL_DONT_CREATE_GVSV
PERL_HASH_FUNC_ONE_AT_A_TIME_HARD
PERL_IMPLICIT_CONTEXT PERL_IMPLICIT_SYS
PERL_MALLOC_WRAP PERL_PRESERVE_IVUV USE_64_BIT_INT
USE_ITHREADS USE_LARGE_FILES USE_LOCALE
USE_LOCALE_COLLATE USE_LOCALE_CTYPE
USE_LOCALE_NUMERIC USE_LOCALE_TIME USE_PERLIO
USE_PERL_ATOF
Built under MSWin32
Compiled at May 10 2016 17:20:50
%ENV:
PERL5_CPANPLUS_IS_RUNNING="10340"
PERL5_CPAN_IS_RUNNING="10340"
PERL_MM_USE_DEFAULT="1"
@INC:
C:/strawberry-perl-5.24-32bit/perl/site/lib/MSWin32-x86-multi-thread-64int
C:/strawberry-perl-5.24-32bit/perl/site/lib
C:/strawberry-perl-5.24-32bit/perl/vendor/lib
C:/strawberry-perl-5.24-32bit/perl/lib
.