Net-Statsd-Server v0.20 Perl 5 v5.39.4 x86_64-linux

Status
Pass
From
Andreas J. König (ANDK)
Dist
Net-Statsd-Server v0.20
Platform
Perl 5 v5.39.4 x86_64-linux
Date
2023-11-15 17:10:56
ID
f0e8603c-83d9-11ee-a896-f8e6ce3b12e1
This distribution has been tested as part of the CPAN Testers
project, supporting the Perl programming language.  See
http://wiki.cpantesters.org/ for more information or email
questions to cpan-testers-discuss@perl.org


--
Dear Cosimo Streppone,

This is a computer-generated report for Net-Statsd-Server-0.20
on perl 5.39.4, created by CPAN-Reporter-1.2019.

Thank you for uploading your work to CPAN.  Congratulations!
All tests were successful.

Sections of this report:

    * Tester comments
    * Program output
    * Prerequisites
    * Environment and other context

------------------------------
TESTER COMMENTS
------------------------------

Additional comments from tester:

this report is from an automated smoke testing program
and was not reviewed by a human for accuracy

------------------------------
PROGRAM OUTPUT
------------------------------

Output from '/usr/bin/make test':

PERL_DL_NONLAZY=1 "/tmp/basesmoker-reloperl-L5XY/bin/perl" "-MExtUtils::Command::MM" "-MTest::Harness" "-e" "undef *Test::Harness::Switches; test_harness(0, 'blib/lib', 'blib/arch')" t/*.t t/integration-tests/*.t
t/000-sanity.t ............................. ok
t/config.t ................................. ok
t/graphite.t ............................... ok
2023-11-15 17:10:16.000000 +0000 note  Net::Statsd::Server: Initializing Net::Statsd::Server::Backend::Console backend
2023-11-15 17:10:16.000000 +0000 note  Net::Statsd::Server: Initializing Net::Statsd::Server::Backend::Graphite backend
2023-11-15 17:10:16.000000 +0000 info  AnyEvent: Autoloaded model 'AnyEvent::Impl::EV', using it.
2023-11-15 17:10:16.692334 +0000 note  Net::Statsd::Server: statsd server started on 0.0.0.0:40001 (v0.17)
2023-11-15 17:10:16.692383 +0000 note  Net::Statsd::Server: manager interface started on 0.0.0.0:40002
2023-11-15 17:10:16.692414 +0000 note  Net::Statsd::Server: metrics flush will happen every 1s
2023-11-15 17:10:17.117713 +0000 warn  Net::Statsd::Server: Bad line: 1 in msg "a_bad_test_value|z"
2023-11-15 17:10:17.691327 +0000 note  Net::Statsd::Server: flushing metrics
Flushing stats at Wed Nov 15 17:10:17 2023
{"sets":null,"timers":{},"gauges":{},"counter_rates":{"statsd.packets_received":1,"statsd.bad_lines_seen":1},"counters":{"statsd.bad_lines_seen":1,"statsd.packets_received":1},"pctThreshold":[90],"timer_data":{}}
t/integration-tests/bad-message.t .......... ok
2023-11-15 17:10:17.000000 +0000 note  Net::Statsd::Server: Initializing Net::Statsd::Server::Backend::Console backend
2023-11-15 17:10:17.000000 +0000 note  Net::Statsd::Server: Initializing Net::Statsd::Server::Backend::Graphite backend
2023-11-15 17:10:17.000000 +0000 info  AnyEvent: Autoloaded model 'AnyEvent::Impl::EV', using it.
2023-11-15 17:10:17.885672 +0000 note  Net::Statsd::Server: statsd server started on 0.0.0.0:40001 (v0.17)
2023-11-15 17:10:17.885700 +0000 note  Net::Statsd::Server: manager interface started on 0.0.0.0:40002
2023-11-15 17:10:17.885729 +0000 note  Net::Statsd::Server: metrics flush will happen every 1s
2023-11-15 17:10:18.887339 +0000 note  Net::Statsd::Server: flushing metrics
Flushing stats at Wed Nov 15 17:10:18 2023
{"gauges":{},"counters":{"a_test_value":100,"statsd.bad_lines_seen":0,"statsd.packets_received":1},"sets":null,"timer_data":{},"counter_rates":{"statsd.packets_received":1,"a_test_value":100,"statsd.bad_lines_seen":0},"pctThreshold":[90],"timers":{}}
# stats.counters.a_test_value.rate 100.000000 1700068218
# stats.counters.a_test_value.count 100 1700068218
# stats.counters.statsd.bad_lines_seen.rate 0.000000 1700068218
# stats.counters.statsd.bad_lines_seen.count 0 1700068218
# stats.counters.statsd.packets_received.rate 1.000000 1700068218
# stats.counters.statsd.packets_received.count 1 1700068218
# stats.statsd.numStats 3 1700068218
# stats.statsd.graphiteStats.calculationtime 0.070000 1700068218
# stats.statsd.processing_time 0.016 1700068218
# stats.statsd.graphiteStats.last_exception 94339861304640 1700068218
# stats.statsd.graphiteStats.last_flush 94339861304640 1700068218
t/integration-tests/counts-are-valid.t ..... ok
2023-11-15 17:10:19.000000 +0000 note  Net::Statsd::Server: Initializing Net::Statsd::Server::Backend::Graphite backend
2023-11-15 17:10:19.000000 +0000 info  AnyEvent: Autoloaded model 'AnyEvent::Impl::EV', using it.
2023-11-15 17:10:19.094012 +0000 note  Net::Statsd::Server: statsd server started on 0.0.0.0:40001 (v0.17)
2023-11-15 17:10:19.094053 +0000 note  Net::Statsd::Server: manager interface started on 0.0.0.0:40002
2023-11-15 17:10:19.094084 +0000 note  Net::Statsd::Server: metrics flush will happen every 1s
2023-11-15 17:10:20.095352 +0000 note  Net::Statsd::Server: flushing metrics
# First flush. Test gauge should be there.
2023-11-15 17:10:21.095361 +0000 note  Net::Statsd::Server: flushing metrics
# Second flush. deleteGauges=false should keep the test gauge.
t/integration-tests/delete-gauges-false.t .. ok
2023-11-15 17:10:21.000000 +0000 note  Net::Statsd::Server: Initializing Net::Statsd::Server::Backend::Graphite backend
2023-11-15 17:10:21.000000 +0000 info  AnyEvent: Autoloaded model 'AnyEvent::Impl::EV', using it.
2023-11-15 17:10:21.338891 +0000 note  Net::Statsd::Server: statsd server started on 0.0.0.0:40001 (v0.17)
2023-11-15 17:10:21.338926 +0000 note  Net::Statsd::Server: manager interface started on 0.0.0.0:40002
2023-11-15 17:10:21.338960 +0000 note  Net::Statsd::Server: metrics flush will happen every 1s
2023-11-15 17:10:22.341495 +0000 note  Net::Statsd::Server: flushing metrics
# First flush. Test gauge should be there.
2023-11-15 17:10:23.339354 +0000 note  Net::Statsd::Server: flushing metrics
# Second flush. deleteIdleStats should have cleared the test gauge.
t/integration-tests/delete-idle-stats.t .... ok
2023-11-15 17:10:23.000000 +0000 note  Net::Statsd::Server: Initializing Net::Statsd::Server::Backend::Console backend
2023-11-15 17:10:23.000000 +0000 note  Net::Statsd::Server: Initializing Net::Statsd::Server::Backend::Graphite backend
2023-11-15 17:10:23.000000 +0000 info  AnyEvent: Autoloaded model 'AnyEvent::Impl::EV', using it.
2023-11-15 17:10:23.544754 +0000 note  Net::Statsd::Server: statsd server started on 0.0.0.0:40001 (v0.17)
2023-11-15 17:10:23.544783 +0000 note  Net::Statsd::Server: manager interface started on 0.0.0.0:40002
2023-11-15 17:10:23.544810 +0000 note  Net::Statsd::Server: metrics flush will happen every 1s
2023-11-15 17:10:24.547101 +0000 note  Net::Statsd::Server: flushing metrics
Flushing stats at Wed Nov 15 17:10:24 2023
{"gauges":{},"timer_data":{},"sets":null,"pctThreshold":[90],"counters":{"statsd.bad_lines_seen":0,"statsd.packets_received":1,"a_test_value,category=web,severity=high":100},"counter_rates":{"a_test_value,category=web,severity=high":100,"statsd.packets_received":1,"statsd.bad_lines_seen":0},"timers":{}}
# stats.counters.statsd.bad_lines_seen.rate 0.000000 1700068224
# stats.counters.statsd.bad_lines_seen.count 0 1700068224
# stats.counters.statsd.packets_received.rate 1.000000 1700068224
# stats.counters.statsd.packets_received.count 1 1700068224
# stats.counters.a_test_value,category=web,severity=high.rate 100.000000 1700068224
# stats.counters.a_test_value,category=web,severity=high.count 100 1700068224
# stats.statsd.numStats 3 1700068224
# stats.statsd.graphiteStats.calculationtime 0.035000 1700068224
# stats.statsd.processing_time 0.019 1700068224
# stats.statsd.graphiteStats.last_exception 93983962400064 1700068224
# stats.statsd.graphiteStats.last_flush 93983962400064 1700068224
t/integration-tests/keys-with-tags.t ....... ok
2023-11-15 17:10:24.000000 +0000 note  Net::Statsd::Server: Initializing Net::Statsd::Server::Backend::Graphite backend
2023-11-15 17:10:24.000000 +0000 info  AnyEvent: Autoloaded model 'AnyEvent::Impl::EV', using it.
2023-11-15 17:10:24.738204 +0000 note  Net::Statsd::Server: statsd server started on 0.0.0.0:40001 (v0.17)
2023-11-15 17:10:24.738245 +0000 note  Net::Statsd::Server: manager interface started on 0.0.0.0:40002
2023-11-15 17:10:24.738274 +0000 note  Net::Statsd::Server: metrics flush will happen every 1s
# Expected mean value is 1963.68
2023-11-15 17:10:25.739334 +0000 note  Net::Statsd::Server: flushing metrics
# stats.counters.statsd.packets_received.rate 100.000000 1700068225
# stats.counters.statsd.packets_received.count 100 1700068225
# stats.counters.statsd.bad_lines_seen.rate 0.000000 1700068225
# stats.counters.statsd.bad_lines_seen.count 0 1700068225
# stats.timers.read_latency.upper_98 2902.000000 1700068225
# stats.timers.read_latency.sum_squares_99 407438217.000000 1700068225
# stats.timers.read_latency.sum_squares_98 398946821.000000 1700068225
# stats.timers.read_latency.count 100.000000 1700068225
# stats.timers.read_latency.sum_squares 416111242.000000 1700068225
# stats.timers.read_latency.sum_99 193423.000000 1700068225
# stats.timers.read_latency.upper_99 2914.000000 1700068225
# stats.timers.read_latency.count_98 98.000000 1700068225
# stats.timers.read_latency.sum_98 190509.000000 1700068225
# stats.timers.read_latency.std 552.334389 1700068225
# stats.timers.read_latency.count_99 99.000000 1700068225
# stats.timers.read_latency.upper 2945.000000 1700068225
# stats.timers.read_latency.mean_98 1943.969388 1700068225
# stats.timers.read_latency.sum_95 181961.000000 1700068225
# stats.timers.read_latency.mean_99 1953.767677 1700068225
# stats.timers.read_latency.mean 1963.680000 1700068225
# stats.timers.read_latency.sum_squares_95 374579359.000000 1700068225
# stats.timers.read_latency.count_95 95.000000 1700068225
# stats.timers.read_latency.median 1916.500000 1700068225
# stats.timers.read_latency.count_ps 100.000000 1700068225
# stats.timers.read_latency.lower 1011.000000 1700068225
# stats.timers.read_latency.mean_95 1915.378947 1700068225
# stats.timers.read_latency.sum 196368.000000 1700068225
# stats.timers.read_latency.upper_95 2756.000000 1700068225
# stats.statsd.numStats 3 1700068225
# stats.statsd.graphiteStats.calculationtime 0.072000 1700068225
# stats.statsd.processing_time 0.19 1700068225
# stats.statsd.graphiteStats.last_exception 94461227341120 1700068225
# stats.statsd.graphiteStats.last_flush 94461227341120 1700068225
t/integration-tests/percent-threshold.t .... ok
2023-11-15 17:10:25.000000 +0000 note  Net::Statsd::Server: Initializing Net::Statsd::Server::Backend::Console backend
2023-11-15 17:10:25.000000 +0000 note  Net::Statsd::Server: Initializing Net::Statsd::Server::Backend::Graphite backend
2023-11-15 17:10:25.000000 +0000 info  AnyEvent: Autoloaded model 'AnyEvent::Impl::EV', using it.
2023-11-15 17:10:25.931787 +0000 note  Net::Statsd::Server: statsd server started on 0.0.0.0:40001 (v0.17)
2023-11-15 17:10:25.931823 +0000 note  Net::Statsd::Server: manager interface started on 0.0.0.0:40002
2023-11-15 17:10:25.931854 +0000 note  Net::Statsd::Server: metrics flush will happen every 1s
2023-11-15 17:10:26.931298 +0000 note  Net::Statsd::Server: flushing metrics
Flushing stats at Wed Nov 15 17:10:26 2023
{"counter_rates":{"statsd.packets_received":1,"statsd.bad_lines_seen":0},"gauges":{},"pctThreshold":["90"],"timers":{"a_test_value":["100"]},"counters":{"statsd.bad_lines_seen":0,"statsd.packets_received":1},"sets":null,"timer_data":{"a_test_value":{"lower":"100","count_ps":1,"sum_squares":10000,"sum_squares_90":10000,"count":1,"mean":100,"upper":"100","sum":"100","std":0,"mean_90":"100","median":"100","sum_90":"100","upper_90":"100","count_90":1}}}
# stats.counters.statsd.bad_lines_seen.rate 0.000000 1700068226
# stats.counters.statsd.bad_lines_seen.count 0 1700068226
# stats.counters.statsd.packets_received.rate 1.000000 1700068226
# stats.counters.statsd.packets_received.count 1 1700068226
# stats.timers.a_test_value.lower 100.000000 1700068226
# stats.timers.a_test_value.count_ps 1.000000 1700068226
# stats.timers.a_test_value.sum_squares 10000.000000 1700068226
# stats.timers.a_test_value.sum_squares_90 10000.000000 1700068226
# stats.timers.a_test_value.count 1.000000 1700068226
# stats.timers.a_test_value.mean 100.000000 1700068226
# stats.timers.a_test_value.upper 100.000000 1700068226
# stats.timers.a_test_value.sum 100.000000 1700068226
# stats.timers.a_test_value.std 0.000000 1700068226
# stats.timers.a_test_value.mean_90 100.000000 1700068226
# stats.timers.a_test_value.median 100.000000 1700068226
# stats.timers.a_test_value.sum_90 100.000000 1700068226
# stats.timers.a_test_value.upper_90 100.000000 1700068226
# stats.timers.a_test_value.count_90 1.000000 1700068226
# stats.statsd.numStats 3 1700068226
# stats.statsd.graphiteStats.calculationtime 0.124000 1700068226
# stats.statsd.processing_time 0.056 1700068226
# stats.statsd.graphiteStats.last_exception 94882419565888 1700068226
# stats.statsd.graphiteStats.last_flush 94882419565888 1700068226
t/integration-tests/timers-are-valid.t ..... ok
t/process-metrics.t ........................ ok
t/trim.t ................................... ok
All tests successful.
Files=12, Tests=92, 11 wallclock secs ( 0.05 usr  0.01 sys +  1.13 cusr  0.29 csys =  1.48 CPU)
Result: PASS

------------------------------
PREREQUISITES
------------------------------

Prerequisite modules loaded:

requires:

    Module                Need Have    
    --------------------- ---- --------
    AnyEvent::Handle::UDP 0    0.050   
    IO::Socket::INET      0    1.53    
    JSON::XS              0    4.03    

build_requires:

    Module                Need Have    
    --------------------- ---- --------
    ExtUtils::MakeMaker   0    7.70    
    Test::More            0    1.302196

configure_requires:

    Module                Need Have    
    --------------------- ---- --------
    ExtUtils::MakeMaker   0    7.70    


------------------------------
ENVIRONMENT AND OTHER CONTEXT
------------------------------

Environment variables:

    AUTOMATED_TESTING = 1
    LANG = en_US.UTF-8
    LC_ADDRESS = de_DE.UTF-8
    LC_IDENTIFICATION = de_DE.UTF-8
    LC_MEASUREMENT = de_DE.UTF-8
    LC_MONETARY = de_DE.UTF-8
    LC_NAME = de_DE.UTF-8
    LC_NUMERIC = de_DE.UTF-8
    LC_PAPER = de_DE.UTF-8
    LC_TELEPHONE = de_DE.UTF-8
    LC_TIME = de_DE.UTF-8
    PATH = /home/sand/bin:/usr/local/bin:/usr/local/sbin:/usr/sbin:/usr/bin:/sbin:/bin:/usr/games:/usr/local/games:/snap/bin:/usr/local/perl/bin:/usr/X11/bin
    PERL = /tmp/basesmoker-reloperl-L5XY/bin/perl
    PERL5LIB = /tmp/loop_over_bdir-2530-2e67Qn/Net-ISP-Balance-1.31-0/blib/arch:/tmp/loop_over_bdir-2530-2e67Qn/Net-ISP-Balance-1.31-0/blib/lib:/tmp/loop_over_bdir-2530-2e67Qn/AllKnowingDNS-1.7-0/blib/arch:/tmp/loop_over_bdir-2530-2e67Qn/AllKnowingDNS-1.7-0/blib/lib:/tmp/loop_over_bdir-2530-2e67Qn/DBIx-Migration-Directories-0.12-0/blib/arch:/tmp/loop_over_bdir-2530-2e67Qn/DBIx-Migration-Directories-0.12-0/blib/lib:/tmp/loop_over_bdir-2530-2e67Qn/makepp-1.19-0/blib/arch:/tmp/loop_over_bdir-2530-2e67Qn/makepp-1.19-0/blib/lib:/tmp/loop_over_bdir-2530-2e67Qn/App-rmcd-0.280-0/blib/arch:/tmp/loop_over_bdir-2530-2e67Qn/App-rmcd-0.280-0/blib/lib:/tmp/loop_over_bdir-2530-2e67Qn/downsexta-0/blib/arch:/tmp/loop_over_bdir-2530-2e67Qn/downsexta-0/blib/lib:/tmp/loop_over_bdir-2530-2e67Qn/RDF-NLP-SPARQLQuery-0.1-0/blib/arch:/tmp/loop_over_bdir-2530-2e67Qn/RDF-NLP-SPARQLQuery-0.1-0/blib/lib:/tmp/loop_over_bdir-2530-2e67Qn/Net-Async-WebService-lxd-0.03-0/blib/arch:/tmp/loop_over_bdir-2530-2e67Qn/Net-Async-WebService-lxd-0.03-0/blib/lib:/tmp/loop_over_bdir-2530-2e67Qn/Business-Shipping-DataFiles-1.02-0/blib/arch:/tmp/loop_over_bdir-2530-2e67Qn/Business-Shipping-DataFiles-1.02-0/blib/lib:/tmp/loop_over_bdir-2530-2e67Qn/triceps-2.1.0-0/blib/arch:/tmp/loop_over_bdir-2530-2e67Qn/triceps-2.1.0-0/blib/lib:/tmp/loop_over_bdir-2530-2e67Qn/WWW-Mechanize-Chrome-DOMops-0.06-0/blib/arch:/tmp/loop_over_bdir-2530-2e67Qn/WWW-Mechanize-Chrome-DOMops-0.06-0/blib/lib:/tmp/loop_over_bdir-2530-2e67Qn/ProjectBuilder-0.14.1-0/blib/arch:/tmp/loop_over_bdir-2530-2e67Qn/ProjectBuilder-0.14.1-0/blib/lib:/tmp/loop_over_bdir-2530-2e67Qn/Alien-SNMP-MIBDEV-2.020000-0/blib/arch:/tmp/loop_over_bdir-2530-2e67Qn/Alien-SNMP-MIBDEV-2.020000-0/blib/lib:/tmp/loop_over_bdir-2530-2e67Qn/dta-tokwrap-0.98-0/blib/arch:/tmp/loop_over_bdir-2530-2e67Qn/dta-tokwrap-0.98-0/blib/lib:/tmp/loop_over_bdir-2530-2e67Qn/Lingua-BioYaTeA-0.11-0/blib/arch:/tmp/loop_over_bdir-2530-2e67Qn/Lingua-BioYaTeA-0.11-0/blib/lib:/tmp/loop_over_bdir-2530-2e67Qn/Lingua-YaTeA-0.626-0/blib/arch:/tmp/loop_over_bdir-2530-2e67Qn/Lingua-YaTeA-0.626-0/blib/lib:/tmp/loop_over_bdir-2530-2e67Qn/Simulation-Automate-1.0.1-0/blib/arch:/tmp/loop_over_bdir-2530-2e67Qn/Simulation-Automate-1.0.1-0/blib/lib:/tmp/loop_over_bdir-2530-2e67Qn/Devel-Required-0.16-0/blib/arch:/tmp/loop_over_bdir-2530-2e67Qn/Devel-Required-0.16-0/blib/lib
    PERL5OPT = 
    PERL5_CPANPLUS_IS_RUNNING = 2538
    PERL5_CPAN_IS_RUNNING = 2538
    PERL_CANARY_STABILITY_NOPROMPT = 1
    PERL_MM_USE_DEFAULT = 1
    PERL_USE_UNSAFE_INC = 1
    SHELL = /usr/bin/zsh
    TERM = screen

Perl special variables (and OS-specific diagnostics, for MSWin32):

    $^X = /tmp/basesmoker-reloperl-L5XY/bin/perl
    $UID/$EUID = 1005 / 1005
    $GID = 1005 1005
    $EGID = 1005 1005

Perl module toolchain versions installed:

    Module              Have    
    ------------------- --------
    CPAN                2.36    
    CPAN::Meta          2.150010
    Cwd                 3.90    
    ExtUtils::CBuilder  0.280240
    ExtUtils::Command   7.70    
    ExtUtils::Install   2.22    
    ExtUtils::MakeMaker 7.70    
    ExtUtils::Manifest  1.75    
    ExtUtils::ParseXS   3.51    
    File::Spec          3.90    
    JSON                4.10    
    JSON::PP            4.16    
    Module::Build       0.4234  
    Module::Signature   0.88    
    Parse::CPAN::Meta   2.150010
    Test2               1.302196
    Test::Harness       3.48    
    Test::More          1.302196
    YAML                1.30    
    YAML::Syck          1.34    
    version             0.9930  


--

Summary of my perl5 (revision 5 version 39 subversion 4) configuration:
  Commit id: 56211f03a701e3979a0d01069f8515db1c1fc2f0
  Platform:
    osname=linux
    osvers=6.2.0-34-generic
    archname=x86_64-linux
    uname='linux k93jammy 6.2.0-34-generic #34~22.04.1-ubuntu smp preempt_dynamic thu sep 7 13:12:03 utc 2 x86_64 x86_64 x86_64 gnulinux '
    config_args='-Dprefix=/home/sand/src/perl/repoperls/installed-perls/host/k93jammy/v5.39.4/6567 -Dmyhostname=k93jammy -Dinstallusrbinperl=n -Uversiononly -Dusedevel -des -Ui_db -Dlibswanted=cl pthread socket inet nsl gdbm dbm malloc dl ld sun m crypt sec util c cposix posix ucb BSD gdbm_compat -Uuseithreads -Uuselongdouble -DEBUGGING=-g'
    hint=recommended
    useposix=true
    d_sigaction=define
    useithreads=undef
    usemultiplicity=undef
    use64bitint=define
    use64bitall=define
    uselongdouble=undef
    usemymalloc=n
    default_inc_excludes_dot=define
  Compiler:
    cc='cc'
    ccflags ='-fwrapv -fno-strict-aliasing -pipe -fstack-protector-strong -I/usr/local/include -D_LARGEFILE_SOURCE -D_FILE_OFFSET_BITS=64'
    optimize='-O2 -g'
    cppflags='-fwrapv -fno-strict-aliasing -pipe -fstack-protector-strong -I/usr/local/include'
    ccversion=''
    gccversion='11.4.0'
    gccosandvers=''
    intsize=4
    longsize=8
    ptrsize=8
    doublesize=8
    byteorder=12345678
    doublekind=3
    d_longlong=define
    longlongsize=8
    d_longdbl=define
    longdblsize=16
    longdblkind=3
    ivtype='long'
    ivsize=8
    nvtype='double'
    nvsize=8
    Off_t='off_t'
    lseeksize=8
    alignbytes=8
    prototype=define
  Linker and Libraries:
    ld='cc'
    ldflags =' -fstack-protector-strong -L/usr/local/lib'
    libpth=/usr/local/lib /usr/lib/x86_64-linux-gnu /usr/lib /usr/lib64
    libs=-lpthread -lnsl -ldl -lm -lcrypt -lutil -lc
    perllibs=-lpthread -lnsl -ldl -lm -lcrypt -lutil -lc
    libc=/lib/x86_64-linux-gnu/libc.so.6
    so=so
    useshrplib=false
    libperl=libperl.a
    gnulibc_version='2.35'
  Dynamic Linking:
    dlsrc=dl_dlopen.xs
    dlext=so
    d_dlsymun=undef
    ccdlflags='-Wl,-E'
    cccdlflags='-fPIC'
    lddlflags='-shared -O2 -g -L/usr/local/lib -fstack-protector-strong'


Characteristics of this binary (from libperl): 
  Compile-time options:
    HAS_LONG_DOUBLE
    HAS_STRTOLD
    HAS_TIMES
    PERLIO_LAYERS
    PERL_COPY_ON_WRITE
    PERL_DONT_CREATE_GVSV
    PERL_HASH_FUNC_SIPHASH13
    PERL_HASH_USE_SBOX32
    PERL_MALLOC_WRAP
    PERL_OP_PARENT
    PERL_PRESERVE_IVUV
    PERL_USE_DEVEL
    PERL_USE_SAFE_PUTENV
    USE_64_BIT_ALL
    USE_64_BIT_INT
    USE_LARGE_FILES
    USE_LOCALE
    USE_LOCALE_COLLATE
    USE_LOCALE_CTYPE
    USE_LOCALE_NUMERIC
    USE_LOCALE_TIME
    USE_PERLIO
    USE_PERL_ATOF
  Built under linux
  Compiled at Oct 25 2023 22:54:59
  %ENV:
    PERL="/tmp/basesmoker-reloperl-L5XY/bin/perl"
    PERL5LIB="/tmp/loop_over_bdir-2530-2e67Qn/Net-ISP-Balance-1.31-0/blib/arch:/tmp/loop_over_bdir-2530-2e67Qn/Net-ISP-Balance-1.31-0/blib/lib:/tmp/loop_over_bdir-2530-2e67Qn/AllKnowingDNS-1.7-0/blib/arch:/tmp/loop_over_bdir-2530-2e67Qn/AllKnowingDNS-1.7-0/blib/lib:/tmp/loop_over_bdir-2530-2e67Qn/DBIx-Migration-Directories-0.12-0/blib/arch:/tmp/loop_over_bdir-2530-2e67Qn/DBIx-Migration-Directories-0.12-0/blib/lib:/tmp/loop_over_bdir-2530-2e67Qn/makepp-1.19-0/blib/arch:/tmp/loop_over_bdir-2530-2e67Qn/makepp-1.19-0/blib/lib:/tmp/loop_over_bdir-2530-2e67Qn/App-rmcd-0.280-0/blib/arch:/tmp/loop_over_bdir-2530-2e67Qn/App-rmcd-0.280-0/blib/lib:/tmp/loop_over_bdir-2530-2e67Qn/downsexta-0/blib/arch:/tmp/loop_over_bdir-2530-2e67Qn/downsexta-0/blib/lib:/tmp/loop_over_bdir-2530-2e67Qn/RDF-NLP-SPARQLQuery-0.1-0/blib/arch:/tmp/loop_over_bdir-2530-2e67Qn/RDF-NLP-SPARQLQuery-0.1-0/blib/lib:/tmp/loop_over_bdir-2530-2e67Qn/Net-Async-WebService-lxd-0.03-0/blib/arch:/tmp/loop_over_bdir-2530-2e67Qn/Net-Async-WebService-lxd-0.03-0/blib/lib:/tmp/loop_over_bdir-2530-2e67Qn/Business-Shipping-DataFiles-1.02-0/blib/arch:/tmp/loop_over_bdir-2530-2e67Qn/Business-Shipping-DataFiles-1.02-0/blib/lib:/tmp/loop_over_bdir-2530-2e67Qn/triceps-2.1.0-0/blib/arch:/tmp/loop_over_bdir-2530-2e67Qn/triceps-2.1.0-0/blib/lib:/tmp/loop_over_bdir-2530-2e67Qn/WWW-Mechanize-Chrome-DOMops-0.06-0/blib/arch:/tmp/loop_over_bdir-2530-2e67Qn/WWW-Mechanize-Chrome-DOMops-0.06-0/blib/lib:/tmp/loop_over_bdir-2530-2e67Qn/ProjectBuilder-0.14.1-0/blib/arch:/tmp/loop_over_bdir-2530-2e67Qn/ProjectBuilder-0.14.1-0/blib/lib:/tmp/loop_over_bdir-2530-2e67Qn/Alien-SNMP-MIBDEV-2.020000-0/blib/arch:/tmp/loop_over_bdir-2530-2e67Qn/Alien-SNMP-MIBDEV-2.020000-0/blib/lib:/tmp/loop_over_bdir-2530-2e67Qn/dta-tokwrap-0.98-0/blib/arch:/tmp/loop_over_bdir-2530-2e67Qn/dta-tokwrap-0.98-0/blib/lib:/tmp/loop_over_bdir-2530-2e67Qn/Lingua-BioYaTeA-0.11-0/blib/arch:/tmp/loop_over_bdir-2530-2e67Qn/Lingua-BioYaTeA-0.11-0/blib/lib:/tmp/loop_over_bdir-2530-2e67Qn/Lingua-YaTeA-0.626-0/blib/arch:/tmp/loop_over_bdir-2530-2e67Qn/Lingua-YaTeA-0.626-0/blib/lib:/tmp/loop_over_bdir-2530-2e67Qn/Simulation-Automate-1.0.1-0/blib/arch:/tmp/loop_over_bdir-2530-2e67Qn/Simulation-Automate-1.0.1-0/blib/lib:/tmp/loop_over_bdir-2530-2e67Qn/Devel-Required-0.16-0/blib/arch:/tmp/loop_over_bdir-2530-2e67Qn/Devel-Required-0.16-0/blib/lib"
    PERL5OPT=""
    PERL5_CPANPLUS_IS_RUNNING="2538"
    PERL5_CPAN_IS_RUNNING="2538"
    PERL_CANARY_STABILITY_NOPROMPT="1"
    PERL_MM_USE_DEFAULT="1"
    PERL_USE_UNSAFE_INC="1"
  @INC:
    /tmp/loop_over_bdir-2530-2e67Qn/Net-ISP-Balance-1.31-0/blib/arch
    /tmp/loop_over_bdir-2530-2e67Qn/Net-ISP-Balance-1.31-0/blib/lib
    /tmp/loop_over_bdir-2530-2e67Qn/AllKnowingDNS-1.7-0/blib/arch
    /tmp/loop_over_bdir-2530-2e67Qn/AllKnowingDNS-1.7-0/blib/lib
    /tmp/loop_over_bdir-2530-2e67Qn/DBIx-Migration-Directories-0.12-0/blib/arch
    /tmp/loop_over_bdir-2530-2e67Qn/DBIx-Migration-Directories-0.12-0/blib/lib
    /tmp/loop_over_bdir-2530-2e67Qn/makepp-1.19-0/blib/arch
    /tmp/loop_over_bdir-2530-2e67Qn/makepp-1.19-0/blib/lib
    /tmp/loop_over_bdir-2530-2e67Qn/App-rmcd-0.280-0/blib/arch
    /tmp/loop_over_bdir-2530-2e67Qn/App-rmcd-0.280-0/blib/lib
    /tmp/loop_over_bdir-2530-2e67Qn/downsexta-0/blib/arch
    /tmp/loop_over_bdir-2530-2e67Qn/downsexta-0/blib/lib
    /tmp/loop_over_bdir-2530-2e67Qn/RDF-NLP-SPARQLQuery-0.1-0/blib/arch
    /tmp/loop_over_bdir-2530-2e67Qn/RDF-NLP-SPARQLQuery-0.1-0/blib/lib
    /tmp/loop_over_bdir-2530-2e67Qn/Net-Async-WebService-lxd-0.03-0/blib/arch
    /tmp/loop_over_bdir-2530-2e67Qn/Net-Async-WebService-lxd-0.03-0/blib/lib
    /tmp/loop_over_bdir-2530-2e67Qn/Business-Shipping-DataFiles-1.02-0/blib/arch
    /tmp/loop_over_bdir-2530-2e67Qn/Business-Shipping-DataFiles-1.02-0/blib/lib
    /tmp/loop_over_bdir-2530-2e67Qn/triceps-2.1.0-0/blib/arch
    /tmp/loop_over_bdir-2530-2e67Qn/triceps-2.1.0-0/blib/lib
    /tmp/loop_over_bdir-2530-2e67Qn/WWW-Mechanize-Chrome-DOMops-0.06-0/blib/arch
    /tmp/loop_over_bdir-2530-2e67Qn/WWW-Mechanize-Chrome-DOMops-0.06-0/blib/lib
    /tmp/loop_over_bdir-2530-2e67Qn/ProjectBuilder-0.14.1-0/blib/arch
    /tmp/loop_over_bdir-2530-2e67Qn/ProjectBuilder-0.14.1-0/blib/lib
    /tmp/loop_over_bdir-2530-2e67Qn/Alien-SNMP-MIBDEV-2.020000-0/blib/arch
    /tmp/loop_over_bdir-2530-2e67Qn/Alien-SNMP-MIBDEV-2.020000-0/blib/lib
    /tmp/loop_over_bdir-2530-2e67Qn/dta-tokwrap-0.98-0/blib/arch
    /tmp/loop_over_bdir-2530-2e67Qn/dta-tokwrap-0.98-0/blib/lib
    /tmp/loop_over_bdir-2530-2e67Qn/Lingua-BioYaTeA-0.11-0/blib/arch
    /tmp/loop_over_bdir-2530-2e67Qn/Lingua-BioYaTeA-0.11-0/blib/lib
    /tmp/loop_over_bdir-2530-2e67Qn/Lingua-YaTeA-0.626-0/blib/arch
    /tmp/loop_over_bdir-2530-2e67Qn/Lingua-YaTeA-0.626-0/blib/lib
    /tmp/loop_over_bdir-2530-2e67Qn/Simulation-Automate-1.0.1-0/blib/arch
    /tmp/loop_over_bdir-2530-2e67Qn/Simulation-Automate-1.0.1-0/blib/lib
    /tmp/loop_over_bdir-2530-2e67Qn/Devel-Required-0.16-0/blib/arch
    /tmp/loop_over_bdir-2530-2e67Qn/Devel-Required-0.16-0/blib/lib
    /home/sand/src/perl/repoperls/installed-perls/host/k93jammy/v5.39.4/6567/lib/site_perl/5.39.4/x86_64-linux
    /home/sand/src/perl/repoperls/installed-perls/host/k93jammy/v5.39.4/6567/lib/site_perl/5.39.4
    /home/sand/src/perl/repoperls/installed-perls/host/k93jammy/v5.39.4/6567/lib/5.39.4/x86_64-linux
    /home/sand/src/perl/repoperls/installed-perls/host/k93jammy/v5.39.4/6567/lib/5.39.4
    .