Report for POE-Component-Server-SimpleHTTP-2.26

Back
From: metabase:user:314402c4-2aae-11df-837a-5e0a49663a4f
Subject: PASS POE-Component-Server-SimpleHTTP-2.26 v5.24.0 GNU/Linux
Date: 2017-07-29T19:20:11Z

This distribution has been tested as part of the CPAN Testers
project, supporting the Perl programming language.  See
http://wiki.cpantesters.org/ for more information or email
questions to cpan-testers-discuss@perl.org


--
Dear Chris Williams,

This is a computer-generated report for POE-Component-Server-SimpleHTTP-2.26
on perl 5.24.0, created by CPAN-Reporter-1.2018.

Thank you for uploading your work to CPAN.  Congratulations!
All tests were successful.

Sections of this report:

    * Tester comments
    * Program output
    * Prerequisites
    * Environment and other context

------------------------------
TESTER COMMENTS
------------------------------

Additional comments from tester:

none provided

------------------------------
PROGRAM OUTPUT
------------------------------

Output from '/usr/bin/make test':

PERL_DL_NONLAZY=1 "/opt/perl-5.24.0/bin/perl" "-MExtUtils::Command::MM" "-MTest::Harness" "-e" "undef *Test::Harness::Switches; test_harness(0, 'blib/lib', 'blib/arch')" t/*.t
t/00-compile.t ........... ok
# GET http://pocosimpletest.com:41929/ HTTP/1.1
# Host: 127.0.0.1:41929
# 
# HTTP/1.1 200 (OK)
# Date: Sat, 29 Jul 2017 18:53:27 GMT
# Content-Length: 3
# Content-Type: text/plain
# 
# Moo
t/02_simple.t ............ ok
# HTTP/1.1 404 (Not Found)
# Date: Sat, 29 Jul 2017 18:53:27 GMT
# Content-Length: 13
# Content-Type: text/plain
# 
# 404 Not Found
t/03_bad_handler.t ....... ok
# GEt http://pocosimpletest.com:37619/ HTTP/1.1
# Host: 127.0.0.1:37619
# 
# HTTP/1.1 200 (OK)
# Date: Sat, 29 Jul 2017 18:53:27 GMT
# Content-Length: 3
# Content-Type: text/plain
# 
# Moo
t/03_bad_request.t ....... ok
# 200 (OK)
# Date: Sat, 29 Jul 2017 18:53:28 GMT
# Content-Length: 11
# Content-Type: text/plain
# X-HTTP-Version: 1.1
# 
# this is top
# 200 (OK)
# Date: Sat, 29 Jul 2017 18:53:28 GMT
# Content-Length: 12
# Content-Type: text/plain
# X-HTTP-Version: 1.1
# 
# this is honk
# 200 (OK)
# Date: Sat, 29 Jul 2017 18:53:28 GMT
# Content-Length: 123
# Content-Type: text/html
# X-HTTP-Version: 1.1
# 
# <html>
# <head><title>YEAH!</title></head>
# <body><p>This, my friend, is the page you've been looking for.</p></body>
# </html>
# 404 (Not Found)
# Date: Sat, 29 Jul 2017 18:53:28 GMT
# Content-Length: 13
# Content-Type: text/plain
# X-HTTP-Version: 1.1
# 
# 404 Not Found
t/04_run_close.t ......... ok
# 200 (OK)
# Date: Sat, 29 Jul 2017 18:53:28 GMT
# Content-Length: 11
# Content-Type: text/plain
# X-HTTP-Version: 1.1
# 
# this is top
# 200 (OK)
# Date: Sat, 29 Jul 2017 18:53:28 GMT
# Content-Length: 12
# Content-Type: text/plain
# X-HTTP-Version: 1.1
# 
# this is honk
# 200 (OK)
# Date: Sat, 29 Jul 2017 18:53:28 GMT
# Content-Length: 123
# Content-Type: text/html
# X-HTTP-Version: 1.1
# 
# <html>
# <head><title>YEAH!</title></head>
# <body><p>This, my friend, is the page you've been looking for.</p></body>
# </html>
# 404 (Not Found)
# Date: Sat, 29 Jul 2017 18:53:28 GMT
# Content-Length: 13
# Content-Type: text/plain
# X-HTTP-Version: 1.1
# 
# 404 Not Found
t/04_run_keepalive.t ..... ok
# POST http://pocosimpletest.com:34607/ HTTP/1.1
# Host: 127.0.0.1:34607
# Content-Length: 40
# 
# brother !~we need to get off this island
# 200 (OK)
# Date: Sat, 29 Jul 2017 18:53:29 GMT
# Content-Length: 40
# Content-Type: text/plain
# X-HTTP-Version: 1.1
# 
# we need to get off this island brother !
t/05_post.t .............. ok
t/06_stream.t ............ skipped: POE::Component::Client::HTTP is required for this test
t/author-pod-coverage.t .. skipped: these tests are for testing by the author
t/author-pod-syntax.t .... skipped: these tests are for testing by the author
All tests successful.
Files=10, Tests=45,  4 wallclock secs ( 0.03 usr  0.05 sys +  2.82 cusr  0.62 csys =  3.52 CPU)
Result: PASS

------------------------------
PREREQUISITES
------------------------------

Prerequisite modules loaded:

requires:

    Module                    Need   Have    
    ------------------------- ------ --------
    Carp                      0      1.40    
    HTTP::Date                0      6.02    
    HTTP::Request             0      6.13    
    HTTP::Response            0      6.13    
    Moose                     0.9    2.2006  
    MooseX::POE               0.205  0.215   
    perl                      5.006  5.024000
    POE                       1.0000 1.367   
    Socket                    0      2.020_03
    Storable                  0      2.56    
    Sys::Hostname             0      1.20    

build_requires:

    Module                    Need   Have    
    ------------------------- ------ --------
    ExtUtils::MakeMaker       6.59   7.30    
    File::Spec                0      3.63    
    IO::Handle                0      1.36    
    IPC::Open3                0      1.20    
    POE::Filter::HTTP::Parser 1.06   1.08    
    Test::More                0.47   1.302085
    Test::POE::Client::TCP    0.1    1.12    

configure_requires:

    Module                    Need   Have    
    ------------------------- ------ --------
    ExtUtils::MakeMaker       0      7.30    


------------------------------
ENVIRONMENT AND OTHER CONTEXT
------------------------------

Environment variables:

    LANG = C
    PATH = /usr/local/bin:/usr/bin:/bin:/usr/local/sbin:/usr/sbin:/sbin:/home/cpansand/bin/linux-gnu:/home/cpansand/bin/sh:/home/cpansand/bin:/usr/games:/home/cpansand/devel:/home/eserte/src/srezic-misc/scripts
    PERL5LIB = /home/cpansand/.cpan/build/2017072918/POE-Filter-HTTP-Parser-1.08-8CXWUQ/blib/arch:/home/cpansand/.cpan/build/2017072918/POE-Filter-HTTP-Parser-1.08-8CXWUQ/blib/lib:/home/cpansand/.cpan/build/2017072918/Test-POE-Server-TCP-1.20-EWOFoO/blib/arch:/home/cpansand/.cpan/build/2017072918/Test-POE-Server-TCP-1.20-EWOFoO/blib/lib:/home/cpansand/.cpan/build/2017072918/HTTP-Parser-0.06-nUqYZW/blib/arch:/home/cpansand/.cpan/build/2017072918/HTTP-Parser-0.06-nUqYZW/blib/lib:/home/cpansand/.cpan/build/2017072918/Test-POE-Client-TCP-1.12-Yr1tUX/blib/arch:/home/cpansand/.cpan/build/2017072918/Test-POE-Client-TCP-1.12-Yr1tUX/blib/lib:/home/cpansand/.cpan/build/2017072918/MooseX-POE-0.215-fJRYOn/blib/arch:/home/cpansand/.cpan/build/2017072918/MooseX-POE-0.215-fJRYOn/blib/lib
    PERL5OPT = 
    PERL5_CPANPLUS_IS_RUNNING = 24891
    PERL5_CPAN_IS_RUNNING = 24891
    PERL5_CPAN_IS_RUNNING_IN_RECURSION = 22485,24891
    PERLDOC = -MPod::Perldoc::ToTextOverstrike
    PERL_BATCH = yes
    PERL_CANARY_STABILITY_NOPROMPT = 1
    PERL_CPAN_REPORTER_CONFIG = /var/tmp/cpansmoker-1023/2017072918/cpanreporter_003_config.ini
    PERL_EXTUTILS_AUTOINSTALL = --defaultdeps
    SHELL = /usr/bin/zsh
    TERM = screen
    TMPDIR = /var/tmp/cpansmoker-1023/2017072918

Perl special variables (and OS-specific diagnostics, for MSWin32):

    $^X = /opt/perl-5.24.0/bin/perl
    $UID/$EUID = 1023 / 1023
    $GID = 1023 1023
    $EGID = 1023 1023

Perl module toolchain versions installed:

    Module              Have    
    ------------------- --------
    CPAN                2.11    
    CPAN::Meta          2.150005
    Cwd                 3.63    
    ExtUtils::CBuilder  0.280225
    ExtUtils::Command   7.30    
    ExtUtils::Install   2.06    
    ExtUtils::MakeMaker 7.30    
    ExtUtils::Manifest  1.70    
    ExtUtils::ParseXS   3.31    
    File::Spec          3.63    
    JSON                2.94    
    JSON::PP            2.94    
    Module::Build       0.4224  
    Module::Signature   0.81    
    Parse::CPAN::Meta   1.4417  
    Test::Harness       3.36    
    Test::More          1.302085
    YAML                1.23    
    YAML::Syck          1.30    
    version             0.9916  


--

Summary of my perl5 (revision 5 version 24 subversion 0) configuration:
   
  Platform:
    osname=linux, osvers=4.9.0-3-amd64, archname=x86_64-linux
    uname='linux debian9 4.9.0-3-amd64 #1 smp debian 4.9.30-2+deb9u1 (2017-06-18) x86_64 gnulinux '
    config_args='-ds -e -Dprefix=/opt/perl-5.24.0 -Dcf_email=srezic@cpan.org'
    hint=recommended, useposix=true, d_sigaction=define
    useithreads=undef, usemultiplicity=undef
    use64bitint=define, use64bitall=define, uselongdouble=undef
    usemymalloc=n, bincompat5005=undef
  Compiler:
    cc='cc', ccflags ='-fwrapv -fno-strict-aliasing -pipe -fstack-protector-strong -I/usr/local/include -D_LARGEFILE_SOURCE -D_FILE_OFFSET_BITS=64',
    optimize='-O2',
    cppflags='-fwrapv -fno-strict-aliasing -pipe -fstack-protector-strong -I/usr/local/include'
    ccversion='', gccversion='6.3.0 20170516', gccosandvers=''
    intsize=4, longsize=8, ptrsize=8, doublesize=8, byteorder=12345678, doublekind=3
    d_longlong=define, longlongsize=8, d_longdbl=define, longdblsize=16, longdblkind=3
    ivtype='long', ivsize=8, nvtype='double', nvsize=8, Off_t='off_t', lseeksize=8
    alignbytes=8, prototype=define
  Linker and Libraries:
    ld='cc', ldflags =' -fstack-protector-strong -L/usr/local/lib'
    libpth=/usr/local/lib /usr/lib/gcc/x86_64-linux-gnu/6/include-fixed /usr/include/x86_64-linux-gnu /usr/lib /lib/x86_64-linux-gnu /lib/../lib /usr/lib/x86_64-linux-gnu /usr/lib/../lib /lib
    libs=-lpthread -lnsl -lgdbm -ldb -ldl -lm -lcrypt -lutil -lc -lgdbm_compat
    perllibs=-lpthread -lnsl -ldl -lm -lcrypt -lutil -lc
    libc=libc-2.24.so, so=so, useshrplib=false, libperl=libperl.a
    gnulibc_version='2.24'
  Dynamic Linking:
    dlsrc=dl_dlopen.xs, dlext=so, d_dlsymun=undef, ccdlflags='-Wl,-E'
    cccdlflags='-fPIC', lddlflags='-shared -O2 -L/usr/local/lib -fstack-protector-strong'


Characteristics of this binary (from libperl): 
  Compile-time options: HAS_TIMES PERLIO_LAYERS PERL_COPY_ON_WRITE
                        PERL_DONT_CREATE_GVSV
                        PERL_HASH_FUNC_ONE_AT_A_TIME_HARD PERL_MALLOC_WRAP
                        PERL_PRESERVE_IVUV USE_64_BIT_ALL USE_64_BIT_INT
                        USE_LARGE_FILES USE_LOCALE USE_LOCALE_COLLATE
                        USE_LOCALE_CTYPE USE_LOCALE_NUMERIC USE_LOCALE_TIME
                        USE_PERLIO USE_PERL_ATOF
  Built under linux
  Compiled at Jun 20 2017 18:06:36
  %ENV:
    PERL5LIB="/home/cpansand/.cpan/build/2017072918/POE-Filter-HTTP-Parser-1.08-8CXWUQ/blib/arch:/home/cpansand/.cpan/build/2017072918/POE-Filter-HTTP-Parser-1.08-8CXWUQ/blib/lib:/home/cpansand/.cpan/build/2017072918/Test-POE-Server-TCP-1.20-EWOFoO/blib/arch:/home/cpansand/.cpan/build/2017072918/Test-POE-Server-TCP-1.20-EWOFoO/blib/lib:/home/cpansand/.cpan/build/2017072918/HTTP-Parser-0.06-nUqYZW/blib/arch:/home/cpansand/.cpan/build/2017072918/HTTP-Parser-0.06-nUqYZW/blib/lib:/home/cpansand/.cpan/build/2017072918/Test-POE-Client-TCP-1.12-Yr1tUX/blib/arch:/home/cpansand/.cpan/build/2017072918/Test-POE-Client-TCP-1.12-Yr1tUX/blib/lib:/home/cpansand/.cpan/build/2017072918/MooseX-POE-0.215-fJRYOn/blib/arch:/home/cpansand/.cpan/build/2017072918/MooseX-POE-0.215-fJRYOn/blib/lib"
    PERL5OPT=""
    PERL5_CPANPLUS_IS_RUNNING="24891"
    PERL5_CPAN_IS_RUNNING="24891"
    PERL5_CPAN_IS_RUNNING_IN_RECURSION="22485,24891"
    PERLDOC="-MPod::Perldoc::ToTextOverstrike"
    PERL_BATCH="yes"
    PERL_CANARY_STABILITY_NOPROMPT="1"
    PERL_CPAN_REPORTER_CONFIG="/var/tmp/cpansmoker-1023/2017072918/cpanreporter_003_config.ini"
    PERL_EXTUTILS_AUTOINSTALL="--defaultdeps"
  @INC:
    /home/cpansand/.cpan/build/2017072918/POE-Filter-HTTP-Parser-1.08-8CXWUQ/blib/arch
    /home/cpansand/.cpan/build/2017072918/POE-Filter-HTTP-Parser-1.08-8CXWUQ/blib/lib
    /home/cpansand/.cpan/build/2017072918/Test-POE-Server-TCP-1.20-EWOFoO/blib/arch
    /home/cpansand/.cpan/build/2017072918/Test-POE-Server-TCP-1.20-EWOFoO/blib/lib
    /home/cpansand/.cpan/build/2017072918/HTTP-Parser-0.06-nUqYZW/blib/arch
    /home/cpansand/.cpan/build/2017072918/HTTP-Parser-0.06-nUqYZW/blib/lib
    /home/cpansand/.cpan/build/2017072918/Test-POE-Client-TCP-1.12-Yr1tUX/blib/arch
    /home/cpansand/.cpan/build/2017072918/Test-POE-Client-TCP-1.12-Yr1tUX/blib/lib
    /home/cpansand/.cpan/build/2017072918/MooseX-POE-0.215-fJRYOn/blib/arch
    /home/cpansand/.cpan/build/2017072918/MooseX-POE-0.215-fJRYOn/blib/lib
    /opt/perl-5.24.0/lib/site_perl/5.24.0/x86_64-linux
    /opt/perl-5.24.0/lib/site_perl/5.24.0
    /opt/perl-5.24.0/lib/5.24.0/x86_64-linux
    /opt/perl-5.24.0/lib/5.24.0
    .