Net-Statsd-Server v0.20 Perl 5 v5.43.2 x86_64-linux

Status
Pass
From
Carlos Guevara
Dist
Net-Statsd-Server v0.20
Platform
Perl 5 v5.43.2 x86_64-linux
Date
2025-08-13 04:42:39
ID
f1362d6e-77ff-11f0-8544-d147a0c852d6
This distribution has been tested as part of the CPAN Testers
project, supporting the Perl programming language.  See
http://wiki.cpantesters.org/ for more information or email
questions to cpan-testers-discuss@perl.org


--
Dear Cosimo Streppone,

This is a computer-generated report for Net-Statsd-Server-0.20
on perl 5.43.2, created by CPAN-Reporter-1.2020.

Thank you for uploading your work to CPAN.  Congratulations!
All tests were successful.

Sections of this report:

    * Tester comments
    * Program output
    * Prerequisites
    * Environment and other context

------------------------------
TESTER COMMENTS
------------------------------

Additional comments from tester:

this report is from an automated smoke testing program
and was not reviewed by a human for accuracy

------------------------------
PROGRAM OUTPUT
------------------------------

Output from '/usr/bin/make test':

PERL_DL_NONLAZY=1 "/home/cpan/bin/perl/bin/perl5.43.2" "-MExtUtils::Command::MM" "-MTest::Harness" "-e" "undef *Test::Harness::Switches; test_harness(0, 'blib/lib', 'blib/arch')" t/*.t t/integration-tests/*.t
t/000-sanity.t ............................. ok
t/config.t ................................. ok
t/graphite.t ............................... ok
2025-08-13 00:42:29.000000 -0400 note  Net::Statsd::Server: Initializing Net::Statsd::Server::Backend::Console backend
2025-08-13 00:42:29.000000 -0400 note  Net::Statsd::Server: Initializing Net::Statsd::Server::Backend::Graphite backend
2025-08-13 00:42:29.000000 -0400 info  AnyEvent: Autoloaded model 'AnyEvent::Impl::Perl', using it.
2025-08-13 00:42:29.096380 -0400 note  Net::Statsd::Server: statsd server started on 0.0.0.0:40001 (v0.17)
2025-08-13 00:42:29.096461 -0400 note  Net::Statsd::Server: manager interface started on 0.0.0.0:40002
2025-08-13 00:42:29.096507 -0400 note  Net::Statsd::Server: metrics flush will happen every 1s
2025-08-13 00:42:29.556438 -0400 warn  Net::Statsd::Server: Bad line: 1 in msg "a_bad_test_value|z"
2025-08-13 00:42:30.097418 -0400 note  Net::Statsd::Server: flushing metrics
Flushing stats at Wed Aug 13 00:42:30 2025
{"pctThreshold":[90],"timer_data":{},"timers":{},"counters":{"statsd.packets_received":1,"statsd.bad_lines_seen":1},"gauges":{},"sets":null,"counter_rates":{"statsd.packets_received":1,"statsd.bad_lines_seen":1}}
t/integration-tests/bad-message.t .......... ok
2025-08-13 00:42:30.000000 -0400 note  Net::Statsd::Server: Initializing Net::Statsd::Server::Backend::Console backend
2025-08-13 00:42:30.000000 -0400 note  Net::Statsd::Server: Initializing Net::Statsd::Server::Backend::Graphite backend
2025-08-13 00:42:30.000000 -0400 info  AnyEvent: Autoloaded model 'AnyEvent::Impl::Perl', using it.
2025-08-13 00:42:30.226912 -0400 note  Net::Statsd::Server: statsd server started on 0.0.0.0:40001 (v0.17)
2025-08-13 00:42:30.226933 -0400 note  Net::Statsd::Server: manager interface started on 0.0.0.0:40002
2025-08-13 00:42:30.226953 -0400 note  Net::Statsd::Server: metrics flush will happen every 1s
2025-08-13 00:42:31.228111 -0400 note  Net::Statsd::Server: flushing metrics
Flushing stats at Wed Aug 13 00:42:31 2025
{"counter_rates":{"statsd.packets_received":1,"a_test_value":100,"statsd.bad_lines_seen":0},"counters":{"statsd.packets_received":1,"a_test_value":100,"statsd.bad_lines_seen":0},"sets":null,"timer_data":{},"timers":{},"gauges":{},"pctThreshold":[90]}
# stats.counters.statsd.packets_received.rate 1.000000 1755060151
# stats.counters.statsd.packets_received.count 1 1755060151
# stats.counters.a_test_value.rate 100.000000 1755060151
# stats.counters.a_test_value.count 100 1755060151
# stats.counters.statsd.bad_lines_seen.rate 0.000000 1755060151
# stats.counters.statsd.bad_lines_seen.count 0 1755060151
# stats.statsd.numStats 3 1755060151
# stats.statsd.graphiteStats.calculationtime 0.062000 1755060151
# stats.statsd.processing_time 0.031 1755060151
# stats.statsd.graphiteStats.last_exception 630770112 1755060151
# stats.statsd.graphiteStats.last_flush 630770112 1755060151
t/integration-tests/counts-are-valid.t ..... ok
2025-08-13 00:42:31.000000 -0400 note  Net::Statsd::Server: Initializing Net::Statsd::Server::Backend::Graphite backend
2025-08-13 00:42:31.000000 -0400 info  AnyEvent: Autoloaded model 'AnyEvent::Impl::Perl', using it.
2025-08-13 00:42:31.354279 -0400 note  Net::Statsd::Server: statsd server started on 0.0.0.0:40001 (v0.17)
2025-08-13 00:42:31.354355 -0400 note  Net::Statsd::Server: manager interface started on 0.0.0.0:40002
2025-08-13 00:42:31.354401 -0400 note  Net::Statsd::Server: metrics flush will happen every 1s
2025-08-13 00:42:32.355308 -0400 note  Net::Statsd::Server: flushing metrics
# First flush. Test gauge should be there.
2025-08-13 00:42:33.355463 -0400 note  Net::Statsd::Server: flushing metrics
# Second flush. deleteGauges=false should keep the test gauge.
t/integration-tests/delete-gauges-false.t .. ok
2025-08-13 00:42:33.000000 -0400 note  Net::Statsd::Server: Initializing Net::Statsd::Server::Backend::Graphite backend
2025-08-13 00:42:33.000000 -0400 info  AnyEvent: Autoloaded model 'AnyEvent::Impl::Perl', using it.
2025-08-13 00:42:33.489713 -0400 note  Net::Statsd::Server: statsd server started on 0.0.0.0:40001 (v0.17)
2025-08-13 00:42:33.489794 -0400 note  Net::Statsd::Server: manager interface started on 0.0.0.0:40002
2025-08-13 00:42:33.489842 -0400 note  Net::Statsd::Server: metrics flush will happen every 1s
2025-08-13 00:42:34.490806 -0400 note  Net::Statsd::Server: flushing metrics
# First flush. Test gauge should be there.
2025-08-13 00:42:35.491301 -0400 note  Net::Statsd::Server: flushing metrics
# Second flush. deleteIdleStats should have cleared the test gauge.
t/integration-tests/delete-idle-stats.t .... ok
2025-08-13 00:42:35.000000 -0400 note  Net::Statsd::Server: Initializing Net::Statsd::Server::Backend::Console backend
2025-08-13 00:42:35.000000 -0400 note  Net::Statsd::Server: Initializing Net::Statsd::Server::Backend::Graphite backend
2025-08-13 00:42:35.000000 -0400 info  AnyEvent: Autoloaded model 'AnyEvent::Impl::Perl', using it.
2025-08-13 00:42:35.620640 -0400 note  Net::Statsd::Server: statsd server started on 0.0.0.0:40001 (v0.17)
2025-08-13 00:42:35.620723 -0400 note  Net::Statsd::Server: manager interface started on 0.0.0.0:40002
2025-08-13 00:42:35.620770 -0400 note  Net::Statsd::Server: metrics flush will happen every 1s
2025-08-13 00:42:36.621556 -0400 note  Net::Statsd::Server: flushing metrics
Flushing stats at Wed Aug 13 00:42:36 2025
{"counter_rates":{"statsd.packets_received":1,"a_test_value,category=web,severity=high":100,"statsd.bad_lines_seen":0},"pctThreshold":[90],"timers":{},"timer_data":{},"counters":{"statsd.packets_received":1,"a_test_value,category=web,severity=high":100,"statsd.bad_lines_seen":0},"gauges":{},"sets":null}
# stats.counters.statsd.packets_received.rate 1.000000 1755060156
# stats.counters.statsd.packets_received.count 1 1755060156
# stats.counters.a_test_value,category=web,severity=high.rate 100.000000 1755060156
# stats.counters.a_test_value,category=web,severity=high.count 100 1755060156
# stats.counters.statsd.bad_lines_seen.rate 0.000000 1755060156
# stats.counters.statsd.bad_lines_seen.count 0 1755060156
# stats.statsd.numStats 3 1755060156
# stats.statsd.graphiteStats.calculationtime 0.261000 1755060156
# stats.statsd.processing_time 0.029 1755060156
# stats.statsd.graphiteStats.last_exception 900057536 1755060156
# stats.statsd.graphiteStats.last_flush 900057536 1755060156
t/integration-tests/keys-with-tags.t ....... ok
2025-08-13 00:42:36.000000 -0400 note  Net::Statsd::Server: Initializing Net::Statsd::Server::Backend::Graphite backend
2025-08-13 00:42:36.000000 -0400 info  AnyEvent: Autoloaded model 'AnyEvent::Impl::Perl', using it.
2025-08-13 00:42:36.750755 -0400 note  Net::Statsd::Server: statsd server started on 0.0.0.0:40001 (v0.17)
2025-08-13 00:42:36.750833 -0400 note  Net::Statsd::Server: manager interface started on 0.0.0.0:40002
2025-08-13 00:42:36.750880 -0400 note  Net::Statsd::Server: metrics flush will happen every 1s
# Expected mean value is 1933.8
2025-08-13 00:42:37.751266 -0400 note  Net::Statsd::Server: flushing metrics
# stats.counters.statsd.bad_lines_seen.rate 0.000000 1755060157
# stats.counters.statsd.bad_lines_seen.count 0 1755060157
# stats.counters.statsd.packets_received.rate 100.000000 1755060157
# stats.counters.statsd.packets_received.count 100 1755060157
# stats.timers.read_latency.lower 1037.000000 1755060157
# stats.timers.read_latency.mean_99 1923.383838 1755060157
# stats.timers.read_latency.count_98 98.000000 1755060157
# stats.timers.read_latency.count_95 95.000000 1755060157
# stats.timers.read_latency.sum_squares_95 360109751.000000 1755060157
# stats.timers.read_latency.sum_squares_98 385301202.000000 1755060157
# stats.timers.read_latency.sum 193380.000000 1755060157
# stats.timers.read_latency.upper_98 2919.000000 1755060157
# stats.timers.read_latency.upper_95 2787.000000 1755060157
# stats.timers.read_latency.sum_98 187462.000000 1755060157
# stats.timers.read_latency.sum_99 190415.000000 1755060157
# stats.timers.read_latency.upper 2965.000000 1755060157
# stats.timers.read_latency.upper_99 2953.000000 1755060157
# stats.timers.read_latency.sum_squares_99 394021411.000000 1755060157
# stats.timers.read_latency.mean_95 1881.778947 1755060157
# stats.timers.read_latency.count_99 99.000000 1755060157
# stats.timers.read_latency.count_ps 100.000000 1755060157
# stats.timers.read_latency.count 100.000000 1755060157
# stats.timers.read_latency.median 1950.000000 1755060157
# stats.timers.read_latency.std 537.162843 1755060157
# stats.timers.read_latency.sum_95 178769.000000 1755060157
# stats.timers.read_latency.mean 1933.800000 1755060157
# stats.timers.read_latency.mean_98 1912.877551 1755060157
# stats.timers.read_latency.sum_squares 402812636.000000 1755060157
# stats.statsd.numStats 3 1755060157
# stats.statsd.graphiteStats.calculationtime 0.284000 1755060157
# stats.statsd.processing_time 0.416 1755060157
# stats.statsd.graphiteStats.last_exception 603122112 1755060157
# stats.statsd.graphiteStats.last_flush 603122112 1755060157
t/integration-tests/percent-threshold.t .... ok
2025-08-13 00:42:37.000000 -0400 note  Net::Statsd::Server: Initializing Net::Statsd::Server::Backend::Console backend
2025-08-13 00:42:37.000000 -0400 note  Net::Statsd::Server: Initializing Net::Statsd::Server::Backend::Graphite backend
2025-08-13 00:42:37.000000 -0400 info  AnyEvent: Autoloaded model 'AnyEvent::Impl::Perl', using it.
2025-08-13 00:42:37.881809 -0400 note  Net::Statsd::Server: statsd server started on 0.0.0.0:40001 (v0.17)
2025-08-13 00:42:37.881831 -0400 note  Net::Statsd::Server: manager interface started on 0.0.0.0:40002
2025-08-13 00:42:37.881851 -0400 note  Net::Statsd::Server: metrics flush will happen every 1s
2025-08-13 00:42:38.882354 -0400 note  Net::Statsd::Server: flushing metrics
Flushing stats at Wed Aug 13 00:42:38 2025
{"timers":{"a_test_value":["100"]},"timer_data":{"a_test_value":{"upper_90":"100","sum_squares":10000,"count_ps":1,"sum_squares_90":10000,"count":1,"mean_90":"100","sum":"100","upper":"100","sum_90":"100","lower":"100","mean":100,"count_90":1,"std":0,"median":"100"}},"counters":{"statsd.bad_lines_seen":0,"statsd.packets_received":1},"counter_rates":{"statsd.packets_received":1,"statsd.bad_lines_seen":0},"pctThreshold":["90"],"sets":null,"gauges":{}}
# stats.counters.statsd.bad_lines_seen.rate 0.000000 1755060158
# stats.counters.statsd.bad_lines_seen.count 0 1755060158
# stats.counters.statsd.packets_received.rate 1.000000 1755060158
# stats.counters.statsd.packets_received.count 1 1755060158
# stats.timers.a_test_value.upper_90 100.000000 1755060158
# stats.timers.a_test_value.sum_squares 10000.000000 1755060158
# stats.timers.a_test_value.count_ps 1.000000 1755060158
# stats.timers.a_test_value.sum_squares_90 10000.000000 1755060158
# stats.timers.a_test_value.count 1.000000 1755060158
# stats.timers.a_test_value.mean_90 100.000000 1755060158
# stats.timers.a_test_value.sum 100.000000 1755060158
# stats.timers.a_test_value.upper 100.000000 1755060158
# stats.timers.a_test_value.sum_90 100.000000 1755060158
# stats.timers.a_test_value.lower 100.000000 1755060158
# stats.timers.a_test_value.mean 100.000000 1755060158
# stats.timers.a_test_value.count_90 1.000000 1755060158
# stats.timers.a_test_value.std 0.000000 1755060158
# stats.timers.a_test_value.median 100.000000 1755060158
# stats.statsd.numStats 3 1755060158
# stats.statsd.graphiteStats.calculationtime 0.159000 1755060158
# stats.statsd.processing_time 0.092 1755060158
# stats.statsd.graphiteStats.last_exception 912243136 1755060158
# stats.statsd.graphiteStats.last_flush 912243136 1755060158
t/integration-tests/timers-are-valid.t ..... ok
t/process-metrics.t ........................ ok
t/trim.t ................................... ok
All tests successful.
Files=12, Tests=92, 11 wallclock secs ( 0.05 usr  0.02 sys +  0.67 cusr  0.16 csys =  0.90 CPU)
Result: PASS

------------------------------
PREREQUISITES
------------------------------

Prerequisite modules loaded:

requires:

    Module                Need Have    
    --------------------- ---- --------
    AnyEvent::Handle::UDP 0    0.050   
    IO::Socket::INET      0    1.55    
    JSON::XS              0    4.03    

build_requires:

    Module                Need Have    
    --------------------- ---- --------
    ExtUtils::MakeMaker   0    7.76    
    Test::More            0    1.302214

configure_requires:

    Module                Need Have    
    --------------------- ---- --------
    ExtUtils::MakeMaker   0    7.76    


------------------------------
ENVIRONMENT AND OTHER CONTEXT
------------------------------

Environment variables:

    AUTOMATED_TESTING = 1
    DATE_MANIP_TEST_DM5 = 1
    LANG = en_US.UTF-8
    LC_ALL = C
    NONINTERACTIVE_TESTING = 1
    NO_NETWORK_TESTING = 1
    PATH = /home/cpan/bin/perl/bin:/home/cpan/bin:/home/cpan/bin:/usr/local/bin:/usr/bin:/usr/local/sbin:/usr/sbin
    PERL5LIB = 
    PERL5OPT = 
    PERL5_CPANPLUS_IS_RUNNING = 1557017
    PERL5_CPAN_IS_RUNNING = 1557017
    PERL_MM_USE_DEFAULT = 1
    PERL_PERTURB_KEYS = 0
    PERL_USE_UNSAFE_INC = 1
    SHELL = /bin/bash
    TERM = screen
    TMPDIR = /home/cpan/tmp

Perl special variables (and OS-specific diagnostics, for MSWin32):

    $^X = /home/cpan/bin/perl/bin/perl5.43.2
    $UID/$EUID = 1001 / 1001
    $GID = 1001 1001
    $EGID = 1001 1001

Perl module toolchain versions installed:

    Module              Have    
    ------------------- --------
    CPAN                2.38    
    CPAN::Meta          2.150010
    Cwd                 3.94    
    ExtUtils::CBuilder  0.280242
    ExtUtils::Command   7.76    
    ExtUtils::Install   2.22    
    ExtUtils::MakeMaker 7.76    
    ExtUtils::Manifest  1.75    
    ExtUtils::ParseXS   3.59    
    File::Spec          3.94    
    JSON                4.10    
    JSON::PP            4.16    
    Module::Build       0.4234  
    Module::Signature   n/a     
    Parse::CPAN::Meta   2.150010
    Test2               1.302214
    Test::Harness       3.52    
    Test::More          1.302214
    YAML                1.31    
    YAML::Syck          1.34    
    version             0.9933  


--

Summary of my perl5 (revision 5 version 43 subversion 2) configuration:
  Commit id: 0b0c8732d8ddd454dbfd6cf3ce41acfa0f79e7cc
  Platform:
    osname=linux
    osvers=6.12.0-55.27.1.el10_0.x86_64
    archname=x86_64-linux
    uname='linux cjg-rhel10 6.12.0-55.27.1.el10_0.x86_64 #1 smp preempt_dynamic fri aug 8 05:55:36 edt 2025 x86_64 gnulinux '
    config_args='-des -Dprefix=/home/cpan/bin/perl -Dscriptdir=/home/cpan/bin/perl/bin -Dusedevel -Duse64bitall'
    hint=recommended
    useposix=true
    d_sigaction=define
    useithreads=undef
    usemultiplicity=undef
    use64bitint=define
    use64bitall=define
    uselongdouble=undef
    usemymalloc=n
    default_inc_excludes_dot=define
  Compiler:
    cc='cc'
    ccflags ='-fwrapv -fno-strict-aliasing -pipe -fstack-protector-strong -I/usr/local/include -D_LARGEFILE_SOURCE -D_FILE_OFFSET_BITS=64 -D_FORTIFY_SOURCE=2'
    optimize='-O2'
    cppflags='-fwrapv -fno-strict-aliasing -pipe -fstack-protector-strong -I/usr/local/include'
    ccversion=''
    gccversion='14.2.1 20250110 (Red Hat 14.2.1-7)'
    gccosandvers=''
    intsize=4
    longsize=8
    ptrsize=8
    doublesize=8
    byteorder=12345678
    doublekind=3
    d_longlong=define
    longlongsize=8
    d_longdbl=define
    longdblsize=16
    longdblkind=3
    ivtype='long'
    ivsize=8
    nvtype='double'
    nvsize=8
    Off_t='off_t'
    lseeksize=8
    alignbytes=8
    prototype=define
  Linker and Libraries:
    ld='cc'
    ldflags =' -fstack-protector-strong -L/usr/local/lib'
    libpth=/usr/local/lib /usr/lib /usr/lib64 /usr/local/lib64
    libs=-lpthread -ldb -ldl -lm -lcrypt -lutil -lc
    perllibs=-lpthread -ldl -lm -lcrypt -lutil -lc
    libc=/lib/../lib64/libc.so.6
    so=so
    useshrplib=false
    libperl=libperl.a
    gnulibc_version='2.39'
  Dynamic Linking:
    dlsrc=dl_dlopen.xs
    dlext=so
    d_dlsymun=undef
    ccdlflags='-Wl,-E'
    cccdlflags='-fPIC'
    lddlflags='-shared -O2 -L/usr/local/lib -fstack-protector-strong'


Characteristics of this binary (from libperl): 
  Compile-time options:
    HAS_LONG_DOUBLE
    HAS_STRTOLD
    HAS_TIMES
    PERLIO_LAYERS
    PERL_COPY_ON_WRITE
    PERL_DONT_CREATE_GVSV
    PERL_HASH_FUNC_SIPHASH13
    PERL_HASH_USE_SBOX32
    PERL_MALLOC_WRAP
    PERL_OP_PARENT
    PERL_PRESERVE_IVUV
    PERL_USE_DEVEL
    PERL_USE_SAFE_PUTENV
    USE_64_BIT_ALL
    USE_64_BIT_INT
    USE_LARGE_FILES
    USE_LOCALE
    USE_LOCALE_COLLATE
    USE_LOCALE_CTYPE
    USE_LOCALE_NUMERIC
    USE_LOCALE_TIME
    USE_PERLIO
    USE_PERL_ATOF
  Built under linux
  Compiled at Aug 12 2025 09:19:15
  %ENV:
    PERL5LIB=""
    PERL5OPT=""
    PERL5_CPANPLUS_IS_RUNNING="1557017"
    PERL5_CPAN_IS_RUNNING="1557017"
    PERL_MM_USE_DEFAULT="1"
    PERL_PERTURB_KEYS="0"
    PERL_USE_UNSAFE_INC="1"
  @INC:
    /home/cpan/bin/perl/lib/site_perl/5.43.2/x86_64-linux
    /home/cpan/bin/perl/lib/site_perl/5.43.2
    /home/cpan/bin/perl/lib/5.43.2/x86_64-linux
    /home/cpan/bin/perl/lib/5.43.2
    .