Back
From: metabase:user:320bfe00-2aae-11df-837a-5e0a49663a4f
Subject: PASS Catalyst-Authentication-Credential-Twitter-2.0.4 v5.22.0 RC2 GNU/Linux
Date: 2015-05-28T15:19:32Z
This distribution has been tested as part of the CPAN Testers
project, supporting the Perl programming language. See
http://wiki.cpantesters.org/ for more information or email
questions to cpan-testers-discuss@perl.org
--
Dear Yanick Champoux,
This is a computer-generated report for Catalyst-Authentication-Credential-Twitter-2.0.4
on perl 5.22.0, created by CPAN-Reporter-1.2014.
Thank you for uploading your work to CPAN. Congratulations!
All tests were successful.
Sections of this report:
* Tester comments
* Program output
* Prerequisites
* Environment and other context
------------------------------
TESTER COMMENTS
------------------------------
Additional comments from tester:
this report is from an automated smoke testing program
and was not reviewed by a human for accuracy
------------------------------
PROGRAM OUTPUT
------------------------------
Output from './Build test':
t/00-compile.t ................ ok
#
#
# Generated by Dist::Zilla::Plugin::ReportVersions::Tiny v1.10
# perl: 5.022000 (wanted 5.006) on linux from /tmp/basesmoker-reloperl-YI9h/bin/perl
#
# Catalyst => 5.90092 (want any version)
# Catalyst::Controller => <undef> (want any version)
# Catalyst::Exception => <undef> (want any version)
# Catalyst::Plugin::Session::PerUser => 0.05 (want any version)
# Catalyst::Plugin::Session::Store::FastMmap => 0.16 (want any version)
# Class::Accessor::Fast => 0.34 (want any version)
# Data::Dumper => 2.158 (want any version)
# File::Spec => 3.56 (want any version)
# IO::Handle => 1.35 (want any version)
# IPC::Open3 => 1.18 (want any version)
# Module::Build => 0.4212 (want 0.3601)
# Net::Twitter => 4.01010 (want 4.00001)
# Test::More => 1.001014 (want 0.88)
# base => 2.22 (want any version)
# lib => 0.63 (want any version)
# parent => 0.234 (want any version)
# strict => 1.09 (want any version)
# warnings => 1.32 (want any version)
#
# Thanks for using my code. I hope it works for you.
# If not, please try and include this output in the bug report.
# That will help me reproduce the issue and solve your problem.
#
t/000-report-versions-tiny.t .. ok
t/02pod.t ..................... ok
t/basic_app.t ................. ok
[debug] no request token present, or no verifier
t/fail_callback.t ............. ok
[debug] No Store specified for realm "twitter", using the Null store.
t/no_per_user.t ............... ok
All tests successful.
Files=6, Tests=22, 5 wallclock secs ( 0.04 usr 0.05 sys + 4.95 cusr 0.58 csys = 5.62 CPU)
Result: PASS
------------------------------
PREREQUISITES
------------------------------
Prerequisite modules loaded:
requires:
Module Need Have
------------------------------------------ ------- --------
base 0 2.22
Catalyst::Exception 0 0
Catalyst::Plugin::Session::PerUser 0 0.05
Class::Accessor::Fast 0 0.34
Data::Dumper 0 2.158
Net::Twitter 4.00001 4.01010
strict 0 1.09
warnings 0 1.32
build_requires:
Module Need Have
------------------------------------------ ------- --------
Catalyst 0 5.90092
Catalyst::Controller 0 0
Catalyst::Plugin::Session::Store::FastMmap 0 0.16
File::Spec 0 3.56
IO::Handle 0 1.35
IPC::Open3 0 1.18
lib 0 0.63
Module::Build 0.3601 0.4212
parent 0 0.234
perl 5.006 5.022000
Test::More 0.88 1.001014
configure_requires:
Module Need Have
------------------------------------------ ------- --------
Module::Build 0.3601 0.4212
------------------------------
ENVIRONMENT AND OTHER CONTEXT
------------------------------
Environment variables:
AUTOMATED_TESTING = 1
LANG = en_US.UTF-8
LANGUAGE = en_US:en
PATH = /home/sand/bin:/usr/local/bin:/usr/bin:/bin:/usr/games:/usr/local/perl/bin:/usr/X11/bin:/sbin:/usr/sbin
PERL = /tmp/basesmoker-reloperl-YI9h/bin/perl
PERL5LIB =
PERL5OPT =
PERL5_CPANPLUS_IS_RUNNING = 31729
PERL5_CPAN_IS_RUNNING = 31729
PERL_MM_USE_DEFAULT = 1
SHELL = /usr/bin/zsh
TERM = screen
Perl special variables (and OS-specific diagnostics, for MSWin32):
$^X = /tmp/basesmoker-reloperl-YI9h/bin/perl
$UID/$EUID = 1005 / 1005
$GID = 1005 1005
$EGID = 1005 1005
Perl module toolchain versions installed:
Module Have
------------------- --------
CPAN 2.10
CPAN::Meta 2.150001
Cwd 3.56
ExtUtils::CBuilder 0.280221
ExtUtils::Command 1.20
ExtUtils::Install 2.04
ExtUtils::MakeMaker 7.04_01
ExtUtils::Manifest 1.70
ExtUtils::ParseXS 3.28
File::Spec 3.56
JSON 2.90
JSON::PP 2.27300
Module::Build 0.4212
Module::Signature 0.79
Parse::CPAN::Meta 1.4414
Test::Harness 3.35
Test::More 1.001014
YAML 1.15
YAML::Syck 1.29
version 0.9909
--
Summary of my perl5 (revision 5 version 22 subversion 0) configuration:
Commit id: 6378109479f5b474e8205c8478f484b209078772
Platform:
osname=linux, osvers=4.0.0-1-amd64, archname=x86_64-linux-thread-multi-ld
uname='linux k83 4.0.0-1-amd64 #1 smp debian 4.0.2-1 (2015-05-11) x86_64 gnulinux '
config_args='-Dprefix=/home/sand/src/perl/repoperls/installed-perls/perl/v5.22.0-RC2/a2da -Dmyhostname=k83 -Dinstallusrbinperl=n -Uversiononly -Dusedevel -des -Ui_db -Duseithreads -Duselongdouble -DDEBUGGING=-g'
hint=recommended, useposix=true, d_sigaction=define
useithreads=define, usemultiplicity=define
use64bitint=define, use64bitall=define, uselongdouble=define
usemymalloc=n, bincompat5005=undef
Compiler:
cc='cc', ccflags ='-D_REENTRANT -D_GNU_SOURCE -fwrapv -fno-strict-aliasing -pipe -fstack-protector-strong -I/usr/local/include -D_LARGEFILE_SOURCE -D_FILE_OFFSET_BITS=64 -D_FORTIFY_SOURCE=2',
optimize='-O2 -g',
cppflags='-D_REENTRANT -D_GNU_SOURCE -fwrapv -fno-strict-aliasing -pipe -fstack-protector-strong -I/usr/local/include'
ccversion='', gccversion='4.9.2', gccosandvers=''
intsize=4, longsize=8, ptrsize=8, doublesize=8, byteorder=12345678, doublekind=3
d_longlong=define, longlongsize=8, d_longdbl=define, longdblsize=16, longdblkind=3
ivtype='long', ivsize=8, nvtype='long double', nvsize=16, Off_t='off_t', lseeksize=8
alignbytes=16, prototype=define
Linker and Libraries:
ld='cc', ldflags =' -fstack-protector-strong -L/usr/local/lib'
libpth=/usr/local/lib /usr/lib/gcc/x86_64-linux-gnu/4.9/include-fixed /usr/include/x86_64-linux-gnu /usr/lib /lib/x86_64-linux-gnu /lib/../lib /usr/lib/x86_64-linux-gnu /usr/lib/../lib /lib
libs=-lpthread -lnsl -lgdbm -ldb -ldl -lm -lcrypt -lutil -lc -lgdbm_compat
perllibs=-lpthread -lnsl -ldl -lm -lcrypt -lutil -lc
libc=libc-2.19.so, so=so, useshrplib=false, libperl=libperl.a
gnulibc_version='2.19'
Dynamic Linking:
dlsrc=dl_dlopen.xs, dlext=so, d_dlsymun=undef, ccdlflags='-Wl,-E'
cccdlflags='-fPIC', lddlflags='-shared -O2 -g -L/usr/local/lib -fstack-protector-strong'
Characteristics of this binary (from libperl):
Compile-time options: HAS_TIMES MULTIPLICITY PERLIO_LAYERS
PERL_DONT_CREATE_GVSV
PERL_HASH_FUNC_ONE_AT_A_TIME_HARD
PERL_IMPLICIT_CONTEXT PERL_MALLOC_WRAP
PERL_NEW_COPY_ON_WRITE PERL_PRESERVE_IVUV
PERL_USE_DEVEL USE_64_BIT_ALL USE_64_BIT_INT
USE_ITHREADS USE_LARGE_FILES USE_LOCALE
USE_LOCALE_COLLATE USE_LOCALE_CTYPE
USE_LOCALE_NUMERIC USE_LOCALE_TIME USE_LONG_DOUBLE
USE_PERLIO USE_PERL_ATOF USE_REENTRANT_API
Locally applied patches:
RC2
Built under linux
Compiled at May 22 2015 07:09:21
%ENV:
PERL="/tmp/basesmoker-reloperl-YI9h/bin/perl"
PERL5LIB=""
PERL5OPT=""
PERL5_CPANPLUS_IS_RUNNING="31729"
PERL5_CPAN_IS_RUNNING="31729"
PERL_MM_USE_DEFAULT="1"
@INC:
/home/sand/src/perl/repoperls/installed-perls/perl/v5.22.0-RC2/a2da/lib/site_perl/5.22.0/x86_64-linux-thread-multi-ld
/home/sand/src/perl/repoperls/installed-perls/perl/v5.22.0-RC2/a2da/lib/site_perl/5.22.0
/home/sand/src/perl/repoperls/installed-perls/perl/v5.22.0-RC2/a2da/lib/5.22.0/x86_64-linux-thread-multi-ld
/home/sand/src/perl/repoperls/installed-perls/perl/v5.22.0-RC2/a2da/lib/5.22.0
.