Report for POE-Loop-Glib-0.038

Back
From: metabase:user:314402c4-2aae-11df-837a-5e0a49663a4f
Subject: PASS POE-Loop-Glib-0.038 v5.22.3 RC5 GNU/Linux
Date: 2017-01-10T07:18:10Z

This distribution has been tested as part of the CPAN Testers
project, supporting the Perl programming language.  See
http://wiki.cpantesters.org/ for more information or email
questions to cpan-testers-discuss@perl.org


--
Dear Apocalypse,

This is a computer-generated report for POE-Loop-Glib-0.038
on perl 5.22.3, created by CPAN-Reporter-1.2018.

Thank you for uploading your work to CPAN.  Congratulations!
All tests were successful.

Sections of this report:

    * Tester comments
    * Program output
    * Prerequisites
    * Environment and other context

------------------------------
TESTER COMMENTS
------------------------------

Additional comments from tester:

none provided

------------------------------
PROGRAM OUTPUT
------------------------------

Output from './Build test':

t/1_load.t ............................. ok
t/apocalypse.t ......................... skipped: Test::Apocalypse required for validating the distribution
# Testing POE 1.367, POE::Test::Loops 1.360, Using Loop(POE::Loop::Glib), Perl 5.022003, /bbbike/perl-5.22.3-RC5/bin/perl on linux
t/glib/00_info.t ....................... ok
t/glib/all_errors.t .................... skipped: most of these should move into other test files
GLib-CRITICAL **: Source ID 4 was not found when attempting to remove it at /tmpfs/.cpan-build-cpansand/2017011003/POE-Loop-Glib-0.038-1/blib/lib/POE/Loop/Glib.pm line 53.
GLib-CRITICAL **: Source ID 10 was not found when attempting to remove it at /tmpfs/.cpan-build-cpansand/2017011003/POE-Loop-Glib-0.038-1/blib/lib/POE/Loop/Glib.pm line 53.
t/glib/comp_tcp.t ...................... ok
# You might see a 'disconnect' error during this test.
# It may be ignored.
GLib-CRITICAL **: Source ID 4 was not found when attempting to remove it at /tmpfs/.cpan-build-cpansand/2017011003/POE-Loop-Glib-0.038-1/blib/lib/POE/Loop/Glib.pm line 53.
GLib-CRITICAL **: Source ID 26 was not found when attempting to remove it at /tmpfs/.cpan-build-cpansand/2017011003/POE-Loop-Glib-0.038-1/blib/lib/POE/Loop/Glib.pm line 53.
GLib-CRITICAL **: Source ID 87 was not found when attempting to remove it at /tmpfs/.cpan-build-cpansand/2017011003/POE-Loop-Glib-0.038-1/blib/lib/POE/Loop/Glib.pm line 53.
GLib-CRITICAL **: Source ID 94 was not found when attempting to remove it at /tmpfs/.cpan-build-cpansand/2017011003/POE-Loop-Glib-0.038-1/blib/lib/POE/Loop/Glib.pm line 53.
GLib-CRITICAL **: Source ID 96 was not found when attempting to remove it at /tmpfs/.cpan-build-cpansand/2017011003/POE-Loop-Glib-0.038-1/blib/lib/POE/Loop/Glib.pm line 53.
GLib-CRITICAL **: Source ID 99 was not found when attempting to remove it at /tmpfs/.cpan-build-cpansand/2017011003/POE-Loop-Glib-0.038-1/blib/lib/POE/Loop/Glib.pm line 53.
GLib-CRITICAL **: Source ID 110 was not found when attempting to remove it at /tmpfs/.cpan-build-cpansand/2017011003/POE-Loop-Glib-0.038-1/blib/lib/POE/Loop/Glib.pm line 53.
GLib-CRITICAL **: Source ID 115 was not found when attempting to remove it at /tmpfs/.cpan-build-cpansand/2017011003/POE-Loop-Glib-0.038-1/blib/lib/POE/Loop/Glib.pm line 53.
GLib-CRITICAL **: Source ID 119 was not found when attempting to remove it at /tmpfs/.cpan-build-cpansand/2017011003/POE-Loop-Glib-0.038-1/blib/lib/POE/Loop/Glib.pm line 53.
GLib-CRITICAL **: Source ID 127 was not found when attempting to remove it at /tmpfs/.cpan-build-cpansand/2017011003/POE-Loop-Glib-0.038-1/blib/lib/POE/Loop/Glib.pm line 53.
GLib-CRITICAL **: Source ID 129 was not found when attempting to remove it at /tmpfs/.cpan-build-cpansand/2017011003/POE-Loop-Glib-0.038-1/blib/lib/POE/Loop/Glib.pm line 53.
GLib-CRITICAL **: Source ID 131 was not found when attempting to remove it at /tmpfs/.cpan-build-cpansand/2017011003/POE-Loop-Glib-0.038-1/blib/lib/POE/Loop/Glib.pm line 53.
GLib-CRITICAL **: Source ID 135 was not found when attempting to remove it at /tmpfs/.cpan-build-cpansand/2017011003/POE-Loop-Glib-0.038-1/blib/lib/POE/Loop/Glib.pm line 53.
GLib-CRITICAL **: Source ID 136 was not found when attempting to remove it at /tmpfs/.cpan-build-cpansand/2017011003/POE-Loop-Glib-0.038-1/blib/lib/POE/Loop/Glib.pm line 53.
GLib-CRITICAL **: Source ID 140 was not found when attempting to remove it at /tmpfs/.cpan-build-cpansand/2017011003/POE-Loop-Glib-0.038-1/blib/lib/POE/Loop/Glib.pm line 53.
GLib-CRITICAL **: Source ID 142 was not found when attempting to remove it at /tmpfs/.cpan-build-cpansand/2017011003/POE-Loop-Glib-0.038-1/blib/lib/POE/Loop/Glib.pm line 53.
GLib-CRITICAL **: Source ID 143 was not found when attempting to remove it at /tmpfs/.cpan-build-cpansand/2017011003/POE-Loop-Glib-0.038-1/blib/lib/POE/Loop/Glib.pm line 53.
GLib-CRITICAL **: Source ID 147 was not found when attempting to remove it at /tmpfs/.cpan-build-cpansand/2017011003/POE-Loop-Glib-0.038-1/blib/lib/POE/Loop/Glib.pm line 53.
GLib-CRITICAL **: Source ID 149 was not found when attempting to remove it at /tmpfs/.cpan-build-cpansand/2017011003/POE-Loop-Glib-0.038-1/blib/lib/POE/Loop/Glib.pm line 53.
GLib-CRITICAL **: Source ID 150 was not found when attempting to remove it at /tmpfs/.cpan-build-cpansand/2017011003/POE-Loop-Glib-0.038-1/blib/lib/POE/Loop/Glib.pm line 53.
GLib-CRITICAL **: Source ID 154 was not found when attempting to remove it at /tmpfs/.cpan-build-cpansand/2017011003/POE-Loop-Glib-0.038-1/blib/lib/POE/Loop/Glib.pm line 53.
GLib-CRITICAL **: Source ID 156 was not found when attempting to remove it at /tmpfs/.cpan-build-cpansand/2017011003/POE-Loop-Glib-0.038-1/blib/lib/POE/Loop/Glib.pm line 53.
GLib-CRITICAL **: Source ID 157 was not found when attempting to remove it at /tmpfs/.cpan-build-cpansand/2017011003/POE-Loop-Glib-0.038-1/blib/lib/POE/Loop/Glib.pm line 53.
GLib-CRITICAL **: Source ID 161 was not found when attempting to remove it at /tmpfs/.cpan-build-cpansand/2017011003/POE-Loop-Glib-0.038-1/blib/lib/POE/Loop/Glib.pm line 53.
GLib-CRITICAL **: Source ID 163 was not found when attempting to remove it at /tmpfs/.cpan-build-cpansand/2017011003/POE-Loop-Glib-0.038-1/blib/lib/POE/Loop/Glib.pm line 53.
GLib-CRITICAL **: Source ID 164 was not found when attempting to remove it at /tmpfs/.cpan-build-cpansand/2017011003/POE-Loop-Glib-0.038-1/blib/lib/POE/Loop/Glib.pm line 53.
GLib-CRITICAL **: Source ID 168 was not found when attempting to remove it at /tmpfs/.cpan-build-cpansand/2017011003/POE-Loop-Glib-0.038-1/blib/lib/POE/Loop/Glib.pm line 53.
GLib-CRITICAL **: Source ID 171 was not found when attempting to remove it at /tmpfs/.cpan-build-cpansand/2017011003/POE-Loop-Glib-0.038-1/blib/lib/POE/Loop/Glib.pm line 53.
t/glib/comp_tcp_concurrent.t ........... ok
t/glib/connect_errors.t ................ ok
t/glib/k_alarms.t ...................... ok
t/glib/k_aliases.t ..................... ok
t/glib/k_detach.t ...................... ok
t/glib/k_run_returns.t ................. ok
GLib-CRITICAL **: Source ID 6 was not found when attempting to remove it at /tmpfs/.cpan-build-cpansand/2017011003/POE-Loop-Glib-0.038-1/blib/lib/POE/Loop/Glib.pm line 53.
GLib-CRITICAL **: Source ID 410610 was not found when attempting to remove it at /tmpfs/.cpan-build-cpansand/2017011003/POE-Loop-Glib-0.038-1/blib/lib/POE/Loop/Glib.pm line 53.
t/glib/k_selects.t ..................... ok
t/glib/k_sig_child.t ................... ok
t/glib/k_signals.t ..................... ok
GLib-CRITICAL **: Source ID 3 was not found when attempting to remove it at /tmpfs/.cpan-build-cpansand/2017011003/POE-Loop-Glib-0.038-1/blib/lib/POE/Loop/Glib.pm line 53.
GLib-CRITICAL **: Source ID 14 was not found when attempting to remove it at /tmpfs/.cpan-build-cpansand/2017011003/POE-Loop-Glib-0.038-1/blib/lib/POE/Loop/Glib.pm line 53.
GLib-CRITICAL **: Source ID 34 was not found when attempting to remove it at /tmpfs/.cpan-build-cpansand/2017011003/POE-Loop-Glib-0.038-1/blib/lib/POE/Loop/Glib.pm line 53.
GLib-CRITICAL **: Source ID 45 was not found when attempting to remove it at /tmpfs/.cpan-build-cpansand/2017011003/POE-Loop-Glib-0.038-1/blib/lib/POE/Loop/Glib.pm line 53.
GLib-CRITICAL **: Source ID 56 was not found when attempting to remove it at /tmpfs/.cpan-build-cpansand/2017011003/POE-Loop-Glib-0.038-1/blib/lib/POE/Loop/Glib.pm line 53.
GLib-CRITICAL **: Source ID 67 was not found when attempting to remove it at /tmpfs/.cpan-build-cpansand/2017011003/POE-Loop-Glib-0.038-1/blib/lib/POE/Loop/Glib.pm line 53.
GLib-CRITICAL **: Source ID 78 was not found when attempting to remove it at /tmpfs/.cpan-build-cpansand/2017011003/POE-Loop-Glib-0.038-1/blib/lib/POE/Loop/Glib.pm line 53.
t/glib/k_signals_rerun.t ............... ok
t/glib/sbk_signal_init.t ............... ok
t/glib/ses_nfa.t ....................... ok
# This test generates some STDERR during trace testing.
=== 28577 === 23 -> _start (from /opt/perl-5.22.3-RC5/lib/site_perl/5.22.3/POE/Kernel.pm at 1497)
=== 28577 === 23 -> woot (from /opt/perl-5.22.3-RC5/lib/site_perl/5.22.3/POE/Test/Loops/ses_session.pm at 691)
=== 28577 === 23 -> narf (from /opt/perl-5.22.3-RC5/lib/site_perl/5.22.3/POE/Test/Loops/ses_session.pm at 692)
=== 28577 === 23 -> _stop (from /opt/perl-5.22.3-RC5/lib/site_perl/5.22.3/POE/Resource/Sessions.pm at 571)
t/glib/ses_session.t ................... ok
t/glib/wheel_accept.t .................. ok
t/glib/wheel_curses.t .................. skipped: Need help with Curses functions blocking under ptys
t/glib/wheel_readline.t ................ ok
GLib-CRITICAL **: Source ID 112105 was not found when attempting to remove it at /tmpfs/.cpan-build-cpansand/2017011003/POE-Loop-Glib-0.038-1/blib/lib/POE/Loop/Glib.pm line 53.
t/glib/wheel_readwrite.t ............... ok
t/glib/wheel_run.t ..................... ok
GLib-CRITICAL **: Source ID 3 was not found when attempting to remove it at /tmpfs/.cpan-build-cpansand/2017011003/POE-Loop-Glib-0.038-1/blib/lib/POE/Loop/Glib.pm line 53.
t/glib/wheel_run_size.t ................ ok
t/glib/wheel_sf_ipv6.t ................. skipped: Socket::GetAddrInfo is needed for IPv6 tests
GLib-CRITICAL **: Source ID 4 was not found when attempting to remove it at /tmpfs/.cpan-build-cpansand/2017011003/POE-Loop-Glib-0.038-1/blib/lib/POE/Loop/Glib.pm line 53.
t/glib/wheel_sf_tcp.t .................. ok
t/glib/wheel_sf_udp.t .................. ok
GLib-CRITICAL **: Source ID 4 was not found when attempting to remove it at /tmpfs/.cpan-build-cpansand/2017011003/POE-Loop-Glib-0.038-1/blib/lib/POE/Loop/Glib.pm line 53.
t/glib/wheel_sf_unix.t ................. ok
t/glib/wheel_tail.t .................... ok
t/glib/z_kogman_sig_order.t ............ ok
t/glib/z_leolo_wheel_run.t ............. ok
# Using '/bin/true' as our thing to run under system()
t/glib/z_merijn_sigchld_system.t ....... ok
GLib-CRITICAL **: Source ID 6 was not found when attempting to remove it at /tmpfs/.cpan-build-cpansand/2017011003/POE-Loop-Glib-0.038-1/blib/lib/POE/Loop/Glib.pm line 53.
GLib-CRITICAL **: Source ID 56075 was not found when attempting to remove it at /tmpfs/.cpan-build-cpansand/2017011003/POE-Loop-Glib-0.038-1/blib/lib/POE/Loop/Glib.pm line 53.
t/glib/z_rt39872_sigchld.t ............. ok
# Parent 29367 waiting 3sec for slow systems to settle.
# sending sigusr1
# sent sigusr1
29369: GLib-CRITICAL **: Source ID 5 was not found when attempting to remove it at /tmpfs/.cpan-build-cpansand/2017011003/POE-Loop-Glib-0.038-1/blib/lib/POE/Loop/Glib.pm line 53.
29367: GLib-CRITICAL **: Source ID 681884 was not found when attempting to remove it at /tmpfs/.cpan-build-cpansand/2017011003/POE-Loop-Glib-0.038-1/blib/lib/POE/Loop/Glib.pm line 53.
29370: GLib-CRITICAL **: Source ID 5 was not found when attempting to remove it at /tmpfs/.cpan-build-cpansand/2017011003/POE-Loop-Glib-0.038-1/blib/lib/POE/Loop/Glib.pm line 53.
29367: GLib-CRITICAL **: Source ID 681890 was not found when attempting to remove it at /tmpfs/.cpan-build-cpansand/2017011003/POE-Loop-Glib-0.038-1/blib/lib/POE/Loop/Glib.pm line 53.
t/glib/z_rt39872_sigchld_stop.t ........ ok
GLib-CRITICAL **: Source ID 14 was not found when attempting to remove it at /tmpfs/.cpan-build-cpansand/2017011003/POE-Loop-Glib-0.038-1/blib/lib/POE/Loop/Glib.pm line 53.
GLib-CRITICAL **: Source ID 34 was not found when attempting to remove it at /tmpfs/.cpan-build-cpansand/2017011003/POE-Loop-Glib-0.038-1/blib/lib/POE/Loop/Glib.pm line 53.
t/glib/z_rt53302_fh_watchers.t ......... ok
t/glib/z_rt54319_bazerka_followtail.t .. ok
t/glib/z_steinert_signal_integrity.t ... ok
All tests successful.
Files=37, Tests=491, 27 wallclock secs ( 0.06 usr  0.21 sys + 19.43 cusr  4.90 csys = 24.60 CPU)
Result: PASS

------------------------------
PREREQUISITES
------------------------------

Prerequisite modules loaded:

requires:

    Module           Need  Have    
    ---------------- ----- --------
    Glib             1.222 1.324   
    perl             5.006 5.022003
    POE              1.288 1.367   

configure_requires:

    Module           Need  Have    
    ---------------- ----- --------
    Module::Build    0.36  0.4220  
    POE::Test::Loops 1.034 1.360   


------------------------------
ENVIRONMENT AND OTHER CONTEXT
------------------------------

Environment variables:

    LANG = C
    LC_ALL = de_DE.UTF-8
    PATH = /usr/local/bin:/usr/bin:/bin:/usr/local/sbin:/usr/sbin:/sbin:/home/cpansand/bin/linux-gnu:/home/cpansand/bin/sh:/home/cpansand/bin:/usr/games:/home/cpansand/devel:/home/eserte/src/srezic-misc/scripts
    PERL5LIB = 
    PERL5OPT = 
    PERL5_CPANPLUS_IS_RUNNING = 22010
    PERL5_CPAN_IS_RUNNING = 22010
    PERL5_CPAN_IS_RUNNING_IN_RECURSION = 12201,22010
    PERLDOC = -MPod::Perldoc::ToTextOverstrike
    PERL_BATCH = yes
    PERL_CANARY_STABILITY_NOPROMPT = 1
    PERL_CPAN_REPORTER_CONFIG = /var/tmp/cpansmoker-1023/2017010921/cpanreporter_001_config.ini
    PERL_EXTUTILS_AUTOINSTALL = --defaultdeps
    PERL_PARALLEL_SMOKER = yes
    PERL_USE_UNSAFE_INC = 1
    SHELL = /bin/zsh
    TERM = screen
    TMPDIR = /var/tmp/cpansmoker-1023/2017010921

Perl special variables (and OS-specific diagnostics, for MSWin32):

    $^X = /bbbike/perl-5.22.3-RC5/bin/perl
    $UID/$EUID = 1023 / 1023
    $GID = 1023 1023
    $EGID = 1023 1023

Perl module toolchain versions installed:

    Module              Have    
    ------------------- --------
    CPAN                2.14    
    CPAN::Meta          2.150010
    Cwd                 3.62    
    ExtUtils::CBuilder  0.280224
    ExtUtils::Command   7.24    
    ExtUtils::Install   2.04    
    ExtUtils::MakeMaker 7.24    
    ExtUtils::Manifest  1.70    
    ExtUtils::ParseXS   3.30    
    File::Spec          3.62    
    JSON                2.90    
    JSON::PP            2.27400 
    Module::Build       0.4220  
    Module::Signature   0.81    
    Parse::CPAN::Meta   2.150010
    Test::Harness       3.36    
    Test::More          1.302073
    YAML                1.21    
    YAML::Syck          1.29    
    version             0.9917  


--

Summary of my perl5 (revision 5 version 22 subversion 3) configuration:
   
  Platform:
    osname=linux, osvers=3.16.0-4-amd64, archname=x86_64-linux
    uname='linux eserte 3.16.0-4-amd64 #1 smp debian 3.16.36-1+deb8u2 (2016-10-19) x86_64 gnulinux '
    config_args='-ds -e -Dprefix=/opt/perl-5.22.3-RC5 -Dcf_email=srezic@cpan.org'
    hint=recommended, useposix=true, d_sigaction=define
    useithreads=undef, usemultiplicity=undef
    use64bitint=define, use64bitall=define, uselongdouble=undef
    usemymalloc=n, bincompat5005=undef
  Compiler:
    cc='cc', ccflags ='-fwrapv -fno-strict-aliasing -pipe -fstack-protector-strong -I/usr/local/include -D_LARGEFILE_SOURCE -D_FILE_OFFSET_BITS=64 -D_FORTIFY_SOURCE=2',
    optimize='-O2',
    cppflags='-fwrapv -fno-strict-aliasing -pipe -fstack-protector-strong -I/usr/local/include'
    ccversion='', gccversion='4.9.2', gccosandvers=''
    intsize=4, longsize=8, ptrsize=8, doublesize=8, byteorder=12345678, doublekind=3
    d_longlong=define, longlongsize=8, d_longdbl=define, longdblsize=16, longdblkind=3
    ivtype='long', ivsize=8, nvtype='double', nvsize=8, Off_t='off_t', lseeksize=8
    alignbytes=8, prototype=define
  Linker and Libraries:
    ld='cc', ldflags =' -fstack-protector-strong -L/usr/local/lib'
    libpth=/usr/local/lib /usr/lib/gcc/x86_64-linux-gnu/4.9/include-fixed /usr/include/x86_64-linux-gnu /usr/lib /lib/x86_64-linux-gnu /lib/../lib /usr/lib/x86_64-linux-gnu /usr/lib/../lib /lib
    libs=-lpthread -lnsl -lgdbm -ldb -ldl -lm -lcrypt -lutil -lc -lgdbm_compat
    perllibs=-lpthread -lnsl -ldl -lm -lcrypt -lutil -lc
    libc=libc-2.19.so, so=so, useshrplib=false, libperl=libperl.a
    gnulibc_version='2.19'
  Dynamic Linking:
    dlsrc=dl_dlopen.xs, dlext=so, d_dlsymun=undef, ccdlflags='-Wl,-E'
    cccdlflags='-fPIC', lddlflags='-shared -O2 -L/usr/local/lib -fstack-protector-strong'


Characteristics of this binary (from libperl): 
  Compile-time options: HAS_TIMES PERLIO_LAYERS PERL_DONT_CREATE_GVSV
                        PERL_HASH_FUNC_ONE_AT_A_TIME_HARD PERL_MALLOC_WRAP
                        PERL_NEW_COPY_ON_WRITE PERL_PRESERVE_IVUV
                        USE_64_BIT_ALL USE_64_BIT_INT USE_LARGE_FILES
                        USE_LOCALE USE_LOCALE_COLLATE USE_LOCALE_CTYPE
                        USE_LOCALE_NUMERIC USE_LOCALE_TIME USE_PERLIO
                        USE_PERL_ATOF
  Locally applied patches:
	RC5
  Built under linux
  Compiled at Jan  5 2017 19:28:05
  %ENV:
    PERL5LIB=""
    PERL5OPT=""
    PERL5_CPANPLUS_IS_RUNNING="22010"
    PERL5_CPAN_IS_RUNNING="22010"
    PERL5_CPAN_IS_RUNNING_IN_RECURSION="12201,22010"
    PERLDOC="-MPod::Perldoc::ToTextOverstrike"
    PERL_BATCH="yes"
    PERL_CANARY_STABILITY_NOPROMPT="1"
    PERL_CPAN_REPORTER_CONFIG="/var/tmp/cpansmoker-1023/2017010921/cpanreporter_001_config.ini"
    PERL_EXTUTILS_AUTOINSTALL="--defaultdeps"
    PERL_PARALLEL_SMOKER="yes"
    PERL_USE_UNSAFE_INC="1"
  @INC:
    /opt/perl-5.22.3-RC5/lib/site_perl/5.22.3/x86_64-linux
    /opt/perl-5.22.3-RC5/lib/site_perl/5.22.3
    /opt/perl-5.22.3-RC5/lib/5.22.3/x86_64-linux
    /opt/perl-5.22.3-RC5/lib/5.22.3
    .