MaxMind-DB-Common v0.040001 Perl 5 v5.35.4 x86_64-linux

Status
Pass
From
Andreas J. König (ANDK)
Dist
MaxMind-DB-Common v0.040001
Platform
Perl 5 v5.35.4 x86_64-linux
Date
2021-08-31 11:16:52
ID
f15acad6-0a4c-11ec-98af-91bac4f7eae2
This distribution has been tested as part of the CPAN Testers
project, supporting the Perl programming language.  See
http://wiki.cpantesters.org/ for more information or email
questions to cpan-testers-discuss@perl.org


--
Dear MaxMind, Inc.,

This is a computer-generated report for MaxMind-DB-Common-0.040001
on perl 5.35.4, created by CPAN-Reporter-1.2018.

Thank you for uploading your work to CPAN.  Congratulations!
All tests were successful.

Sections of this report:

    * Tester comments
    * Program output
    * Prerequisites
    * Environment and other context

------------------------------
TESTER COMMENTS
------------------------------

Additional comments from tester:

this report is from an automated smoke testing program
and was not reviewed by a human for accuracy

------------------------------
PROGRAM OUTPUT
------------------------------

Output from '/usr/bin/make test':

PERL_DL_NONLAZY=1 "/tmp/basesmoker-reloperl-sX_u/bin/perl" "-MExtUtils::Command::MM" "-MTest::Harness" "-e" "undef *Test::Harness::Switches; test_harness(0, 'blib/lib', 'blib/arch')" t/*.t t/MaxMind/DB/*.t
# 
# Versions for all modules listed in MYMETA.json (including optional ones):
# 
# === Configure Requires ===
# 
#     Module              Want Have
#     ------------------- ---- ----
#     ExtUtils::MakeMaker  any 7.62
# 
# === Build Requires ===
# 
#     Module              Want Have
#     ------------------- ---- ----
#     ExtUtils::MakeMaker  any 7.62
# 
# === Test Requires ===
# 
#     Module              Want     Have
#     ------------------- ---- --------
#     ExtUtils::MakeMaker  any     7.62
#     File::Spec           any     3.81
#     Test::More          0.96 1.302186
# 
# === Test Recommends ===
# 
#     Module         Want     Have
#     ---------- -------- --------
#     CPAN::Meta 2.120900 2.150010
# 
# === Runtime Requires ===
# 
#     Module                  Want     Have
#     ----------------------- ---- --------
#     Carp                     any     1.52
#     Data::Dumper::Concise    any    2.023
#     DateTime                 any     1.54
#     Exporter                 any     5.77
#     List::AllUtils           any     0.19
#     Math::BigInt             any 1.999823
#     Moo                      any 2.005004
#     Moo::Role                any 2.005004
#     MooX::StrictConstructor  any    0.011
#     Scalar::Util             any     1.56
#     Sub::Quote               any 2.006006
#     autodie                  any     2.34
#     constant                 any     1.33
#     namespace::autoclean     any     0.29
#     overload                 any     1.33
#     strict                   any     1.12
#     warnings                 any     1.54
# 
t/00-report-prereqs.t ..... ok
t/author-00-compile.t ..... skipped: these tests are for testing by the author
t/author-eol.t ............ skipped: these tests are for testing by the author
t/author-no-tabs.t ........ skipped: these tests are for testing by the author
t/author-pod-spell.t ...... skipped: these tests are for testing by the author
t/author-pod-syntax.t ..... skipped: these tests are for testing by the author
t/author-test-version.t ... skipped: these tests are for testing by the author
t/compile.t ............... ok
t/MaxMind/DB/Common.t ..... ok
t/MaxMind/DB/Metadata.t ... ok
t/release-cpan-changes.t .. skipped: these tests are for release candidate testing
t/release-portability.t ... skipped: these tests are for release candidate testing
t/release-synopsis.t ...... skipped: these tests are for release candidate testing
t/release-tidyall.t ....... skipped: these tests are for release candidate testing
All tests successful.
Files=14, Tests=8,  1 wallclock secs ( 0.02 usr  0.05 sys +  0.75 cusr  0.16 csys =  0.98 CPU)
Result: PASS

------------------------------
PREREQUISITES
------------------------------

Prerequisite modules loaded:

requires:

    Module                  Need  Have    
    ----------------------- ----- --------
    autodie                 0     2.34    
    Carp                    0     1.52    
    constant                0     1.33    
    Data::Dumper::Concise   0     2.023   
    DateTime                0     1.54    
    Exporter                0     5.77    
    List::AllUtils          0     0.19    
    Math::BigInt            0     1.999823
    Moo                     0     2.005004
    Moo::Role               0     2.005004
    MooX::StrictConstructor 0     0.011   
    namespace::autoclean    0     0.29    
    overload                0     1.33    
    perl                    5.008 5.035004
    Scalar::Util            0     1.56    
    strict                  0     1.12    
    Sub::Quote              0     2.006006
    warnings                0     1.54    

build_requires:

    Module                  Need  Have    
    ----------------------- ----- --------
    ExtUtils::MakeMaker     0     7.62    
    File::Spec              0     3.81    
    Test::More              0.96  1.302186

configure_requires:

    Module                  Need  Have    
    ----------------------- ----- --------
    ExtUtils::MakeMaker     0     7.62    
    perl                    5.008 5.035004


------------------------------
ENVIRONMENT AND OTHER CONTEXT
------------------------------

Environment variables:

    AUTOMATED_TESTING = 1
    LANG = en_US.UTF-8
    PATH = /home/sand/bin:/usr/local/bin:/usr/bin:/bin:/usr/games:/usr/local/perl/bin:/usr/X11/bin:/sbin:/usr/sbin
    PERL5LIB = /tmp/loop_over_bdir-3905322-XsUGCK/FusionInventory-Agent-2.6-0/blib/arch:/tmp/loop_over_bdir-3905322-XsUGCK/FusionInventory-Agent-2.6-0/blib/lib:/tmp/loop_over_bdir-3905322-XsUGCK/Devel-Required-0.16-0/blib/arch:/tmp/loop_over_bdir-3905322-XsUGCK/Devel-Required-0.16-0/blib/lib:/tmp/loop_over_bdir-3905322-XsUGCK/ProjectBuilder-0.14.1-0/blib/arch:/tmp/loop_over_bdir-3905322-XsUGCK/ProjectBuilder-0.14.1-0/blib/lib
    PERL5OPT = 
    PERL5_CPANPLUS_IS_RUNNING = 1782443
    PERL5_CPAN_IS_RUNNING = 1782443
    PERL_CANARY_STABILITY_NOPROMPT = 1
    PERL_MM_USE_DEFAULT = 1
    PERL_USE_UNSAFE_INC = 1
    SHELL = /usr/bin/zsh
    TERM = screen

Perl special variables (and OS-specific diagnostics, for MSWin32):

    $^X = /tmp/basesmoker-reloperl-sX_u/bin/perl
    $UID/$EUID = 1005 / 1005
    $GID = 1005 1005
    $EGID = 1005 1005

Perl module toolchain versions installed:

    Module              Have    
    ------------------- --------
    CPAN                2.28    
    CPAN::Meta          2.150010
    Cwd                 3.82    
    ExtUtils::CBuilder  0.280236
    ExtUtils::Command   7.62    
    ExtUtils::Install   2.20    
    ExtUtils::MakeMaker 7.62    
    ExtUtils::Manifest  1.73    
    ExtUtils::ParseXS   3.43    
    File::Spec          3.81    
    JSON                4.03    
    JSON::PP            4.06    
    Module::Build       0.4231  
    Module::Signature   0.87    
    Parse::CPAN::Meta   2.150010
    Test::Harness       3.43    
    Test::More          1.302186
    YAML                1.30    
    YAML::Syck          1.34    
    version             0.9929  


--

Summary of my perl5 (revision 5 version 35 subversion 4) configuration:
  Commit id: bf7671f1287a3d11deeb11fec2cbf4c73750f455
  Platform:
    osname=linux
    osvers=5.3.0-2-amd64
    archname=x86_64-linux
    uname='linux k93msid 5.3.0-2-amd64 #1 smp debian 5.3.9-3 (2019-11-19) x86_64 gnulinux '
    config_args='-Dprefix=/home/sand/src/perl/repoperls/installed-perls/host/k93msid/v5.35.3-95-gbf7671f128/3c10 -Dmyhostname=k93msid -Dinstallusrbinperl=n -Uversiononly -Dusedevel -des -Ui_db -Dlibswanted=cl pthread socket inet nsl gdbm dbm malloc dl ld sun m crypt sec util c cposix posix ucb BSD gdbm_compat -Uuseithreads -Uuselongdouble -DEBUGGING=none'
    hint=recommended
    useposix=true
    d_sigaction=define
    useithreads=undef
    usemultiplicity=undef
    use64bitint=define
    use64bitall=define
    uselongdouble=undef
    usemymalloc=n
    default_inc_excludes_dot=define
  Compiler:
    cc='cc'
    ccflags ='-fwrapv -fno-strict-aliasing -pipe -fstack-protector-strong -I/usr/local/include -D_LARGEFILE_SOURCE -D_FILE_OFFSET_BITS=64 -D_FORTIFY_SOURCE=2'
    optimize='-O2'
    cppflags='-fwrapv -fno-strict-aliasing -pipe -fstack-protector-strong -I/usr/local/include'
    ccversion=''
    gccversion='9.2.1 20191109'
    gccosandvers=''
    intsize=4
    longsize=8
    ptrsize=8
    doublesize=8
    byteorder=12345678
    doublekind=3
    d_longlong=define
    longlongsize=8
    d_longdbl=define
    longdblsize=16
    longdblkind=3
    ivtype='long'
    ivsize=8
    nvtype='double'
    nvsize=8
    Off_t='off_t'
    lseeksize=8
    alignbytes=8
    prototype=define
  Linker and Libraries:
    ld='cc'
    ldflags =' -fstack-protector-strong -L/usr/local/lib'
    libpth=/usr/local/lib /usr/lib/x86_64-linux-gnu /usr/lib /lib/x86_64-linux-gnu /lib
    libs=-lpthread -lnsl -ldl -lm -lcrypt -lutil -lc
    perllibs=-lpthread -lnsl -ldl -lm -lcrypt -lutil -lc
    libc=libc-2.29.so
    so=so
    useshrplib=false
    libperl=libperl.a
    gnulibc_version='2.29'
  Dynamic Linking:
    dlsrc=dl_dlopen.xs
    dlext=so
    d_dlsymun=undef
    ccdlflags='-Wl,-E'
    cccdlflags='-fPIC'
    lddlflags='-shared -O2 -L/usr/local/lib -fstack-protector-strong'


Characteristics of this binary (from libperl): 
  Compile-time options:
    HAS_TIMES
    PERLIO_LAYERS
    PERL_COPY_ON_WRITE
    PERL_DONT_CREATE_GVSV
    PERL_MALLOC_WRAP
    PERL_OP_PARENT
    PERL_PRESERVE_IVUV
    PERL_USE_DEVEL
    USE_64_BIT_ALL
    USE_64_BIT_INT
    USE_LARGE_FILES
    USE_LOCALE
    USE_LOCALE_COLLATE
    USE_LOCALE_CTYPE
    USE_LOCALE_NUMERIC
    USE_LOCALE_TIME
    USE_PERLIO
    USE_PERL_ATOF
  Built under linux
  Compiled at Aug 30 2021 09:11:14
  %ENV:
    PERL5LIB="/tmp/loop_over_bdir-3905322-XsUGCK/FusionInventory-Agent-2.6-0/blib/arch:/tmp/loop_over_bdir-3905322-XsUGCK/FusionInventory-Agent-2.6-0/blib/lib:/tmp/loop_over_bdir-3905322-XsUGCK/Devel-Required-0.16-0/blib/arch:/tmp/loop_over_bdir-3905322-XsUGCK/Devel-Required-0.16-0/blib/lib:/tmp/loop_over_bdir-3905322-XsUGCK/ProjectBuilder-0.14.1-0/blib/arch:/tmp/loop_over_bdir-3905322-XsUGCK/ProjectBuilder-0.14.1-0/blib/lib"
    PERL5OPT=""
    PERL5_CPANPLUS_IS_RUNNING="1782443"
    PERL5_CPAN_IS_RUNNING="1782443"
    PERL_CANARY_STABILITY_NOPROMPT="1"
    PERL_MM_USE_DEFAULT="1"
    PERL_USE_UNSAFE_INC="1"
  @INC:
    /tmp/loop_over_bdir-3905322-XsUGCK/FusionInventory-Agent-2.6-0/blib/arch
    /tmp/loop_over_bdir-3905322-XsUGCK/FusionInventory-Agent-2.6-0/blib/lib
    /tmp/loop_over_bdir-3905322-XsUGCK/Devel-Required-0.16-0/blib/arch
    /tmp/loop_over_bdir-3905322-XsUGCK/Devel-Required-0.16-0/blib/lib
    /tmp/loop_over_bdir-3905322-XsUGCK/ProjectBuilder-0.14.1-0/blib/arch
    /tmp/loop_over_bdir-3905322-XsUGCK/ProjectBuilder-0.14.1-0/blib/lib
    /home/sand/src/perl/repoperls/installed-perls/host/k93msid/v5.35.3-95-gbf7671f128/3c10/lib/site_perl/5.35.4/x86_64-linux
    /home/sand/src/perl/repoperls/installed-perls/host/k93msid/v5.35.3-95-gbf7671f128/3c10/lib/site_perl/5.35.4
    /home/sand/src/perl/repoperls/installed-perls/host/k93msid/v5.35.3-95-gbf7671f128/3c10/lib/5.35.4/x86_64-linux
    /home/sand/src/perl/repoperls/installed-perls/host/k93msid/v5.35.3-95-gbf7671f128/3c10/lib/5.35.4
    .