Back
From: metabase:user:322078bc-2aae-11df-837a-5e0a49663a4f
Subject: PASS HTML-StripTags-1.01 v5.12.4 FreeBSD
Date: 2011-07-05T19:28:21Z
This distribution has been tested as part of the CPAN Testers
project, supporting the Perl programming language. See
http://wiki.cpantesters.org/ for more information or email
questions to cpan-testers-discuss@perl.org
--
Dear HINNERK,
This is a computer-generated error report created automatically by
CPANPLUS, version 0.9105. Testers personal comments may appear
at the end of this report.
MAKE TEST passed:
t/strip_tags.t .............. ok
t/strip_tags_basic1.t ....... ok
t/strip_tags_basic2.t ....... ok
t/strip_tags_error.t ........ ok
t/strip_tags_variation1.t ... ok
t/strip_tags_variation10.t .. ok
t/strip_tags_variation11.t .. ok
t/strip_tags_variation2.t ... ok
t/strip_tags_variation3.t ... ok
t/strip_tags_variation4.t ... ok
t/strip_tags_variation5.t ... ok
t/strip_tags_variation6.t ... ok
t/strip_tags_variation7.t ... ok
t/strip_tags_variation8.t ... ok
t/strip_tags_variation9.t ... ok
All tests successful.
Files=15, Tests=161, 5 wallclock secs ( 0.06 usr 0.30 sys + 3.74 cusr 0.81 csys = 4.92 CPU)
Result: PASS
[MSG] [Tue Jul 5 20:27:39 2011] Sending test report for 'HTML-StripTags-1.01'
This report was machine-generated by CPANPLUS::Dist::YACSmoke 0.64.
Powered by minismokebox version 0.54
------------------------------
ENVIRONMENT AND OTHER CONTEXT
------------------------------
Environment variables:
AUTOMATED_TESTING = 1
PATH = /sbin:/bin:/usr/sbin:/usr/bin:/usr/games:/usr/local/sbin:/usr/local/bin:/home/cpan/bin
PERL5LIB = :/usr/home/cpan/pit/bare/conf/perl-5.12.4/.cpanplus/5.12.4/build/Switch-2.16/blib/lib:/usr/home/cpan/pit/bare/conf/perl-5.12.4/.cpanplus/5.12.4/build/Switch-2.16/blib/arch:/usr/home/cpan/pit/bare/conf/perl-5.12.4/.cpanplus/5.12.4/build/HTML-StripTags-1.01/blib/lib:/usr/home/cpan/pit/bare/conf/perl-5.12.4/.cpanplus/5.12.4/build/HTML-StripTags-1.01/blib/arch
PERL5_CPANPLUS_IS_RUNNING = 28732
PERL5_CPANPLUS_IS_VERSION = 0.9105
PERL5_MINISMOKEBOX = 0.54
PERL5_YACSMOKE_BASE = /usr/home/cpan/pit/bare/conf/perl-5.12.4
PERL_EXTUTILS_AUTOINSTALL = --defaultdeps
PERL_MM_USE_DEFAULT = 1
SHELL = /usr/local/bin/bash
TERM = screen
Perl special variables (and OS-specific diagnostics, for MSWin32):
Perl: $^X = /usr/home/cpan/pit/bare/perl-5.12.4/bin/perl
UID: $< = 1001
EUID: $> = 1001
GID: $( = 1001 1001
EGID: $) = 1001 1001
-------------------------------
--
Summary of my perl5 (revision 5 version 12 subversion 4) configuration:
Platform:
osname=freebsd, osvers=8.1-release, archname=amd64-freebsd
uname='freebsd frenzy.bingosnet.co.uk 8.1-release freebsd 8.1-release #0: mon jul 19 02:36:49 utc 2010 root@mason.cse.buffalo.edu:usrobjusrsrcsysgeneric amd64 '
config_args='-des -Dprefix=/usr/home/cpan/pit/bare/perl-5.12.4'
hint=recommended, useposix=true, d_sigaction=define
useithreads=undef, usemultiplicity=undef
useperlio=define, d_sfio=undef, uselargefiles=define, usesocks=undef
use64bitint=define, use64bitall=define, uselongdouble=undef
usemymalloc=n, bincompat5005=undef
Compiler:
cc='cc', ccflags ='-DHAS_FPSETMASK -DHAS_FLOATINGPOINT_H -fno-strict-aliasing -pipe -fstack-protector -I/usr/local/include',
optimize='-O',
cppflags='-DHAS_FPSETMASK -DHAS_FLOATINGPOINT_H -fno-strict-aliasing -pipe -fstack-protector -I/usr/local/include'
ccversion='', gccversion='4.2.1 20070719 [FreeBSD]', gccosandvers=''
intsize=4, longsize=8, ptrsize=8, doublesize=8, byteorder=12345678
d_longlong=define, longlongsize=8, d_longdbl=define, longdblsize=16
ivtype='long', ivsize=8, nvtype='double', nvsize=8, Off_t='off_t', lseeksize=8
alignbytes=8, prototype=define
Linker and Libraries:
ld='cc', ldflags ='-Wl,-E -fstack-protector -L/usr/local/lib'
libpth=/usr/lib /usr/local/lib
libs=-lgdbm -lm -lcrypt -lutil -lc
perllibs=-lm -lcrypt -lutil -lc
libc=, so=so, useshrplib=false, libperl=libperl.a
gnulibc_version=''
Dynamic Linking:
dlsrc=dl_dlopen.xs, dlext=so, d_dlsymun=undef, ccdlflags=' '
cccdlflags='-DPIC -fPIC', lddlflags='-shared -L/usr/local/lib -fstack-protector'
Characteristics of this binary (from libperl):
Compile-time options: PERL_DONT_CREATE_GVSV PERL_MALLOC_WRAP USE_64_BIT_ALL
USE_64_BIT_INT USE_LARGE_FILES USE_PERLIO
USE_PERL_ATOF
Built under freebsd
Compiled at Jul 3 2011 18:54:13
%ENV:
PERL5LIB=":/usr/home/cpan/pit/bare/conf/perl-5.12.4/.cpanplus/5.12.4/build/Switch-2.16/blib/lib:/usr/home/cpan/pit/bare/conf/perl-5.12.4/.cpanplus/5.12.4/build/Switch-2.16/blib/arch:/usr/home/cpan/pit/bare/conf/perl-5.12.4/.cpanplus/5.12.4/build/HTML-StripTags-1.01/blib/lib:/usr/home/cpan/pit/bare/conf/perl-5.12.4/.cpanplus/5.12.4/build/HTML-StripTags-1.01/blib/arch"
PERL5_CPANPLUS_IS_RUNNING="28732"
PERL5_CPANPLUS_IS_VERSION="0.9105"
PERL5_MINISMOKEBOX="0.54"
PERL5_YACSMOKE_BASE="/usr/home/cpan/pit/bare/conf/perl-5.12.4"
PERL_EXTUTILS_AUTOINSTALL="--defaultdeps"
PERL_MM_USE_DEFAULT="1"
@INC:
/usr/home/cpan/pit/bare/conf/perl-5.12.4/.cpanplus/5.12.4/build/Switch-2.16/blib/lib
/usr/home/cpan/pit/bare/conf/perl-5.12.4/.cpanplus/5.12.4/build/Switch-2.16/blib/arch
/usr/home/cpan/pit/bare/conf/perl-5.12.4/.cpanplus/5.12.4/build/HTML-StripTags-1.01/blib/lib
/usr/home/cpan/pit/bare/conf/perl-5.12.4/.cpanplus/5.12.4/build/HTML-StripTags-1.01/blib/arch
/usr/home/cpan/pit/bare/perl-5.12.4/lib/site_perl/5.12.4/amd64-freebsd
/usr/home/cpan/pit/bare/perl-5.12.4/lib/site_perl/5.12.4
/usr/home/cpan/pit/bare/perl-5.12.4/lib/5.12.4/amd64-freebsd
/usr/home/cpan/pit/bare/perl-5.12.4/lib/5.12.4
.