Test-Roo-DataDriven vv0.4.0 Perl 5 v5.29.2 i86pc-solaris
- Status
- Pass
- From
- Serguei Trouchelle (STRO)
- Dist
-
Test-Roo-DataDriven vv0.4.0
- Platform
- Perl 5 v5.29.2 i86pc-solaris
- Date
- 2018-10-22 06:58:56
- ID
- f1a3e67e-d5c7-11e8-8297-566eec3b2b51
This distribution has been tested as part of the CPAN Testers
project, supporting the Perl programming language. See
http://wiki.cpantesters.org/ for more information or email
questions to cpan-testers-discuss@perl.org
--
Dear Robert Rothenberg,
This is a computer-generated report for Test-Roo-DataDriven-v0.4.0
on perl 5.29.2, created by CPAN-Reporter-1.2018.
Thank you for uploading your work to CPAN. Congratulations!
All tests were successful.
Sections of this report:
* Tester comments
* Program output
* Prerequisites
* Environment and other context
------------------------------
TESTER COMMENTS
------------------------------
Additional comments from tester:
this report is from an automated smoke testing program
and was not reviewed by a human for accuracy
------------------------------
PROGRAM OUTPUT
------------------------------
Output from '/usr/bin/make test':
PERL_DL_NONLAZY=1 "/home/stro/perl/5.29.2/bin/perl" "-MExtUtils::Command::MM" "-MTest::Harness" "-e" "undef *Test::Harness::Switches; test_harness(0, 'blib/lib', 'blib/arch')" t/*.t
#
# Versions for all modules listed in MYMETA.json (including optional ones):
#
# === Configure Requires ===
#
# Module Want Have
# ------------------- ---- ----
# ExtUtils::MakeMaker any 7.34
#
# === Build Requires ===
#
# Module Want Have
# ------------------- ---- ----
# ExtUtils::MakeMaker any 7.34
#
# === Test Requires ===
#
# Module Want Have
# ---------------- ----- --------
# Class::Inspector any 1.32
# File::Spec any 3.74
# JSON::PP 2.00 2.97001
# Module::Metadata any 1.000033
# Path::Tiny 0.004 0.108
# Test::More any 1.302140
# Test::Most any 0.35
# Test::Roo any 1.004
# Time::Piece 1.16 1.33
# Time::Seconds any 1.33
#
# === Test Recommends ===
#
# Module Want Have
# ---------- -------- --------
# CPAN::Meta 2.120900 2.150010
#
# === Runtime Requires ===
#
# Module Want Have
# -------------------- ----- --------
# Class::Unload any 0.11
# Path::Tiny 0.004 0.108
# Ref::Util any 0.204
# Test::Roo::Role any 1.004
# curry any 1.001000
# namespace::autoclean any 0.28
#
# === Runtime Recommends ===
#
# Module Want Have
# ------------- ---- -----
# App::Prove any 3.42
# Ref::Util::XS any 0.117
#
t/00-report-prereqs.t ........ ok
t/01-example.t ............... ok
t/02-json.t .................. ok
t/03-parsing-errors.t ........ ok
t/04-skip_all.t .............. ok
t/05-argv-disabled.t ......... ok
t/05-argv-enabled.t .......... ok
t/author-clean-namespaces.t .. skipped: these tests are for testing by the author
t/author-critic.t ............ skipped: these tests are for testing by the author
t/author-eof.t ............... skipped: these tests are for testing by the author
t/author-eol.t ............... skipped: these tests are for testing by the author
t/author-no-tabs.t ........... skipped: these tests are for testing by the author
t/author-pod-coverage.t ...... skipped: these tests are for testing by the author
t/author-pod-linkcheck.t ..... skipped: these tests are for testing by the author
t/author-pod-syntax.t ........ skipped: these tests are for testing by the author
t/author-portability.t ....... skipped: these tests are for testing by the author
t/release-check-manifest.t ... skipped: these tests are for release candidate testing
t/release-fixme.t ............ skipped: these tests are for release candidate testing
t/release-kwalitee.t ......... skipped: these tests are for release candidate testing
t/release-minimum-version.t .. skipped: these tests are for release candidate testing
t/release-trailing-space.t ... skipped: these tests are for release candidate testing
All tests successful.
Files=21, Tests=27, 4 wallclock secs ( 0.23 usr 0.11 sys + 2.65 cusr 0.59 csys = 3.58 CPU)
Result: PASS
------------------------------
PREREQUISITES
------------------------------
Prerequisite modules loaded:
requires:
Module Need Have
-------------------- -------- --------
Class::Unload 0 0.11
curry 0 1.001000
namespace::autoclean 0 0.28
Path::Tiny 0.004 0.108
perl 5.008000 5.029002
Ref::Util 0 0.204
Test::Roo::Role 0 1.004
build_requires:
Module Need Have
-------------------- -------- --------
Class::Inspector 0 1.32
ExtUtils::MakeMaker 0 7.34
File::Spec 0 3.74
JSON::PP 2.00 2.97001
Module::Metadata 0 1.000033
Path::Tiny 0.004 0.108
Test::More 0 1.302140
Test::Most 0 0.35
Test::Roo 0 1.004
Time::Piece 1.16 1.33
Time::Seconds 0 1.33
configure_requires:
Module Need Have
-------------------- -------- --------
ExtUtils::MakeMaker 0 7.34
------------------------------
ENVIRONMENT AND OTHER CONTEXT
------------------------------
Environment variables:
AUTOMATED_TESTING = 1
LANG = en_US.UTF-8
PATH = /usr/gnu/bin:/usr/bin:/usr/sbin:/sbin:/usr/sfw/bin:
PERL5LIB =
PERL5OPT =
PERL5_CPANPLUS_IS_RUNNING = 1755
PERL5_CPAN_IS_RUNNING = 1755
PERL5_CPAN_IS_RUNNING_IN_RECURSION = 20539,1755
PERL_CR_SMOKER_CURRENT = CatalystX-Statsd-v0.1.0
PERL_EXTUTILS_AUTOINSTALL = --defaultdeps
PERL_MM_USE_DEFAULT = 1
PERL_USE_UNSAFE_INC = 1
SHELL = /bin/bash
TERM = xterm
Perl special variables (and OS-specific diagnostics, for MSWin32):
$^X = /home/stro/perl/5.29.2/bin/perl
$UID/$EUID = 101 / 101
$GID = 10 10
$EGID = 10 10
Perl module toolchain versions installed:
Module Have
------------------- --------
CPAN 2.20
CPAN::Meta 2.150010
Cwd 3.75
ExtUtils::CBuilder 0.280230
ExtUtils::Command 7.34
ExtUtils::Install 2.14
ExtUtils::MakeMaker 7.34
ExtUtils::Manifest 1.71
ExtUtils::ParseXS 3.39
File::Spec 3.74
JSON 2.97001
JSON::PP 2.97001
Module::Build 0.4224
Module::Signature n/a
Parse::CPAN::Meta 2.150010
Test::Harness 3.42
Test::More 1.302140
YAML 1.26
YAML::Syck 1.30
version 0.9924
--
Summary of my perl5 (revision 5 version 29 subversion 2) configuration:
Platform:
osname=solaris
osvers=2.11
archname=i86pc-solaris
uname='sunos vm-openindiana-001 5.11 illumos-ed992b0aac i86pc i386 i86pc solaris '
config_args=''
hint=recommended
useposix=true
d_sigaction=define
useithreads=undef
usemultiplicity=undef
use64bitint=undef
use64bitall=undef
uselongdouble=undef
usemymalloc=n
default_inc_excludes_dot=define
bincompat5005=undef
Compiler:
cc='/opt/SUNWspro/bin/cc'
ccflags ='-I/usr/gnu/include -D_LARGEFILE_SOURCE -D_FILE_OFFSET_BITS=64 -DPERL_USE_SAFE_PUTENV'
optimize='-O'
cppflags='-I/usr/gnu/include'
ccversion='Sun C 5.10 SunOS_i386 2009/06/03'
gccversion=''
gccosandvers=''
intsize=4
longsize=4
ptrsize=4
doublesize=8
byteorder=1234
doublekind=3
d_longlong=define
longlongsize=8
d_longdbl=define
longdblsize=12
longdblkind=3
ivtype='long'
ivsize=4
nvtype='double'
nvsize=8
Off_t='off_t'
lseeksize=8
alignbytes=4
prototype=define
Linker and Libraries:
ld='/opt/SUNWspro/bin/cc'
ldflags =' -L/usr/lib -L/usr/ccs/lib -L/opt/sunstudio12.1/prod/lib -L/lib -L/usr/gnu/lib '
libpth=/usr/lib /usr/ccs/lib /opt/sunstudio12.1/prod/lib /lib /usr/gnu/lib
libs=-lpthread -lsocket -lnsl -lgdbm -ldb -ldl -lm -lc
perllibs=-lpthread -lsocket -lnsl -ldl -lm -lc
libc=/lib/libc.so
so=so
useshrplib=true
libperl=libperl.so
gnulibc_version=''
Dynamic Linking:
dlsrc=dl_dlopen.xs
dlext=so
d_dlsymun=undef
ccdlflags=' -R /home/stro/perl/5.29.2/lib/5.29.2/i86pc-solaris/CORE'
cccdlflags='-KPIC'
lddlflags='-G -L/usr/lib -L/usr/ccs/lib -L/opt/sunstudio12.1/prod/lib -L/lib -L/usr/gnu/lib'
Characteristics of this binary (from libperl):
Compile-time options:
HAS_TIMES
PERLIO_LAYERS
PERL_COPY_ON_WRITE
PERL_DONT_CREATE_GVSV
PERL_MALLOC_WRAP
PERL_OP_PARENT
PERL_PRESERVE_IVUV
PERL_USE_SAFE_PUTENV
USE_LARGE_FILES
USE_LOCALE
USE_LOCALE_COLLATE
USE_LOCALE_CTYPE
USE_LOCALE_NUMERIC
USE_LOCALE_TIME
USE_PERLIO
USE_PERL_ATOF
Built under solaris
Compiled at Oct 15 2018 15:00:36
%ENV:
PERL5LIB=""
PERL5OPT=""
PERL5_CPANPLUS_IS_RUNNING="1755"
PERL5_CPAN_IS_RUNNING="1755"
PERL5_CPAN_IS_RUNNING_IN_RECURSION="20539,1755"
PERL_CR_SMOKER_CURRENT="CatalystX-Statsd-v0.1.0"
PERL_EXTUTILS_AUTOINSTALL="--defaultdeps"
PERL_MM_USE_DEFAULT="1"
PERL_USE_UNSAFE_INC="1"
@INC:
/home/stro/perl/5.29.2/lib/site_perl/5.29.2/i86pc-solaris
/home/stro/perl/5.29.2/lib/site_perl/5.29.2
/home/stro/perl/5.29.2/lib/5.29.2/i86pc-solaris
/home/stro/perl/5.29.2/lib/5.29.2
.