Test-Pod-CoverageChange v0.005 Perl 5 v5.30.3 x86_64-linux-ld
- Status
- Pass
- From
- David Cantrell (DCANTRELL)
- Dist
-
Test-Pod-CoverageChange v0.005
- Platform
- Perl 5 v5.30.3 x86_64-linux-ld
- Date
- 2024-07-02 23:29:36
- ID
- f1ae0804-38ca-11ef-aec7-1e2d10b4343c
This distribution has been tested as part of the CPAN Testers
project, supporting the Perl programming language. See
http://wiki.cpantesters.org/ for more information or email
questions to cpan-testers-discuss@perl.org
--
Dear Deriv Services Ltd.,
This is a computer-generated report for Test-Pod-CoverageChange-0.005
on perl 5.30.3, created by CPAN-Reporter-1.2018.
Thank you for uploading your work to CPAN. Congratulations!
All tests were successful.
Sections of this report:
* Tester comments
* Program output
* Prerequisites
* Environment and other context
------------------------------
TESTER COMMENTS
------------------------------
Additional comments from tester:
this report is from an automated smoke testing program
and was not reviewed by a human for accuracy
------------------------------
PROGRAM OUTPUT
------------------------------
Output from '/usr/bin/make test':
PERL_DL_NONLAZY=1 "/home/david/cpantesting/perl-5.30.3-longdouble/bin/perl" "-MExtUtils::Command::MM" "-MTest::Harness" "-e" "undef *Test::Harness::Switches; test_harness(0, 'blib/lib', 'blib/arch')" t/*.t
t/00-check-deps.t ......... ok
t/00-compile.t ............ ok
#
# Versions for all modules listed in MYMETA.json (including optional ones):
#
# === Configure Requires ===
#
# Module Want Have
# ------------------- ---- ----
# ExtUtils::MakeMaker 7.64 7.70
#
# === Build Requires ===
#
# Module Want Have
# ------------------- ---- ----
# ExtUtils::MakeMaker any 7.70
#
# === Test Requires ===
#
# Module Want Have
# --------------------- ----- --------
# Dir::Self any 0.11
# ExtUtils::MakeMaker any 7.70
# File::Spec any 3.75
# IO::Handle any 1.51
# IPC::Open3 any 1.20
# Test::Builder::Tester any 1.302198
# Test::CheckDeps 0.010 0.010
# Test::More 0.98 1.302198
# Test::NoTabs any 2.02
# lib any 0.65
# perl 5.006 5.030003
#
# === Test Recommends ===
#
# Module Want Have
# ---------- -------- --------
# CPAN::Meta 2.120900 2.150010
#
# === Runtime Requires ===
#
# Module Want Have
# ------------------- ----- --------
# Exporter any 5.77
# File::Find::Rule any 0.34
# List::Util 1.43 1.63
# Module::Path any 0.19
# Path::Tiny any 0.144
# Pod::Checker any 1.73
# Pod::Coverage any 0.23
# Test::More 0.98 1.302198
# Test::Pod::Coverage any 1.10
# constant any 1.33
# perl 5.006 5.030003
# strict any 1.11
# utf8 any 1.22
# warnings any 1.44
#
t/00-report-prereqs.t ..... ok
*** WARNING: =head2 without preceding higher level at line 6 in file t/PartiallyCoveredPod.pm
t/correct_pod.t ........... ok
*** WARNING: =head2 without preceding higher level at line 6 in file t/PartiallyCoveredPod.pm
*** WARNING: =head2 without preceding higher level at line 6 in file t/PartiallyCoveredPod.pm
t/multiple_module_test.t .. ok
t/no_pod.t ................ ok
*** PLEASE IGNORE THE NEXT WARNING AND ERROR MESSAGES THEY ARE PARTS OF TESTING PROCESS. at t/pod_syntax_error.t line 26.
*** WARNING: =head2 without preceding higher level at line 6 in file t/PodSyntaxError.pm
*** ERROR: =over without closing =back at line 10 in file t/PodSyntaxError.pm
t/pod_syntax_error.t ...... ok
All tests successful.
Files=7, Tests=39, 14 wallclock secs ( 0.06 usr 0.02 sys + 2.46 cusr 0.39 csys = 2.93 CPU)
Result: PASS
------------------------------
PREREQUISITES
------------------------------
Prerequisite modules loaded:
requires:
Module Need Have
--------------------- ----- --------
constant 0 1.33
Exporter 0 5.77
File::Find::Rule 0 0.34
List::Util 1.43 1.63
Module::Path 0 0.19
Path::Tiny 0 0.144
perl 5.006 5.030003
Pod::Checker 0 1.73
Pod::Coverage 0 0.23
strict 0 1.11
Test::More 0.98 1.302198
Test::Pod::Coverage 0 1.10
utf8 0 1.22
warnings 0 1.44
build_requires:
Module Need Have
--------------------- ----- --------
Dir::Self 0 0.11
ExtUtils::MakeMaker 0 7.70
File::Spec 0 3.75
IO::Handle 0 1.51
IPC::Open3 0 1.20
lib 0 0.65
Test::Builder::Tester 0 1.302198
Test::CheckDeps 0.010 0.010
Test::More 0.98 1.302198
Test::NoTabs 0 2.02
configure_requires:
Module Need Have
--------------------- ----- --------
ExtUtils::MakeMaker 7.64 7.70
------------------------------
ENVIRONMENT AND OTHER CONTEXT
------------------------------
Environment variables:
AUTOMATED_TESTING = 1
LANG = en_GB.UTF-8
LANGUAGE = en_GB:en
LC_TERMINAL = iTerm2
LC_TERMINAL_VERSION = 3.5.2
NONINTERACTIVE_TESTING = 1
PATH = /home/david/.nvm/versions/node/v20.15.0/bin:/home/david/.cargo/bin:/home/david/perl5/perlbrew/bin:/home/david/perl5/perlbrew/perls/perl-5.30.2/bin:/home/david/bin:/usr/local/bin:/usr/bin:/bin:/usr/local/games:/usr/games
PERL = 5.30.3-longdouble
PERL5LIB =
PERL5OPT =
PERL5_CPANPLUS_IS_RUNNING = 689192
PERL5_CPAN_IS_RUNNING = 689192
PERLBREW_HOME = /home/david/.perlbrew
PERLBREW_MANPATH = /home/david/perl5/perlbrew/perls/perl-5.30.2/man
PERLBREW_PATH = /home/david/perl5/perlbrew/bin:/home/david/perl5/perlbrew/perls/perl-5.30.2/bin
PERLBREW_PERL = perl-5.30.2
PERLBREW_ROOT = /home/david/perl5/perlbrew
PERLBREW_SHELLRC_VERSION = 0.98
PERLBREW_VERSION = 0.98
PERLVER = 5.30.3-longdouble
PERL_INLINE_DIRECTORY = /home/david/.Inline-5.30.3-longdouble
PERL_MM_USE_DEFAULT = 1
PERL_USE_UNSAFE_INC = 0
SHELL = /bin/bash
TERM = screen
Perl special variables (and OS-specific diagnostics, for MSWin32):
$^X = /home/david/cpantesting/perl-5.30.3-longdouble/bin/perl
$UID/$EUID = 1000 / 1000
$GID = 1000 24 25 27 29 30 44 46 109 1000
$EGID = 1000 24 25 27 29 30 44 46 109 1000
Perl module toolchain versions installed:
Module Have
------------------- --------
CPAN 2.22
CPAN::Meta 2.150010
Cwd 3.75
ExtUtils::CBuilder 0.280236
ExtUtils::Command 7.70
ExtUtils::Install 2.22
ExtUtils::MakeMaker 7.70
ExtUtils::Manifest 1.75
ExtUtils::ParseXS 3.51
File::Spec 3.75
JSON 4.10
JSON::PP 4.16
Module::Build 0.4234
Module::Signature n/a
Parse::CPAN::Meta 2.150010
Test::Harness 3.48
Test::More 1.302198
YAML 1.30
YAML::Syck n/a
version 0.9930
--
Summary of my perl5 (revision 5 version 30 subversion 3) configuration:
Platform:
osname=linux
osvers=5.10.0-11-amd64
archname=x86_64-linux-ld
uname='linux cpantesting-linux-utm 5.10.0-11-amd64 #1 smp debian 5.10.92-1 (2022-01-18) x86_64 gnulinux '
config_args='-de -Duselongdouble -Dprefix=/home/david/cpantesting/perl-5.30.3-longdouble'
hint=recommended
useposix=true
d_sigaction=define
useithreads=undef
usemultiplicity=undef
use64bitint=define
use64bitall=define
uselongdouble=define
usemymalloc=n
default_inc_excludes_dot=define
bincompat5005=undef
Compiler:
cc='cc'
ccflags ='-fwrapv -fno-strict-aliasing -pipe -fstack-protector-strong -I/usr/local/include -D_LARGEFILE_SOURCE -D_FILE_OFFSET_BITS=64 -D_FORTIFY_SOURCE=2'
optimize='-O2'
cppflags='-fwrapv -fno-strict-aliasing -pipe -fstack-protector-strong -I/usr/local/include'
ccversion=''
gccversion='10.2.1 20210110'
gccosandvers=''
intsize=4
longsize=8
ptrsize=8
doublesize=8
byteorder=12345678
doublekind=3
d_longlong=define
longlongsize=8
d_longdbl=define
longdblsize=16
longdblkind=3
ivtype='long'
ivsize=8
nvtype='long double'
nvsize=16
Off_t='off_t'
lseeksize=8
alignbytes=16
prototype=define
Linker and Libraries:
ld='cc'
ldflags =' -fstack-protector-strong -L/usr/local/lib'
libpth=/usr/local/lib /usr/include/x86_64-linux-gnu /usr/lib /lib/x86_64-linux-gnu /lib/../lib /usr/lib/x86_64-linux-gnu /usr/lib/../lib /lib /lib64 /usr/lib64
libs=-lpthread -lnsl -ldl -lm -lcrypt -lutil -lc
perllibs=-lpthread -lnsl -ldl -lm -lcrypt -lutil -lc
libc=libc-2.31.so
so=so
useshrplib=false
libperl=libperl.a
gnulibc_version='2.31'
Dynamic Linking:
dlsrc=dl_dlopen.xs
dlext=so
d_dlsymun=undef
ccdlflags='-Wl,-E'
cccdlflags='-fPIC'
lddlflags='-shared -O2 -L/usr/local/lib -fstack-protector-strong'
Characteristics of this binary (from libperl):
Compile-time options:
HAS_TIMES
PERLIO_LAYERS
PERL_COPY_ON_WRITE
PERL_DONT_CREATE_GVSV
PERL_MALLOC_WRAP
PERL_OP_PARENT
PERL_PRESERVE_IVUV
USE_64_BIT_ALL
USE_64_BIT_INT
USE_LARGE_FILES
USE_LOCALE
USE_LOCALE_COLLATE
USE_LOCALE_CTYPE
USE_LOCALE_NUMERIC
USE_LOCALE_TIME
USE_LONG_DOUBLE
USE_PERLIO
USE_PERL_ATOF
Locally applied patches:
Devel::PatchPerl 2.08
Built under linux
Compiled at Feb 5 2022 21:27:05
%ENV:
PERL="5.30.3-longdouble"
PERL5LIB=""
PERL5OPT=""
PERL5_CPANPLUS_IS_RUNNING="689192"
PERL5_CPAN_IS_RUNNING="689192"
PERLBREW_HOME="/home/david/.perlbrew"
PERLBREW_MANPATH="/home/david/perl5/perlbrew/perls/perl-5.30.2/man"
PERLBREW_PATH="/home/david/perl5/perlbrew/bin:/home/david/perl5/perlbrew/perls/perl-5.30.2/bin"
PERLBREW_PERL="perl-5.30.2"
PERLBREW_ROOT="/home/david/perl5/perlbrew"
PERLBREW_SHELLRC_VERSION="0.98"
PERLBREW_VERSION="0.98"
PERLVER="5.30.3-longdouble"
PERL_INLINE_DIRECTORY="/home/david/.Inline-5.30.3-longdouble"
PERL_MM_USE_DEFAULT="1"
PERL_USE_UNSAFE_INC="0"
@INC:
/home/david/cpantesting/perl-5.30.3-longdouble/lib/site_perl/5.30.3/x86_64-linux-ld
/home/david/cpantesting/perl-5.30.3-longdouble/lib/site_perl/5.30.3
/home/david/cpantesting/perl-5.30.3-longdouble/lib/5.30.3/x86_64-linux-ld
/home/david/cpantesting/perl-5.30.3-longdouble/lib/5.30.3