Crypt-OpenSSL-RSA v0.30 Perl 5 v5.26.0 x86_64-linux-thread-multi-ld

Status
Pass
From
Nigel Horne
Dist
Crypt-OpenSSL-RSA v0.30
Platform
Perl 5 v5.26.0 x86_64-linux-thread-multi-ld
Date
2018-05-10 22:24:46
ID
f1b8fd82-54a0-11e8-9da6-f703c768dc7a
This distribution has been tested as part of the CPAN Testers
project, supporting the Perl programming language.  See
http://wiki.cpantesters.org/ for more information or email
questions to cpan-testers-discuss@perl.org


--
Dear Todd Rinaldo,

This is a computer-generated report for Crypt-OpenSSL-RSA-0.30
on perl 5.26.0, created by CPAN-Reporter-1.2018.

Thank you for uploading your work to CPAN.  Congratulations!
All tests were successful.

Sections of this report:

    * Tester comments
    * Program output
    * Prerequisites
    * Environment and other context

------------------------------
TESTER COMMENTS
------------------------------

Additional comments from tester:

this report is from an automated smoke testing program
and was not reviewed by a human for accuracy

------------------------------
PROGRAM OUTPUT
------------------------------

Output from '/usr/bin/make test':

"/home/njh/perl5/perlbrew/perls/perl-5.26.0-ld/bin/perl5.26.0" -MExtUtils::Command::MM -e 'cp_nonempty' -- RSA.bs blib/arch/auto/Crypt/OpenSSL/RSA/RSA.bs 644
PERL_DL_NONLAZY=1 "/home/njh/perl5/perlbrew/perls/perl-5.26.0-ld/bin/perl5.26.0" "-MExtUtils::Command::MM" "-MTest::Harness" "-e" "undef *Test::Harness::Switches; test_harness(0, 'blib/lib', 'blib/arch')" t/*.t
t/bignum.t .................. skipped: Crypt::OpenSSL::Bignum required for bignum tests
t/z_meta.t .................. skipped: This test is only run for the module author
t/z_kwalitee.t .............. skipped: This test is only run for the module author
t/z_perl_minimum_version.t .. skipped: Author tests not required for installation
t/z_pod-coverage.t .......... skipped: This test is only run for the module author
t/z_pod.t ................... skipped: This test is only run for the module author
t/rsa.t ..................... ok
t/format.t .................. ok
All tests successful.
Files=8, Tests=73,  0 wallclock secs ( 0.03 usr  0.01 sys +  0.33 cusr  0.08 csys =  0.45 CPU)
Result: PASS

------------------------------
PREREQUISITES
------------------------------

Prerequisite modules loaded:

requires:

    Module                 Need  Have    
    ---------------------- ----- --------
    Crypt::OpenSSL::Random 0     0.15    
    perl                   5.006 5.026000
    Test::More             0     1.302120

build_requires:

    Module                 Need  Have    
    ---------------------- ----- --------
    ExtUtils::MakeMaker    0     7.30    

configure_requires:

    Module                 Need  Have    
    ---------------------- ----- --------
    Crypt::OpenSSL::Guess  0.11  0.11    
    ExtUtils::MakeMaker    0     7.30    


------------------------------
ENVIRONMENT AND OTHER CONTEXT
------------------------------

Environment variables:

    AUTOMATED_TESTING = 1
    HARNESS_OPTIONS = j10
    LANG = en_GB.UTF-8
    PATH = /home/njh/perl5/perlbrew/bin:/home/njh/perl5/perlbrew/perls/perl-5.26.0-ld/bin:src/njh/smoker/bin:/usr/bin:/bin
    PERL5LIB = /tmp/build/Crypt-OpenSSL-Random-0.15-0/blib/arch:/tmp/build/Crypt-OpenSSL-Random-0.15-0/blib/lib:/tmp/build/Crypt-OpenSSL-Guess-0.11-0/blib/arch:/tmp/build/Crypt-OpenSSL-Guess-0.11-0/blib/lib:/tmp/build/Module-Build-Tiny-0.039-0/blib/arch:/tmp/build/Module-Build-Tiny-0.039-0/blib/lib:/tmp/build/ExtUtils-InstallPaths-0.011-0/blib/arch:/tmp/build/ExtUtils-InstallPaths-0.011-0/blib/lib:/tmp/build/ExtUtils-Helpers-0.026-0/blib/arch:/tmp/build/ExtUtils-Helpers-0.026-0/blib/lib:/tmp/build/ExtUtils-Config-0.008-0/blib/arch:/tmp/build/ExtUtils-Config-0.008-0/blib/lib
    PERL5OPT = 
    PERL5_CPANPLUS_IS_RUNNING = 11507
    PERL5_CPAN_IS_RUNNING = 11507
    PERLBREW_HOME = /home/njh/.perlbrew
    PERLBREW_MANPATH = /home/njh/perl5/perlbrew/perls/perl-5.26.0-ld/man
    PERLBREW_PATH = /home/njh/perl5/perlbrew/bin:/home/njh/perl5/perlbrew/perls/perl-5.26.0-ld/bin
    PERLBREW_PERL = perl-5.26.0-ld
    PERLBREW_ROOT = /home/njh/perl5/perlbrew
    PERLBREW_SHELLRC_VERSION = 0.82
    PERLBREW_VERSION = 0.82
    SHELL = /bin/sh
    TMPDIR = /tmp/testwrapper.11497

Perl special variables (and OS-specific diagnostics, for MSWin32):

    $^X = /home/njh/perl5/perlbrew/perls/perl-5.26.0-ld/bin/perl5.26.0
    $UID/$EUID = 1000 / 1000
    $GID = 1000 4 24 25 29 30 44 46 107 112 118 1000
    $EGID = 1000 4 24 25 29 30 44 46 107 112 118 1000

Perl module toolchain versions installed:

    Module              Have    
    ------------------- --------
    CPAN                2.16    
    CPAN::Meta          2.150010
    Cwd                 3.67    
    ExtUtils::CBuilder  0.280226
    ExtUtils::Command   7.30    
    ExtUtils::Install   2.14    
    ExtUtils::MakeMaker 7.30    
    ExtUtils::Manifest  1.70    
    ExtUtils::ParseXS   3.35    
    File::Spec          3.67    
    JSON                2.94    
    JSON::PP            2.94    
    Module::Build       0.4224  
    Module::Signature   n/a     
    Parse::CPAN::Meta   2.150010
    Test::Harness       3.39    
    Test::More          1.302120
    YAML                1.24    
    YAML::Syck          1.30    
    version             0.9918  


--

Summary of my perl5 (revision 5 version 26 subversion 0) configuration:
   
  Platform:
    osname=linux
    osvers=4.12.0-1-amd64
    archname=x86_64-linux-thread-multi-ld
    uname='linux microcenter 4.12.0-1-amd64 #1 smp debian 4.12.6-1 (2017-08-12) x86_64 gnulinux '
    config_args='-de -Dprefix=/home/njh/perl5/perlbrew/perls/perl-5.26.0-ld -Duseithreads -Dusemultiplicity -Dusedevel -Duselongdouble -Accflags=-O2 -W -Wformat=2 -Wswitch -Wshadow -Wwrite-strings -Wuninitialized -Wall -pipe -fomit-frame-pointer -pedantic -D_FORTIFY_SOURCE=2 -Wpointer-arith -Wstrict-prototypes -fstack-protector -Wstack-protector -Wextra -Wbad-function-cast -Wcast-align -Wcast-qual -Wdisabled-optimization -Wendif-labels -Wfloat-equal -Wformat-nonliteral -Winline -Wmissing-declarations -Wmissing-prototypes -Wnested-externs -Wpointer-arith -Wundef -Wformat-security -ftree-vectorize -msse -mfpmath=sse -msse2 -mssse3 -msse4.1 -msse4.2 -fdiagnostics-color=auto -mtune=native -march=native -Aeval:scriptdir=/home/njh/perl5/perlbrew/perls/perl-5.26.0-ld/bin'
    hint=recommended
    useposix=true
    d_sigaction=define
    useithreads=define
    usemultiplicity=define
    use64bitint=define
    use64bitall=define
    uselongdouble=define
    usemymalloc=n
    default_inc_excludes_dot=define
    bincompat5005=undef
  Compiler:
    cc='cc'
    ccflags ='-D_REENTRANT -D_GNU_SOURCE -O2 -W -Wformat=2 -Wswitch -Wshadow -Wwrite-strings -Wuninitialized -Wall -pipe -fomit-frame-pointer -pedantic -D_FORTIFY_SOURCE=2 -Wpointer-arith -Wstrict-prototypes -fstack-protector -Wstack-protector -Wextra -Wbad-function-cast -Wcast-align -Wcast-qual -Wdisabled-optimization -Wendif-labels -Wfloat-equal -Wformat-nonliteral -Winline -Wmissing-declarations -Wmissing-prototypes -Wnested-externs -Wpointer-arith -Wundef -Wformat-security -ftree-vectorize -msse -mfpmath=sse -msse2 -mssse3 -msse4.1 -msse4.2 -fdiagnostics-color=auto -mtune=native -march=native -fwrapv -fno-strict-aliasing -fstack-protector-strong -I/usr/local/include -D_LARGEFILE_SOURCE -D_FILE_OFFSET_BITS=64'
    optimize='-O2'
    cppflags='-D_REENTRANT -D_GNU_SOURCE -O2 -W -Wformat=2 -Wswitch -Wshadow -Wwrite-strings -Wuninitialized -Wall -pipe -fomit-frame-pointer -pedantic -D_FORTIFY_SOURCE=2 -Wpointer-arith -Wstrict-prototypes -fstack-protector -Wstack-protector -Wextra -Wbad-function-cast -Wcast-align -Wcast-qual -Wdisabled-optimization -Wendif-labels -Wfloat-equal -Wformat-nonliteral -Winline -Wmissing-declarations -Wmissing-prototypes -Wnested-externs -Wpointer-arith -Wundef -Wformat-security -ftree-vectorize -msse -mfpmath=sse -msse2 -mssse3 -msse4.1 -msse4.2 -fdiagnostics-color=auto -mtune=native -march=native -fwrapv -fno-strict-aliasing -fstack-protector-strong -I/usr/local/include'
    ccversion=''
    gccversion='7.2.0'
    gccosandvers=''
    intsize=4
    longsize=8
    ptrsize=8
    doublesize=8
    byteorder=12345678
    doublekind=3
    d_longlong=define
    longlongsize=8
    d_longdbl=define
    longdblsize=16
    longdblkind=3
    ivtype='long'
    ivsize=8
    nvtype='long double'
    nvsize=16
    Off_t='off_t'
    lseeksize=8
    alignbytes=16
    prototype=define
  Linker and Libraries:
    ld='cc'
    ldflags =' -fstack-protector-strong -L/usr/local/lib'
    libpth=/usr/local/lib /usr/lib/gcc/x86_64-linux-gnu/7/include-fixed /usr/include/x86_64-linux-gnu /usr/lib /lib/x86_64-linux-gnu /lib/../lib /usr/lib/x86_64-linux-gnu /usr/lib/../lib /lib
    libs=-lpthread -lnsl -lgdbm -ldb -ldl -lm -lcrypt -lutil -lc -lgdbm_compat
    perllibs=-lpthread -lnsl -ldl -lm -lcrypt -lutil -lc
    libc=libc-2.24.so
    so=so
    useshrplib=false
    libperl=libperl.a
    gnulibc_version='2.24'
  Dynamic Linking:
    dlsrc=dl_dlopen.xs
    dlext=so
    d_dlsymun=undef
    ccdlflags='-Wl,-E'
    cccdlflags='-fPIC'
    lddlflags='-shared -O2 -L/usr/local/lib -fstack-protector-strong'


Characteristics of this binary (from libperl): 
  Compile-time options:
    HAS_TIMES
    MULTIPLICITY
    PERLIO_LAYERS
    PERL_COPY_ON_WRITE
    PERL_DONT_CREATE_GVSV
    PERL_IMPLICIT_CONTEXT
    PERL_MALLOC_WRAP
    PERL_OP_PARENT
    PERL_PRESERVE_IVUV
    PERL_USE_DEVEL
    USE_64_BIT_ALL
    USE_64_BIT_INT
    USE_ITHREADS
    USE_LARGE_FILES
    USE_LOCALE
    USE_LOCALE_COLLATE
    USE_LOCALE_CTYPE
    USE_LOCALE_NUMERIC
    USE_LOCALE_TIME
    USE_LONG_DOUBLE
    USE_PERLIO
    USE_PERL_ATOF
    USE_REENTRANT_API
  Built under linux
  Compiled at Sep 14 2017 12:52:29
  %ENV:
    PERL5LIB="/tmp/build/Crypt-OpenSSL-Random-0.15-0/blib/arch:/tmp/build/Crypt-OpenSSL-Random-0.15-0/blib/lib:/tmp/build/Crypt-OpenSSL-Guess-0.11-0/blib/arch:/tmp/build/Crypt-OpenSSL-Guess-0.11-0/blib/lib:/tmp/build/Module-Build-Tiny-0.039-0/blib/arch:/tmp/build/Module-Build-Tiny-0.039-0/blib/lib:/tmp/build/ExtUtils-InstallPaths-0.011-0/blib/arch:/tmp/build/ExtUtils-InstallPaths-0.011-0/blib/lib:/tmp/build/ExtUtils-Helpers-0.026-0/blib/arch:/tmp/build/ExtUtils-Helpers-0.026-0/blib/lib:/tmp/build/ExtUtils-Config-0.008-0/blib/arch:/tmp/build/ExtUtils-Config-0.008-0/blib/lib"
    PERL5OPT=""
    PERL5_CPANPLUS_IS_RUNNING="11507"
    PERL5_CPAN_IS_RUNNING="11507"
    PERLBREW_HOME="/home/njh/.perlbrew"
    PERLBREW_MANPATH="/home/njh/perl5/perlbrew/perls/perl-5.26.0-ld/man"
    PERLBREW_PATH="/home/njh/perl5/perlbrew/bin:/home/njh/perl5/perlbrew/perls/perl-5.26.0-ld/bin"
    PERLBREW_PERL="perl-5.26.0-ld"
    PERLBREW_ROOT="/home/njh/perl5/perlbrew"
    PERLBREW_SHELLRC_VERSION="0.82"
    PERLBREW_VERSION="0.82"
  @INC:
    /tmp/build/Crypt-OpenSSL-Random-0.15-0/blib/arch
    /tmp/build/Crypt-OpenSSL-Random-0.15-0/blib/lib
    /tmp/build/Crypt-OpenSSL-Guess-0.11-0/blib/arch
    /tmp/build/Crypt-OpenSSL-Guess-0.11-0/blib/lib
    /tmp/build/Module-Build-Tiny-0.039-0/blib/arch
    /tmp/build/Module-Build-Tiny-0.039-0/blib/lib
    /tmp/build/ExtUtils-InstallPaths-0.011-0/blib/arch
    /tmp/build/ExtUtils-InstallPaths-0.011-0/blib/lib
    /tmp/build/ExtUtils-Helpers-0.026-0/blib/arch
    /tmp/build/ExtUtils-Helpers-0.026-0/blib/lib
    /tmp/build/ExtUtils-Config-0.008-0/blib/arch
    /tmp/build/ExtUtils-Config-0.008-0/blib/lib
    /home/njh/perl5/perlbrew/perls/perl-5.26.0-ld/lib/site_perl/5.26.0/x86_64-linux-thread-multi-ld
    /home/njh/perl5/perlbrew/perls/perl-5.26.0-ld/lib/site_perl/5.26.0
    /home/njh/perl5/perlbrew/perls/perl-5.26.0-ld/lib/5.26.0/x86_64-linux-thread-multi-ld
    /home/njh/perl5/perlbrew/perls/perl-5.26.0-ld/lib/5.26.0