Git-Helpers v1.000001 Perl 5 v5.35.10 x86_64-linux-ld

Status
Pass
From
Andreas J. König (ANDK)
Dist
Git-Helpers v1.000001
Platform
Perl 5 v5.35.10 x86_64-linux-ld
Date
2022-02-27 05:20:14
ID
f1c621c8-978c-11ec-8d84-1e3d6c002d2e
This distribution has been tested as part of the CPAN Testers
project, supporting the Perl programming language.  See
http://wiki.cpantesters.org/ for more information or email
questions to cpan-testers-discuss@perl.org


--
Dear Olaf Alders,

This is a computer-generated report for Git-Helpers-1.000001
on perl 5.35.10, created by CPAN-Reporter-1.2018.

Thank you for uploading your work to CPAN.  Congratulations!
All tests were successful.

Sections of this report:

    * Tester comments
    * Program output
    * Prerequisites
    * Environment and other context

------------------------------
TESTER COMMENTS
------------------------------

Additional comments from tester:

this report is from an automated smoke testing program
and was not reviewed by a human for accuracy

------------------------------
PROGRAM OUTPUT
------------------------------

Output from '/usr/bin/make test':

PERL_DL_NONLAZY=1 "/tmp/basesmoker-reloperl-ybzc/bin/perl" "-MExtUtils::Command::MM" "-MTest::Harness" "-e" "undef *Test::Harness::Switches; test_harness(0, 'blib/lib', 'blib/arch')" t/*.t
# 
# Versions for all modules listed in MYMETA.json (including optional ones):
# 
# === Configure Requires ===
# 
#     Module              Want Have
#     ------------------- ---- ----
#     ExtUtils::MakeMaker  any 7.64
# 
# === Build Requires ===
# 
#     Module              Want Have
#     ------------------- ---- ----
#     ExtUtils::MakeMaker  any 7.64
# 
# === Test Requires ===
# 
#     Module                  Want     Have
#     ---------------------- ----- --------
#     ExtUtils::MakeMaker      any     7.64
#     File::Spec               any     3.83
#     File::Temp               any   0.2311
#     File::Touch              any     0.12
#     Git::Version             any    1.000
#     Path::Tiny               any    0.122
#     Test::Deep               any    1.130
#     Test::Fatal              any    0.016
#     Test::Git              1.313    1.325
#     Test::More               any 1.302189
#     Test::Requires::Git    1.005    1.008
#     Test::RequiresInternet   any     0.05
# 
# === Test Recommends ===
# 
#     Module         Want     Have
#     ---------- -------- --------
#     CPAN::Meta 2.120900 2.150010
# 
# === Runtime Requires ===
# 
#     Module               Want     Have
#     ---------------- -------- --------
#     Browser::Open         any     0.04
#     Capture::Tiny         any     0.48
#     Carp                  any     1.52
#     File::pushd           any    1.016
#     Getopt::Long          any     2.52
#     Git::Sub              any 0.163320
#     MetaCPAN::Client 2.029000 2.029000
#     Moo                   any 2.005004
#     MooX::Options         any    4.103
#     Pod::Usage            any     2.01
#     String::Trim          any    0.005
#     Sub::Exporter         any    0.988
#     Term::Choose        1.743    1.745
#     Try::Tiny             any     0.31
#     Types::Standard       any 1.012004
#     URI                   any     5.10
#     URI::Heuristic        any     5.10
#     URI::git              any     0.02
#     strict                any     1.12
#     warnings              any     1.57
# 
t/00-report-prereqs.t .. ok
t/01-diag.t ............ ok
t/cpan-repo.t .......... ok
# git version 2.34.1
hint: Using 'master' as the name for the initial branch. This default branch name
hint: is subject to change. To configure the initial branch name to use in all
hint: of your new repositories, which will suppress this warning, call:
hint: 
hint: 	git config --global init.defaultBranch <name>
hint: 
hint: Names commonly chosen instead of 'master' are 'main', 'trunk' and
hint: 'development'. The just-created branch can be renamed via this command:
hint: 
hint: 	git branch -m <name> at /home/sand/src/perl/repoperls/installed-perls/host/k93msid/v5.35.9-18-g714a0a851b/ea6b/lib/site_perl/5.35.10/Test/Git.pm line 74.
# Switched to a new branch 'README'
t/helpers.t ............ ok
All tests successful.
Files=4, Tests=16,  4 wallclock secs ( 0.02 usr  0.01 sys +  0.53 cusr  0.33 csys =  0.89 CPU)
Result: PASS

------------------------------
PREREQUISITES
------------------------------

Prerequisite modules loaded:

requires:

    Module                 Need     Have    
    ---------------------- -------- --------
    Browser::Open          0        0.04    
    Capture::Tiny          0        0.48    
    Carp                   0        1.52    
    File::pushd            0        1.016   
    Getopt::Long           0        2.52    
    Git::Sub               0        0.163320
    MetaCPAN::Client       2.029000 2.029000
    Moo                    0        2.005004
    MooX::Options          0        4.103   
    perl                   5.012000 5.035010
    Pod::Usage             0        2.01    
    strict                 0        1.12    
    String::Trim           0        0.005   
    Sub::Exporter          0        0.988   
    Term::Choose           1.743    1.745   
    Try::Tiny              0        0.31    
    Types::Standard        0        1.012004
    URI                    0        5.10    
    URI::git               0        0.02    
    URI::Heuristic         0        5.10    
    warnings               0        1.57    

build_requires:

    Module                 Need     Have    
    ---------------------- -------- --------
    ExtUtils::MakeMaker    0        7.64    
    File::Spec             0        3.83    
    File::Temp             0        0.2311  
    File::Touch            0        0.12    
    Git::Version           0        1.000   
    Path::Tiny             0        0.122   
    Test::Deep             0        1.130   
    Test::Fatal            0        0.016   
    Test::Git              1.313    1.325   
    Test::More             0        1.302189
    Test::Requires::Git    1.005    1.008   
    Test::RequiresInternet 0        0.05    

configure_requires:

    Module                 Need     Have    
    ---------------------- -------- --------
    ExtUtils::MakeMaker    0        7.64    
    perl                   5.006    5.035010


------------------------------
ENVIRONMENT AND OTHER CONTEXT
------------------------------

Environment variables:

    AUTOMATED_TESTING = 1
    LANG = en_US.UTF-8
    PATH = /home/sand/bin:/usr/local/bin:/usr/bin:/bin:/usr/games:/usr/local/perl/bin:/usr/X11/bin:/sbin:/usr/sbin
    PERL5LIB = 
    PERL5OPT = 
    PERL5_CPANPLUS_IS_RUNNING = 369442
    PERL5_CPAN_IS_RUNNING = 369442
    PERL_CANARY_STABILITY_NOPROMPT = 1
    PERL_MM_USE_DEFAULT = 1
    PERL_USE_UNSAFE_INC = 1
    SHELL = /usr/bin/zsh
    TERM = screen

Perl special variables (and OS-specific diagnostics, for MSWin32):

    $^X = /tmp/basesmoker-reloperl-ybzc/bin/perl
    $UID/$EUID = 1005 / 1005
    $GID = 1005 1005
    $EGID = 1005 1005

Perl module toolchain versions installed:

    Module              Have    
    ------------------- --------
    CPAN                2.33    
    CPAN::Meta          2.150010
    Cwd                 3.83    
    ExtUtils::CBuilder  0.280236
    ExtUtils::Command   7.64    
    ExtUtils::Install   2.20    
    ExtUtils::MakeMaker 7.64    
    ExtUtils::Manifest  1.73    
    ExtUtils::ParseXS   3.44    
    File::Spec          3.83    
    JSON                4.05    
    JSON::PP            4.07    
    Module::Build       0.4231  
    Module::Signature   0.88    
    Parse::CPAN::Meta   2.150010
    Test::Harness       3.43    
    Test::More          1.302189
    YAML                1.30    
    YAML::Syck          1.34    
    version             0.9929  


--

Summary of my perl5 (revision 5 version 35 subversion 10) configuration:
  Commit id: 714a0a851bee9b5ed8d5e0f66865bf3bb1d2bbc5
  Platform:
    osname=linux
    osvers=5.15.0-2-amd64
    archname=x86_64-linux-ld
    uname='linux k93msid 5.15.0-2-amd64 #1 smp debian 5.15.5-2 (2021-12-18) x86_64 gnulinux '
    config_args='-Dprefix=/home/sand/src/perl/repoperls/installed-perls/host/k93msid/v5.35.9-18-g714a0a851b/ea6b -Dmyhostname=k93msid -Dinstallusrbinperl=n -Uversiononly -Dusedevel -des -Ui_db -Dlibswanted=cl pthread socket inet nsl gdbm dbm malloc dl ld sun m crypt sec util c cposix posix ucb BSD gdbm_compat -Uuseithreads -Duselongdouble -DEBUGGING=none'
    hint=recommended
    useposix=true
    d_sigaction=define
    useithreads=undef
    usemultiplicity=undef
    use64bitint=define
    use64bitall=define
    uselongdouble=define
    usemymalloc=n
    default_inc_excludes_dot=define
  Compiler:
    cc='cc'
    ccflags ='-fwrapv -fno-strict-aliasing -pipe -fstack-protector-strong -I/usr/local/include -D_LARGEFILE_SOURCE -D_FILE_OFFSET_BITS=64 -D_FORTIFY_SOURCE=2'
    optimize='-O2'
    cppflags='-fwrapv -fno-strict-aliasing -pipe -fstack-protector-strong -I/usr/local/include'
    ccversion=''
    gccversion='11.2.0'
    gccosandvers=''
    intsize=4
    longsize=8
    ptrsize=8
    doublesize=8
    byteorder=12345678
    doublekind=3
    d_longlong=define
    longlongsize=8
    d_longdbl=define
    longdblsize=16
    longdblkind=3
    ivtype='long'
    ivsize=8
    nvtype='long double'
    nvsize=16
    Off_t='off_t'
    lseeksize=8
    alignbytes=16
    prototype=define
  Linker and Libraries:
    ld='cc'
    ldflags =' -fstack-protector-strong -L/usr/local/lib'
    libpth=/usr/local/lib /usr/lib/x86_64-linux-gnu /usr/lib /lib/x86_64-linux-gnu /lib
    libs=-lpthread -lnsl -ldl -lm -lcrypt -lutil -lc
    perllibs=-lpthread -lnsl -ldl -lm -lcrypt -lutil -lc
    libc=libc-2.33.so
    so=so
    useshrplib=false
    libperl=libperl.a
    gnulibc_version='2.33'
  Dynamic Linking:
    dlsrc=dl_dlopen.xs
    dlext=so
    d_dlsymun=undef
    ccdlflags='-Wl,-E'
    cccdlflags='-fPIC'
    lddlflags='-shared -O2 -L/usr/local/lib -fstack-protector-strong'


Characteristics of this binary (from libperl): 
  Compile-time options:
    HAS_TIMES
    PERLIO_LAYERS
    PERL_COPY_ON_WRITE
    PERL_DONT_CREATE_GVSV
    PERL_MALLOC_WRAP
    PERL_OP_PARENT
    PERL_PRESERVE_IVUV
    PERL_USE_DEVEL
    USE_64_BIT_ALL
    USE_64_BIT_INT
    USE_LARGE_FILES
    USE_LOCALE
    USE_LOCALE_COLLATE
    USE_LOCALE_CTYPE
    USE_LOCALE_NUMERIC
    USE_LOCALE_TIME
    USE_LONG_DOUBLE
    USE_PERLIO
    USE_PERL_ATOF
  Built under linux
  Compiled at Feb 24 2022 18:16:53
  %ENV:
    PERL5LIB=""
    PERL5OPT=""
    PERL5_CPANPLUS_IS_RUNNING="369442"
    PERL5_CPAN_IS_RUNNING="369442"
    PERL_CANARY_STABILITY_NOPROMPT="1"
    PERL_MM_USE_DEFAULT="1"
    PERL_USE_UNSAFE_INC="1"
  @INC:
    /home/sand/src/perl/repoperls/installed-perls/host/k93msid/v5.35.9-18-g714a0a851b/ea6b/lib/site_perl/5.35.10/x86_64-linux-ld
    /home/sand/src/perl/repoperls/installed-perls/host/k93msid/v5.35.9-18-g714a0a851b/ea6b/lib/site_perl/5.35.10
    /home/sand/src/perl/repoperls/installed-perls/host/k93msid/v5.35.9-18-g714a0a851b/ea6b/lib/5.35.10/x86_64-linux-ld
    /home/sand/src/perl/repoperls/installed-perls/host/k93msid/v5.35.9-18-g714a0a851b/ea6b/lib/5.35.10
    .