autodie v2.29 Perl 5 v5.14.2 x86_64-dragonfly-multi

Status
Pass
From
Nigel Horne
Dist
autodie v2.29
Platform
Perl 5 v5.14.2 x86_64-dragonfly-multi
Date
2018-05-01 20:40:54
ID
f1d36636-4d7f-11e8-9da6-f703c768dc7a
This distribution has been tested as part of the CPAN Testers
project, supporting the Perl programming language.  See
http://wiki.cpantesters.org/ for more information or email
questions to cpan-testers-discuss@perl.org


--
Dear Paul Jamieson Fenwick,

This is a computer-generated report for autodie-2.29
on perl 5.14.2, created by CPAN-Reporter-1.2018.

Thank you for uploading your work to CPAN.  Congratulations!
All tests were successful.

Sections of this report:

    * Tester comments
    * Program output
    * Prerequisites
    * Environment and other context

------------------------------
TESTER COMMENTS
------------------------------

Additional comments from tester:

this report is from an automated smoke testing program
and was not reviewed by a human for accuracy

------------------------------
PROGRAM OUTPUT
------------------------------

Output from '/usr/bin/make test':

PERL_DL_NONLAZY=1 "/home/njh/perl5/perlbrew/perls/perl-5.14.2-multi/bin/perl5.14.2" "-MExtUtils::Command::MM" "-MTest::Harness" "-e" "undef *Test::Harness::Switches; test_harness(0, 'blib/lib', 'blib/arch')" t/*.t
t/00-load.t ...................... ok
t/args.t ......................... ok
t/author-critic.t ................ skipped: these tests are for testing by the author
t/autodie.t ...................... ok
t/backcompat.t ................... ok
t/basic_exceptions.t ............. ok
t/binmode.t ...................... ok
t/blog_hints.t ................... ok
t/caller.t ....................... ok
t/chmod.t ........................ ok
t/chown.t ........................ ok
t/context.t ...................... ok
t/context_lexical.t .............. ok
t/core-trampoline-slurp.t ........ ok
t/crickey.t ...................... ok
t/critic.t ....................... skipped: Author test.  Set $ENV{AUTHOR_TESTING} to true to run.
t/dbmopen.t ...................... ok
t/eval_error.t ................... ok
t/exception_class.t .............. ok
t/exceptions.t ................... ok
t/exec.t ......................... ok
t/Fatal.t ........................ ok
t/filehandles.t .................. ok
t/fileno.t ....................... ok
t/flock.t ........................ ok
t/fork.t ......................... ok
t/format-clobber.t ............... ok
# Sub::Identify is not loaded
t/hints.t ........................ ok
t/hints_insist.t ................. ok
t/hints_pod_examples.t ........... ok
t/hints_provider_does.t .......... ok
t/hints_provider_easy_does_it.t .. ok
t/hints_provider_isa.t ........... ok
t/import-into.t .................. skipped: Test needs Import::Into >= 1.002004
t/internal-backcompat.t .......... ok
t/internal.t ..................... ok
t/kill.t ......................... ok
t/kwalitee.t ..................... skipped: Author test.  Set $ENV{RELEASE_TESTING} to true to run.
t/lethal.t ....................... ok
t/lex58.t ........................ skipped: IPC::System::Simple required
t/mkdir.t ........................ ok
t/no_carp.t ...................... ok
t/open.t ......................... ok
t/pod-coverage.t ................. skipped: Author test.  Set $ENV{AUTHOR_TESTING} to true to run.
t/pod.t .......................... skipped: Author test.  Set $ENV{AUTHOR_TESTING} to true to run.
t/read.t ......................... ok
t/recv.t ......................... ok
t/release-pod-coverage.t ......... skipped: these tests are for release candidate testing
t/release-pod-syntax.t ........... skipped: these tests are for release candidate testing
t/repeat.t ....................... ok
t/rt-74246.t ..................... ok
t/scope_leak.t ................... ok
t/skip.t ......................... ok
t/socket.t ....................... skipped: Author test.  Set $ENV{AUTHOR_TESTING} to true to run.
t/string-eval-basic.t ............ ok
t/string-eval-leak.t ............. ok
t/sysopen.t ...................... ok
t/system.t ....................... skipped: IPC::System::Simple not installed
t/truncate.t ..................... ok
t/unlink.t ....................... ok
t/user-context.t ................. ok
t/usersub.t ...................... ok
t/utf8_open.t .................... ok
t/utime.t ........................ ok
t/version.t ...................... skipped: Release test.  Set $ENV{RELEASE_TESTING} to true to run.
t/version_tag.t .................. ok
All tests successful.
Files=66, Tests=498, 13 wallclock secs ( 0.39 usr  0.25 sys +  7.61 cusr  3.60 csys = 11.85 CPU)
Result: PASS

------------------------------
PREREQUISITES
------------------------------

Prerequisite modules loaded:

requires:

    Module              Need     Have    
    ------------------- -------- --------
    B                   0        1.29    
    Carp                0        1.38    
    constant            0        1.21    
    Exporter            5.57     5.64_03 
    Fcntl               0        1.11    
    overload            0        1.13    
    parent              0        0.225   
    perl                5.008004 5.014002
    POSIX               0        1.24    
    Scalar::Util        0        1.23    
    strict              0        1.04    
    Tie::RefHash        0        1.39    
    warnings            0        1.12    

build_requires:

    Module              Need     Have    
    ------------------- -------- --------
    ExtUtils::MakeMaker 0        7.30    
    File::Copy          0        2.21    
    File::Spec          0        3.33    
    File::Temp          0        0.22    
    FindBin             0        1.50    
    if                  0        0.0601  
    IO::Handle          0        1.31    
    lib                 0        0.63    
    Socket              0        1.94    
    Test::More          0        1.302120

configure_requires:

    Module              Need     Have    
    ------------------- -------- --------
    ExtUtils::MakeMaker 0        7.30    


------------------------------
ENVIRONMENT AND OTHER CONTEXT
------------------------------

Environment variables:

    AUTOMATED_TESTING = 1
    PATH = /home/njh/perl5/perlbrew/bin:/home/njh/perl5/perlbrew/perls/perl-5.14.2-multi/bin:src/njh/smoker/bin:/bin:/sbin:/usr/bin:/usr/sbin:/usr/local/bin:/usr/local/sbin:/usr/pkg/bin:/usr/pkg/sbin
    PERL5LIB = /home/njh/.cpan/build/Data-Dumper-2.161-2/blib/arch:/home/njh/.cpan/build/Data-Dumper-2.161-2/blib/lib:/home/njh/.cpan/build/AnyEvent-HTTP-Message-0.302-1/blib/arch:/home/njh/.cpan/build/AnyEvent-HTTP-Message-0.302-1/blib/lib:/home/njh/.cpan/build/AnyEvent-HTTP-2.23-1/blib/arch:/home/njh/.cpan/build/AnyEvent-HTTP-2.23-1/blib/lib:/home/njh/.cpan/build/common-sense-3.74-2/blib/arch:/home/njh/.cpan/build/common-sense-3.74-2/blib/lib:/home/njh/.cpan/build/AnyEvent-7.14-1/blib/arch:/home/njh/.cpan/build/AnyEvent-7.14-1/blib/lib:/home/njh/.cpan/build/Canary-Stability-2012-1/blib/arch:/home/njh/.cpan/build/Canary-Stability-2012-1/blib/lib
    PERL5OPT = 
    PERL5_CPANPLUS_IS_RUNNING = 929274
    PERL5_CPAN_IS_RUNNING = 929274
    PERLBREW_HOME = /home/njh/.perlbrew
    PERLBREW_MANPATH = /home/njh/perl5/perlbrew/perls/perl-5.14.2-multi/man
    PERLBREW_PATH = /home/njh/perl5/perlbrew/bin:/home/njh/perl5/perlbrew/perls/perl-5.14.2-multi/bin
    PERLBREW_PERL = perl-5.14.2-multi
    PERLBREW_ROOT = /home/njh/perl5/perlbrew
    PERLBREW_SHELLRC_VERSION = 0.82
    PERLBREW_VERSION = 0.82
    SHELL = /bin/sh
    TMPDIR = /tmp/testwrapper.929263

Perl special variables (and OS-specific diagnostics, for MSWin32):

    $^X = /home/njh/perl5/perlbrew/perls/perl-5.14.2-multi/bin/perl5.14.2
    $UID/$EUID = 1001 / 1001
    $GID = 1001 1001 0
    $EGID = 1001 1001 0

Perl module toolchain versions installed:

    Module              Have    
    ------------------- --------
    CPAN                2.16    
    CPAN::Meta          2.143240
    Cwd                 3.36    
    ExtUtils::CBuilder  0.280203
    ExtUtils::Command   7.30    
    ExtUtils::Install   2.06    
    ExtUtils::MakeMaker 7.30    
    ExtUtils::Manifest  1.70    
    ExtUtils::ParseXS   2.2210  
    File::Spec          3.33    
    JSON                n/a     
    JSON::PP            2.27203 
    Module::Build       0.3800  
    Module::Signature   n/a     
    Parse::CPAN::Meta   1.4414  
    Test::Harness       3.39    
    Test::More          1.302120
    YAML                1.24    
    YAML::Syck          1.30    
    version             0.88    


--

Summary of my perl5 (revision 5 version 14 subversion 2) configuration:
   
  Platform:
    osname=dragonfly, osvers=5.0-release, archname=x86_64-dragonfly-multi
    uname='dragonfly david.bandsman.co.uk 5.0-release dragonfly v5.0.2-release #4: sun dec 3 17:42:25 est 2017 root@www.shiningsilence.com:usrobjhomejustinrelease5_0sysx86_64_generic x86_64 '
    config_args='-de -Dprefix=/home/njh/perl5/perlbrew/perls/perl-5.14.2-multi -Dusedevel -Dusemultiplicity -Accflags= -Aeval:scriptdir=/home/njh/perl5/perlbrew/perls/perl-5.14.2-multi/bin'
    hint=recommended, useposix=true, d_sigaction=define
    useithreads=undef, usemultiplicity=define
    useperlio=define, d_sfio=undef, uselargefiles=define, usesocks=undef
    use64bitint=define, use64bitall=define, uselongdouble=undef
    usemymalloc=n, bincompat5005=undef
  Compiler:
    cc='cc', ccflags ='-DHAS_FPSETMASK -DHAS_FLOATINGPOINT_H -fno-strict-aliasing -pipe -fstack-protector -I/usr/local/include',
    optimize='-O',
    cppflags='-DHAS_FPSETMASK -DHAS_FLOATINGPOINT_H -fno-strict-aliasing -pipe -fstack-protector -I/usr/local/include'
    ccversion='', gccversion='5.4.1 [DragonFly] Release/2016-08-27', gccosandvers=''
    intsize=4, longsize=8, ptrsize=8, doublesize=8, byteorder=12345678
    d_longlong=define, longlongsize=8, d_longdbl=define, longdblsize=16
    ivtype='long', ivsize=8, nvtype='double', nvsize=8, Off_t='off_t', lseeksize=8
    alignbytes=8, prototype=define
  Linker and Libraries:
    ld='cc', ldflags ='-Wl,-E  -fstack-protector -L/usr/local/lib'
    libpth=/usr/lib /usr/local/lib
    libs=-ldl -lm -lcrypt -lutil -lc
    perllibs=-ldl -lm -lcrypt -lutil -lc
    libc=, so=so, useshrplib=false, libperl=libperl.a
    gnulibc_version=''
  Dynamic Linking:
    dlsrc=dl_dlopen.xs, dlext=so, d_dlsymun=undef, ccdlflags=' '
    cccdlflags='-DPIC -fPIC', lddlflags='-shared  -L/usr/local/lib -fstack-protector'


Characteristics of this binary (from libperl): 
  Compile-time options: MULTIPLICITY PERL_DONT_CREATE_GVSV
                        PERL_IMPLICIT_CONTEXT PERL_MALLOC_WRAP
                        PERL_PRESERVE_IVUV PERL_USE_DEVEL USE_64_BIT_ALL
                        USE_64_BIT_INT USE_LARGE_FILES USE_PERLIO
                        USE_PERL_ATOF
  Locally applied patches:
	Devel::PatchPerl 1.48
  Built under dragonfly
  Compiled at Jan 28 2018 08:10:57
  %ENV:
    PERL5LIB="/home/njh/.cpan/build/Data-Dumper-2.161-2/blib/arch:/home/njh/.cpan/build/Data-Dumper-2.161-2/blib/lib:/home/njh/.cpan/build/AnyEvent-HTTP-Message-0.302-1/blib/arch:/home/njh/.cpan/build/AnyEvent-HTTP-Message-0.302-1/blib/lib:/home/njh/.cpan/build/AnyEvent-HTTP-2.23-1/blib/arch:/home/njh/.cpan/build/AnyEvent-HTTP-2.23-1/blib/lib:/home/njh/.cpan/build/common-sense-3.74-2/blib/arch:/home/njh/.cpan/build/common-sense-3.74-2/blib/lib:/home/njh/.cpan/build/AnyEvent-7.14-1/blib/arch:/home/njh/.cpan/build/AnyEvent-7.14-1/blib/lib:/home/njh/.cpan/build/Canary-Stability-2012-1/blib/arch:/home/njh/.cpan/build/Canary-Stability-2012-1/blib/lib"
    PERL5OPT=""
    PERL5_CPANPLUS_IS_RUNNING="929274"
    PERL5_CPAN_IS_RUNNING="929274"
    PERLBREW_HOME="/home/njh/.perlbrew"
    PERLBREW_MANPATH="/home/njh/perl5/perlbrew/perls/perl-5.14.2-multi/man"
    PERLBREW_PATH="/home/njh/perl5/perlbrew/bin:/home/njh/perl5/perlbrew/perls/perl-5.14.2-multi/bin"
    PERLBREW_PERL="perl-5.14.2-multi"
    PERLBREW_ROOT="/home/njh/perl5/perlbrew"
    PERLBREW_SHELLRC_VERSION="0.82"
    PERLBREW_VERSION="0.82"
  @INC:
    /home/njh/.cpan/build/Data-Dumper-2.161-2/blib/arch
    /home/njh/.cpan/build/Data-Dumper-2.161-2/blib/lib
    /home/njh/.cpan/build/AnyEvent-HTTP-Message-0.302-1/blib/arch
    /home/njh/.cpan/build/AnyEvent-HTTP-Message-0.302-1/blib/lib
    /home/njh/.cpan/build/AnyEvent-HTTP-2.23-1/blib/arch
    /home/njh/.cpan/build/AnyEvent-HTTP-2.23-1/blib/lib
    /home/njh/.cpan/build/common-sense-3.74-2/blib/arch
    /home/njh/.cpan/build/common-sense-3.74-2/blib/lib
    /home/njh/.cpan/build/AnyEvent-7.14-1/blib/arch
    /home/njh/.cpan/build/AnyEvent-7.14-1/blib/lib
    /home/njh/.cpan/build/Canary-Stability-2012-1/blib/arch
    /home/njh/.cpan/build/Canary-Stability-2012-1/blib/lib
    /home/njh/perl5/perlbrew/perls/perl-5.14.2-multi/lib/site_perl/5.14.2/x86_64-dragonfly-multi
    /home/njh/perl5/perlbrew/perls/perl-5.14.2-multi/lib/site_perl/5.14.2
    /home/njh/perl5/perlbrew/perls/perl-5.14.2-multi/lib/5.14.2/x86_64-dragonfly-multi
    /home/njh/perl5/perlbrew/perls/perl-5.14.2-multi/lib/5.14.2
    .