Back
From: metabase:user:322078bc-2aae-11df-837a-5e0a49663a4f
Subject: PASS HTML-TableExtract-2.10 v5.14.0 FreeBSD
Date: 2011-05-19T13:43:14Z
This distribution has been tested as part of the CPAN Testers
project, supporting the Perl programming language. See
http://wiki.cpantesters.org/ for more information or email
questions to cpan-testers-discuss@perl.org
--
Dear Matt Sisk,
This is a computer-generated error report created automatically by
CPANPLUS, version 0.9105. Testers personal comments may appear
at the end of this report.
MAKE TEST passed: PERL_DL_NONLAZY=1 /usr/home/cpan/pit/bare/perl-5.14.0/bin/perl "-MExtUtils::Command::MM" "-e" "test_harness(0, 'blib/lib', 'blib/arch')" t/*.t
t/00_basic.t ......... ok
t/01_pod.t ........... skipped: Test::Pod 1.00 or greater required for testing POD
t/02_pod_coverage.t .. skipped: Test::Pod::Coverage 1.00 required for testing POD coverage
t/10_bulk.t .......... ok
t/11_count.t ......... ok
t/12_depth.t ......... ok
t/13_attrib.t ........ ok
t/14_headers.t ....... ok
t/15_depth_count.t ... ok
t/16_subtable.t ...... ok
Use of uninitialized value $got in string eq at (eval in cmp_ok) t/20_skew.t line 53.
Use of uninitialized value $expect in string eq at (eval in cmp_ok) t/20_skew.t line 53.
Use of uninitialized value $got in string eq at (eval in cmp_ok) t/20_skew.t line 53.
Use of uninitialized value $expect in string eq at (eval in cmp_ok) t/20_skew.t line 53.
t/20_skew.t .......... ok
t/21_skew_map.t ...... ok
t/22_header_row.t .... ok
Possible attempt to separate words with commas at t/30_tree.t line 57.
t/30_tree.t .......... ok
All tests successful.
Files=14, Tests=2613, 2 wallclock secs ( 0.33 usr 0.11 sys + 1.48 cusr 0.37 csys = 2.28 CPU)
Result: PASS
[MSG] [Thu May 19 14:43:02 2011] Sending test report for 'HTML-TableExtract-2.10'
This report was machine-generated by CPANPLUS::Dist::YACSmoke 0.62.
Powered by minismokebox version 0.44
------------------------------
ENVIRONMENT AND OTHER CONTEXT
------------------------------
Environment variables:
AUTOMATED_TESTING = 1
PATH = /sbin:/bin:/usr/sbin:/usr/bin:/usr/games:/usr/local/sbin:/usr/local/bin:/home/cpan/bin
PERL5LIB = :/usr/home/cpan/pit/bare/conf/perl-5.14.0/.cpanplus/5.14.0/build/TimeDate-1.20/blib/lib:/usr/home/cpan/pit/bare/conf/perl-5.14.0/.cpanplus/5.14.0/build/TimeDate-1.20/blib/arch:/usr/home/cpan/pit/bare/conf/perl-5.14.0/.cpanplus/5.14.0/build/HTML-Tagset-3.20/blib/lib:/usr/home/cpan/pit/bare/conf/perl-5.14.0/.cpanplus/5.14.0/build/HTML-Tagset-3.20/blib/arch:/usr/home/cpan/pit/bare/conf/perl-5.14.0/.cpanplus/5.14.0/build/HTML-Parser-3.68/blib/lib:/usr/home/cpan/pit/bare/conf/perl-5.14.0/.cpanplus/5.14.0/build/HTML-Parser-3.68/blib/arch:/usr/home/cpan/pit/bare/conf/perl-5.14.0/.cpanplus/5.14.0/build/HTML-TableExtract-2.10/blib/lib:/usr/home/cpan/pit/bare/conf/perl-5.14.0/.cpanplus/5.14.0/build/HTML-TableExtract-2.10/blib/arch
PERL5_CPANPLUS_IS_RUNNING = 32365
PERL5_CPANPLUS_IS_VERSION = 0.9105
PERL5_MINISMOKEBOX = 0.44
PERL5_YACSMOKE_BASE = /usr/home/cpan/pit/bare/conf/perl-5.14.0
PERL_EXTUTILS_AUTOINSTALL = --defaultdeps
PERL_MM_USE_DEFAULT = 1
SHELL = /usr/local/bin/bash
TERM = screen
Perl special variables (and OS-specific diagnostics, for MSWin32):
Perl: $^X = /usr/home/cpan/pit/bare/perl-5.14.0/bin/perl
UID: $< = 1002
EUID: $> = 1002
GID: $( = 1002 1002
EGID: $) = 1002 1002
-------------------------------
--
Summary of my perl5 (revision 5 version 14 subversion 0) configuration:
Platform:
osname=freebsd, osvers=9.0-current-201101, archname=amd64-freebsd
uname='freebsd flooble.bingosnet.co.uk 9.0-current-201101 freebsd 9.0-current-201101 #0: mon jan 3 22:15:39 utc 2011 root@farrell.cse.buffalo.edu:usrobjusrsrcsysgeneric amd64 '
config_args='-des -Dprefix=/usr/home/cpan/pit/bare/perl-5.14.0'
hint=recommended, useposix=true, d_sigaction=define
useithreads=undef, usemultiplicity=undef
useperlio=define, d_sfio=undef, uselargefiles=define, usesocks=undef
use64bitint=define, use64bitall=define, uselongdouble=undef
usemymalloc=n, bincompat5005=undef
Compiler:
cc='cc', ccflags ='-DHAS_FPSETMASK -DHAS_FLOATINGPOINT_H -fno-strict-aliasing -pipe -fstack-protector -I/usr/local/include',
optimize='-O',
cppflags='-DHAS_FPSETMASK -DHAS_FLOATINGPOINT_H -fno-strict-aliasing -pipe -fstack-protector -I/usr/local/include'
ccversion='', gccversion='4.2.1 20070719 [FreeBSD]', gccosandvers=''
intsize=4, longsize=8, ptrsize=8, doublesize=8, byteorder=12345678
d_longlong=define, longlongsize=8, d_longdbl=define, longdblsize=16
ivtype='long', ivsize=8, nvtype='double', nvsize=8, Off_t='off_t', lseeksize=8
alignbytes=8, prototype=define
Linker and Libraries:
ld='cc', ldflags ='-Wl,-E -fstack-protector -L/usr/local/lib'
libpth=/usr/lib /usr/local/lib
libs=-lgdbm -lm -lcrypt -lutil -lc
perllibs=-lm -lcrypt -lutil -lc
libc=, so=so, useshrplib=false, libperl=libperl.a
gnulibc_version=''
Dynamic Linking:
dlsrc=dl_dlopen.xs, dlext=so, d_dlsymun=undef, ccdlflags=' '
cccdlflags='-DPIC -fPIC', lddlflags='-shared -L/usr/local/lib -fstack-protector'
Characteristics of this binary (from libperl):
Compile-time options: PERL_DONT_CREATE_GVSV PERL_MALLOC_WRAP
PERL_PRESERVE_IVUV USE_64_BIT_ALL USE_64_BIT_INT
USE_LARGE_FILES USE_PERLIO USE_PERL_ATOF
Built under freebsd
Compiled at May 16 2011 16:32:01
%ENV:
PERL5LIB=":/usr/home/cpan/pit/bare/conf/perl-5.14.0/.cpanplus/5.14.0/build/TimeDate-1.20/blib/lib:/usr/home/cpan/pit/bare/conf/perl-5.14.0/.cpanplus/5.14.0/build/TimeDate-1.20/blib/arch:/usr/home/cpan/pit/bare/conf/perl-5.14.0/.cpanplus/5.14.0/build/HTML-Tagset-3.20/blib/lib:/usr/home/cpan/pit/bare/conf/perl-5.14.0/.cpanplus/5.14.0/build/HTML-Tagset-3.20/blib/arch:/usr/home/cpan/pit/bare/conf/perl-5.14.0/.cpanplus/5.14.0/build/HTML-Parser-3.68/blib/lib:/usr/home/cpan/pit/bare/conf/perl-5.14.0/.cpanplus/5.14.0/build/HTML-Parser-3.68/blib/arch:/usr/home/cpan/pit/bare/conf/perl-5.14.0/.cpanplus/5.14.0/build/HTML-TableExtract-2.10/blib/lib:/usr/home/cpan/pit/bare/conf/perl-5.14.0/.cpanplus/5.14.0/build/HTML-TableExtract-2.10/blib/arch"
PERL5_CPANPLUS_IS_RUNNING="32365"
PERL5_CPANPLUS_IS_VERSION="0.9105"
PERL5_MINISMOKEBOX="0.44"
PERL5_YACSMOKE_BASE="/usr/home/cpan/pit/bare/conf/perl-5.14.0"
PERL_EXTUTILS_AUTOINSTALL="--defaultdeps"
PERL_MM_USE_DEFAULT="1"
@INC:
/usr/home/cpan/pit/bare/conf/perl-5.14.0/.cpanplus/5.14.0/build/TimeDate-1.20/blib/lib
/usr/home/cpan/pit/bare/conf/perl-5.14.0/.cpanplus/5.14.0/build/TimeDate-1.20/blib/arch
/usr/home/cpan/pit/bare/conf/perl-5.14.0/.cpanplus/5.14.0/build/HTML-Tagset-3.20/blib/lib
/usr/home/cpan/pit/bare/conf/perl-5.14.0/.cpanplus/5.14.0/build/HTML-Tagset-3.20/blib/arch
/usr/home/cpan/pit/bare/conf/perl-5.14.0/.cpanplus/5.14.0/build/HTML-Parser-3.68/blib/lib
/usr/home/cpan/pit/bare/conf/perl-5.14.0/.cpanplus/5.14.0/build/HTML-Parser-3.68/blib/arch
/usr/home/cpan/pit/bare/conf/perl-5.14.0/.cpanplus/5.14.0/build/HTML-TableExtract-2.10/blib/lib
/usr/home/cpan/pit/bare/conf/perl-5.14.0/.cpanplus/5.14.0/build/HTML-TableExtract-2.10/blib/arch
/usr/home/cpan/pit/bare/perl-5.14.0/lib/site_perl/5.14.0/amd64-freebsd
/usr/home/cpan/pit/bare/perl-5.14.0/lib/site_perl/5.14.0
/usr/home/cpan/pit/bare/perl-5.14.0/lib/5.14.0/amd64-freebsd
/usr/home/cpan/pit/bare/perl-5.14.0/lib/5.14.0
.