Report for Nagios-Plugin-0.36

Back
From: metabase:user:9c36dc84-a30f-11e0-a9fc-0a18abbd4f2f
Subject: PASS Nagios-Plugin-0.36 v5.20.1 GNU/Linux
Date: 2014-11-11T02:46:32Z

This distribution has been tested as part of the CPAN Testers
project, supporting the Perl programming language.  See
http://wiki.cpantesters.org/ for more information or email
questions to cpan-testers-discuss@perl.org


--
Dear Ton Voon,

This is a computer-generated report for Nagios-Plugin-0.36
on perl 5.20.1, created by CPAN-Reporter-1.2011.

Thank you for uploading your work to CPAN.  Congratulations!
All tests were successful.

Sections of this report:

    * Tester comments
    * Program output
    * Prerequisites
    * Environment and other context

------------------------------
TESTER COMMENTS
------------------------------

Additional comments from tester:

none provided

------------------------------
PROGRAM OUTPUT
------------------------------

Output from '/usr/bin/make test':

PERL_DL_NONLAZY=1 "/ood_repository/environment_review/perls/perl-5.20.1/bin/perl" "-MExtUtils::Command::MM" "-MTest::Harness" "-e" "undef *Test::Harness::Switches; test_harness(0, 'blib/lib', 'blib/arch')" t/*.t
t/check_stuff.t ................... ok
t/Nagios-Plugin-01.t .............. ok
t/Nagios-Plugin-02.t .............. ok
t/Nagios-Plugin-03.t .............. ok
t/Nagios-Plugin-04.t .............. ok
defined(%hash) is deprecated at t/Nagios-Plugin-Functions-01.t line 22.
	(Maybe you should just omit the defined()?)
t/Nagios-Plugin-Functions-01.t .... ok
t/Nagios-Plugin-Functions-02.t .... ok
t/Nagios-Plugin-Functions-03.t .... ok
t/Nagios-Plugin-Getopt-01.t ....... ok
t/Nagios-Plugin-Getopt-02.t ....... ok
t/Nagios-Plugin-Getopt-03.t ....... ok
t/Nagios-Plugin-Getopt-04.t ....... ok
t/Nagios-Plugin-Performance-02.t .. ok
t/Nagios-Plugin-Performance.t ..... ok
t/Nagios-Plugin-Range.t ........... ok
t/Nagios-Plugin-Threshold.t ....... ok
All tests successful.
Files=16, Tests=975,  4 wallclock secs ( 0.10 usr  0.04 sys +  3.06 cusr  0.22 csys =  3.42 CPU)
Result: PASS

------------------------------
PREREQUISITES
------------------------------

Prerequisite modules loaded:

requires:

    Module              Need Have    
    ------------------- ---- --------
    Carp                0    1.3301  
    Class::Accessor     0    0.34    
    Config::Tiny        0    2.20    
    File::Basename      0    2.85    
    File::Spec          0    3.48    
    IO::File            0    1.16    
    Math::Calc::Units   0    1.07    
    Params::Validate    0    1.13    
    Test::More          0.62 1.001009

build_requires:

    Module              Need Have    
    ------------------- ---- --------
    ExtUtils::MakeMaker 0    7.02    

configure_requires:

    Module              Need Have    
    ------------------- ---- --------
    ExtUtils::MakeMaker 0    7.02    


------------------------------
ENVIRONMENT AND OTHER CONTEXT
------------------------------

Environment variables:

    LANG = en_US.UTF-8
    LD_LIBRARY_PATH = /ood_repository/environment_review/perls/openssl/lib:/ood_repository/environment_review/perls/openssl/lib:
    PATH = /ood_repository/environment_review/perls/openssl/bin:/ood_repository/environment_review/perls/openssl/bin:/ood_repository/environment_review/bin:/ood_repository/environment_review/perls/perl-5.20.1/bin:/usr/kerberos/bin:/usr/local/bin:/usr/bin:/bin:/usr/X11R6/bin:/home/alcjunio/bin
    PERL5LIB = 
    PERL5OPT = 
    PERL5_CPANPLUS_IS_RUNNING = 24907
    PERL5_CPAN_IS_RUNNING = 24907
    PERLBREW_BASHRC_VERSION = 0.71
    PERLBREW_HOME = /home/alcjunio/.perlbrew
    PERLBREW_MANPATH = /ood_repository/environment_review/perls/perl-5.20.1/man
    PERLBREW_PATH = /ood_repository/environment_review/bin:/ood_repository/environment_review/perls/perl-5.20.1/bin
    PERLBREW_PERL = perl-5.20.1
    PERLBREW_ROOT = /ood_repository/environment_review
    PERLBREW_VERSION = 0.71
    SHELL = /bin/bash
    TERM = xterm

Perl special variables (and OS-specific diagnostics, for MSWin32):

    $^X = /ood_repository/environment_review/perls/perl-5.20.1/bin/perl
    $UID/$EUID = 500 / 500
    $GID = 500 0 157 500
    $EGID = 500 0 157 500

Perl module toolchain versions installed:

    Module              Have    
    ------------------- --------
    CPAN                2.05    
    CPAN::Meta          2.142690
    Cwd                 3.48    
    ExtUtils::CBuilder  0.280220
    ExtUtils::Command   1.18    
    ExtUtils::Install   2.04    
    ExtUtils::MakeMaker 7.02    
    ExtUtils::Manifest  1.68    
    ExtUtils::ParseXS   3.24    
    File::Spec          3.48    
    JSON                2.90    
    JSON::PP            2.27300 
    Module::Build       0.4210  
    Module::Signature   0.73    
    Parse::CPAN::Meta   1.4414  
    Test::Harness       3.30    
    Test::More          1.001009
    YAML                n/a     
    YAML::Syck          1.27    
    version             0.9909  


--

Summary of my perl5 (revision 5 version 20 subversion 1) configuration:
   
  Platform:
    osname=linux, osvers=2.6.32-200.13.1.el5uek, archname=i686-linux
    uname='linux localhost.localdomain 2.6.32-200.13.1.el5uek #1 smp wed jul 27 20:21:26 edt 2011 i686 i686 i386 gnulinux '
    config_args='-de -Dprefix=/ood_repository/environment_review/perls/perl-5.20.1 -Aeval:scriptdir=/ood_repository/environment_review/perls/perl-5.20.1/bin'
    hint=recommended, useposix=true, d_sigaction=define
    useithreads=undef, usemultiplicity=undef
    use64bitint=undef, use64bitall=undef, uselongdouble=undef
    usemymalloc=n, bincompat5005=undef
  Compiler:
    cc='cc', ccflags ='-fno-strict-aliasing -pipe -fstack-protector -I/usr/local/include -D_LARGEFILE_SOURCE -D_FILE_OFFSET_BITS=64',
    optimize='-O2',
    cppflags='-fno-strict-aliasing -pipe -fstack-protector -I/usr/local/include'
    ccversion='', gccversion='4.1.2 20080704 (Red Hat 4.1.2-51)', gccosandvers=''
    intsize=4, longsize=4, ptrsize=4, doublesize=8, byteorder=1234
    d_longlong=define, longlongsize=8, d_longdbl=define, longdblsize=12
    ivtype='long', ivsize=4, nvtype='double', nvsize=8, Off_t='off_t', lseeksize=8
    alignbytes=4, prototype=define
  Linker and Libraries:
    ld='cc', ldflags =' -fstack-protector -L/usr/local/lib'
    libpth=/usr/local/lib /usr/lib /lib
    libs=-lnsl -lgdbm -ldb -ldl -lm -lcrypt -lutil -lc
    perllibs=-lnsl -ldl -lm -lcrypt -lutil -lc
    libc=libc-2.5.so, so=so, useshrplib=false, libperl=libperl.a
    gnulibc_version='2.5'
  Dynamic Linking:
    dlsrc=dl_dlopen.xs, dlext=so, d_dlsymun=undef, ccdlflags='-Wl,-E'
    cccdlflags='-fPIC', lddlflags='-shared -O2 -L/usr/local/lib -fstack-protector'


Characteristics of this binary (from libperl): 
  Compile-time options: HAS_TIMES PERLIO_LAYERS PERL_DONT_CREATE_GVSV
                        PERL_HASH_FUNC_ONE_AT_A_TIME_HARD PERL_MALLOC_WRAP
                        PERL_NEW_COPY_ON_WRITE PERL_PRESERVE_IVUV
                        USE_LARGE_FILES USE_LOCALE USE_LOCALE_COLLATE
                        USE_LOCALE_CTYPE USE_LOCALE_NUMERIC USE_PERLIO
                        USE_PERL_ATOF
  Built under linux
  Compiled at Nov 10 2014 22:37:38
  %ENV:
    PERL5LIB=""
    PERL5OPT=""
    PERL5_CPANPLUS_IS_RUNNING="24907"
    PERL5_CPAN_IS_RUNNING="24907"
    PERLBREW_BASHRC_VERSION="0.71"
    PERLBREW_HOME="/home/alcjunio/.perlbrew"
    PERLBREW_MANPATH="/ood_repository/environment_review/perls/perl-5.20.1/man"
    PERLBREW_PATH="/ood_repository/environment_review/bin:/ood_repository/environment_review/perls/perl-5.20.1/bin"
    PERLBREW_PERL="perl-5.20.1"
    PERLBREW_ROOT="/ood_repository/environment_review"
    PERLBREW_VERSION="0.71"
  @INC:
    /ood_repository/environment_review/perls/perl-5.20.1/lib/site_perl/5.20.1/i686-linux
    /ood_repository/environment_review/perls/perl-5.20.1/lib/site_perl/5.20.1
    /ood_repository/environment_review/perls/perl-5.20.1/lib/5.20.1/i686-linux
    /ood_repository/environment_review/perls/perl-5.20.1/lib/5.20.1
    .