Back
From: metabase:user:1026b51c-16cd-11e5-9347-8c8d34f811bd
Subject: PASS XML-Parser-2.44 v5.22.0 GNU/Linux
Date: 2015-06-20T00:11:49Z
This distribution has been tested as part of the CPAN Testers
project, supporting the Perl programming language. See
http://wiki.cpantesters.org/ for more information or email
questions to cpan-testers-discuss@perl.org
--
Dear Todd Rinaldo,
This is a computer-generated report for XML-Parser-2.44
on perl 5.22.0, created by CPAN-Reporter-1.2014.
Thank you for uploading your work to CPAN. Congratulations!
All tests were successful.
Sections of this report:
* Tester comments
* Program output
* Prerequisites
* Environment and other context
------------------------------
TESTER COMMENTS
------------------------------
Additional comments from tester:
this report is from an automated smoke testing program
and was not reviewed by a human for accuracy
------------------------------
PROGRAM OUTPUT
------------------------------
Output from '/bin/make test':
make[1]: Entering directory '/home/smoker/.local/share/.cpan/build/XML-Parser-2.44-_hChnu/Expat'
Running Mkbootstrap for XML::Parser::Expat ()
chmod 644 "Expat.bs"
Manifying 1 pod document
make[1]: Leaving directory '/home/smoker/.local/share/.cpan/build/XML-Parser-2.44-_hChnu/Expat'
PERL_DL_NONLAZY=1 "/home/smoker/perl5/perlbrew/perls/perl-5.22.0/bin/perl" "-MExtUtils::Command::MM" "-MTest::Harness" "-e" "undef *Test::Harness::Switches; test_harness(0, 'blib/lib', 'blib/arch')" t/*.t
t/astress.t ........... ok
t/cdata.t ............. ok
t/decl.t .............. ok
t/defaulted.t ......... ok
t/encoding.t .......... ok
t/external_ent.t ...... ok
t/file.t .............. ok
t/file_open_scalar.t .. ok
t/finish.t ............ ok
t/namespaces.t ........ ok
t/parament.t .......... ok
t/partial.t ........... ok
t/skip.t .............. ok
t/stream.t ............ ok
t/styles.t ............ ok
All tests successful.
Files=15, Tests=141, 0 wallclock secs ( 0.08 usr 0.03 sys + 0.49 cusr 0.09 csys = 0.69 CPU)
Result: PASS
------------------------------
PREREQUISITES
------------------------------
Prerequisite modules loaded:
requires:
Module Need Have
------------------- ------- --------
LWP::UserAgent 0 6.13
perl 5.00405 5.022000
build_requires:
Module Need Have
------------------- ------- --------
Test::More 0 1.001014
configure_requires:
Module Need Have
------------------- ------- --------
ExtUtils::MakeMaker 0 7.04_01
------------------------------
ENVIRONMENT AND OTHER CONTEXT
------------------------------
Environment variables:
AUTOMATED_TESTING = 1
LANG = en_US.UTF-8
PATH = /home/smoker/perl5/perlbrew/bin:/home/smoker/perl5/perlbrew/perls/perl-5.22.0/bin:/usr/lib64/qt-3.3/bin:/usr/local/bin:/bin:/usr/bin:/usr/local/sbin:/usr/sbin:/home/smoker/.local/bin:/home/smoker/bin
PERL5LIB = /home/smoker/.local/share/.cpan/build/XML-NamespaceSupport-1.11-Fp061b/blib/arch:/home/smoker/.local/share/.cpan/build/XML-NamespaceSupport-1.11-Fp061b/blib/lib
PERL5OPT =
PERL5_CPANPLUS_IS_RUNNING = 5761
PERL5_CPAN_IS_RUNNING = 5761
PERL5_CPAN_IS_RUNNING_IN_RECURSION = 4032,5761
PERLBREW_BASHRC_VERSION = 0.73
PERLBREW_HOME = /home/smoker/.perlbrew
PERLBREW_MANPATH = /home/smoker/perl5/perlbrew/perls/perl-5.22.0/man
PERLBREW_PATH = /home/smoker/perl5/perlbrew/bin:/home/smoker/perl5/perlbrew/perls/perl-5.22.0/bin
PERLBREW_PERL = perl-5.22.0
PERLBREW_ROOT = /home/smoker/perl5/perlbrew
PERLBREW_VERSION = 0.73
PERL_CR_SMOKER_CURRENT = Amazon-SNS-1.3
PERL_EXTUTILS_AUTOINSTALL = --defaultdeps
PERL_MM_USE_DEFAULT = 1
SHELL = /usr/bin/bash
TERM = screen
Perl special variables (and OS-specific diagnostics, for MSWin32):
$^X = /home/smoker/perl5/perlbrew/perls/perl-5.22.0/bin/perl
$UID/$EUID = 1001 / 1001
$GID = 1001 1001
$EGID = 1001 1001
Perl module toolchain versions installed:
Module Have
------------------- --------
CPAN 2.11
CPAN::Meta 2.150001
Cwd 3.56
ExtUtils::CBuilder 0.280221
ExtUtils::Command 1.20
ExtUtils::Install 2.04
ExtUtils::MakeMaker 7.04_01
ExtUtils::Manifest 1.70
ExtUtils::ParseXS 3.28
File::Spec 3.56
JSON 2.90
JSON::PP 2.27300
Module::Build 0.4214
Module::Signature n/a
Parse::CPAN::Meta 1.4414
Test::Harness 3.35
Test::More 1.001014
YAML n/a
YAML::Syck n/a
version 0.9909
--
Summary of my perl5 (revision 5 version 22 subversion 0) configuration:
Platform:
osname=linux, osvers=4.0.4-303.fc22.x86_64, archname=x86_64-linux
uname='linux home.grinnz.com 4.0.4-303.fc22.x86_64 #1 smp thu may 28 12:37:06 utc 2015 x86_64 x86_64 x86_64 gnulinux '
config_args='-de -Dprefix=/home/smoker/perl5/perlbrew/perls/perl-5.22.0 -Aeval:scriptdir=/home/smoker/perl5/perlbrew/perls/perl-5.22.0/bin'
hint=recommended, useposix=true, d_sigaction=define
useithreads=undef, usemultiplicity=undef
use64bitint=define, use64bitall=define, uselongdouble=undef
usemymalloc=n, bincompat5005=undef
Compiler:
cc='cc', ccflags ='-fwrapv -fno-strict-aliasing -pipe -fstack-protector-strong -I/usr/local/include -D_LARGEFILE_SOURCE -D_FILE_OFFSET_BITS=64',
optimize='-O2',
cppflags='-fwrapv -fno-strict-aliasing -pipe -fstack-protector-strong -I/usr/local/include'
ccversion='', gccversion='5.1.1 20150422 (Red Hat 5.1.1-1)', gccosandvers=''
intsize=4, longsize=8, ptrsize=8, doublesize=8, byteorder=12345678, doublekind=3
d_longlong=define, longlongsize=8, d_longdbl=define, longdblsize=16, longdblkind=3
ivtype='long', ivsize=8, nvtype='double', nvsize=8, Off_t='off_t', lseeksize=8
alignbytes=8, prototype=define
Linker and Libraries:
ld='cc', ldflags =' -fstack-protector-strong -L/usr/local/lib'
libpth=/usr/local/lib /usr/lib /lib/../lib64 /usr/lib/../lib64 /lib /lib64 /usr/lib64 /usr/local/lib64
libs=-lpthread -lnsl -lgdbm -ldb -ldl -lm -lcrypt -lutil -lc -lgdbm_compat
perllibs=-lpthread -lnsl -ldl -lm -lcrypt -lutil -lc
libc=libc-2.21.so, so=so, useshrplib=false, libperl=libperl.a
gnulibc_version='2.21'
Dynamic Linking:
dlsrc=dl_dlopen.xs, dlext=so, d_dlsymun=undef, ccdlflags='-Wl,-E'
cccdlflags='-fPIC', lddlflags='-shared -O2 -L/usr/local/lib -fstack-protector-strong'
Characteristics of this binary (from libperl):
Compile-time options: HAS_TIMES PERLIO_LAYERS PERL_DONT_CREATE_GVSV
PERL_HASH_FUNC_ONE_AT_A_TIME_HARD PERL_MALLOC_WRAP
PERL_NEW_COPY_ON_WRITE PERL_PRESERVE_IVUV
USE_64_BIT_ALL USE_64_BIT_INT USE_LARGE_FILES
USE_LOCALE USE_LOCALE_COLLATE USE_LOCALE_CTYPE
USE_LOCALE_NUMERIC USE_LOCALE_TIME USE_PERLIO
USE_PERL_ATOF
Locally applied patches:
Devel::PatchPerl 1.34
Built under linux
Compiled at Jun 19 2015 17:08:37
%ENV:
PERL5LIB="/home/smoker/.local/share/.cpan/build/XML-NamespaceSupport-1.11-Fp061b/blib/arch:/home/smoker/.local/share/.cpan/build/XML-NamespaceSupport-1.11-Fp061b/blib/lib"
PERL5OPT=""
PERL5_CPANPLUS_IS_RUNNING="5761"
PERL5_CPAN_IS_RUNNING="5761"
PERL5_CPAN_IS_RUNNING_IN_RECURSION="4032,5761"
PERLBREW_BASHRC_VERSION="0.73"
PERLBREW_HOME="/home/smoker/.perlbrew"
PERLBREW_MANPATH="/home/smoker/perl5/perlbrew/perls/perl-5.22.0/man"
PERLBREW_PATH="/home/smoker/perl5/perlbrew/bin:/home/smoker/perl5/perlbrew/perls/perl-5.22.0/bin"
PERLBREW_PERL="perl-5.22.0"
PERLBREW_ROOT="/home/smoker/perl5/perlbrew"
PERLBREW_VERSION="0.73"
PERL_CR_SMOKER_CURRENT="Amazon-SNS-1.3"
PERL_EXTUTILS_AUTOINSTALL="--defaultdeps"
PERL_MM_USE_DEFAULT="1"
@INC:
/home/smoker/.local/share/.cpan/build/XML-NamespaceSupport-1.11-Fp061b/blib/arch
/home/smoker/.local/share/.cpan/build/XML-NamespaceSupport-1.11-Fp061b/blib/lib
/home/smoker/perl5/perlbrew/perls/perl-5.22.0/lib/site_perl/5.22.0/x86_64-linux
/home/smoker/perl5/perlbrew/perls/perl-5.22.0/lib/site_perl/5.22.0
/home/smoker/perl5/perlbrew/perls/perl-5.22.0/lib/5.22.0/x86_64-linux
/home/smoker/perl5/perlbrew/perls/perl-5.22.0/lib/5.22.0
.