Report for Project-Euler-0.20

Back
From: metabase:user:30dda8bc-2aae-11df-837a-5e0a49663a4f
Subject: PASS Project-Euler-0.20 v5.15.1 GNU/Linux
Date: 2011-08-21T06:08:10Z

This distribution has been tested as part of the CPAN Testers
project, supporting the Perl programming language.  See
http://wiki.cpantesters.org/ for more information or email
questions to cpan-testers-discuss@perl.org


--
Dear Adam Lesperance,

This is a computer-generated report for Project-Euler-0.20
on perl 5.15.1, created by CPAN-Reporter-1.2002.

Thank you for uploading your work to CPAN.  Congratulations!
All tests were successful.

Sections of this report:

    * Tester comments
    * Program output
    * Prerequisites
    * Environment and other context

------------------------------
TESTER COMMENTS
------------------------------

Additional comments from tester:

this report is from an automated smoke testing program
and was not reviewed by a human for accuracy

------------------------------
PROGRAM OUTPUT
------------------------------

Output from './Build test':

# Testing Project::Euler, Perl 5.015001, /home/install/Ubuntu-11.04-x86_64/perlbrew/perls/perl-5.15.1/bin/perl5.15.1
t/00-Base/00-load.t ........................... ok
t/00-Base/01-base.t ........................... ok
t/00-compile.t ................................ ok
t/10-Lib/000-Types.t .......................... ok
t/10-Lib/100-Utils_List.t ..................... ok
t/10-Lib/101-Utils_Fibs.t ..................... ok
t/20-Problems/000-Correct_Defaults.t .......... ok
t/20-Problems/001-Sum_Filtered_Lists.t ........ ok
t/20-Problems/002-Sum_Filtered_Fib_Numbers.t .. ok
t/author-99-template.t ........................ skipped: these tests are for testing by the author
t/author-critic.t ............................. skipped: these tests are for testing by the author
t/release-check-changes.t ..................... skipped: these tests are for release candidate testing
t/release-distmeta.t .......................... skipped: these tests are for release candidate testing
t/release-has-version.t ....................... skipped: these tests are for release candidate testing
t/release-kwalitee.t .......................... skipped: these tests are for release candidate testing
t/release-minimum-version.t ................... skipped: these tests are for release candidate testing
t/release-pod-coverage.t ...................... skipped: these tests are for release candidate testing
t/release-pod-syntax.t ........................ skipped: these tests are for release candidate testing
t/release-portability.t ....................... skipped: these tests are for release candidate testing
t/release-synopsis.t .......................... skipped: these tests are for release candidate testing
t/release-unused-vars.t ....................... skipped: these tests are for release candidate testing
All tests successful.
Files=21, Tests=338,  5 wallclock secs ( 0.11 usr  0.06 sys +  4.89 cusr  0.48 csys =  5.54 CPU)
Result: PASS

------------------------------
PREREQUISITES
------------------------------

Prerequisite modules loaded:

requires:

    Module                      Need   Have    
    --------------------------- ------ --------
    Carp                        0      1.21    
    DateTime                    0      0.70    
    DateTime::Format::DateParse 0      0.05    
    Exporter::Easy              0      0.16    
    List::MoreUtils             0      0.33    
    List::Util                  0      1.23_03 
    Math::Big::Factors          0      1.02    
    Math::BigInt                0      1.993   
    Modern::Perl                0      1.03    
    Moose                       0      1.17    
    Moose::Role                 0      1.17    
    MooseX::Types               0      0.28    
    MooseX::Types::Moose        0      0.28    
    namespace::autoclean        0      0.1204  
    perl                        5.010  5.015001
    Readonly                    0      1.03    
    String::Palindrome          0      2.000001

build_requires:

    Module                      Need   Have    
    --------------------------- ------ --------
    autodie                     0      2.10    
    constant                    0      1.21    
    English                     0      1.04    
    File::Find                  0      1.20    
    File::Spec                  0      3.33    
    File::Temp                  0      0.22    
    Module::Build               0.3601 0.3800  
    Test::Exception             0      0.31    
    Test::More                  0      0.98    
    Test::Most                  0      0.25    

configure_requires:

    Module                      Need   Have    
    --------------------------- ------ --------
    Module::Build               0.3601 0.3800  


------------------------------
ENVIRONMENT AND OTHER CONTEXT
------------------------------

Environment variables:

    AUTOMATED_TESTING = 1
    LANG = en_US.utf8
    LANGUAGE = en_US:en
    PATH = /home/install/Ubuntu-11.04-x86_64/perlbrew/bin:/home/install/Ubuntu-11.04-x86_64/perlbrew/perls/perl-5.15.1/bin:/home/perl-smoker/Ubuntu-11.04-x86_64/perl-5.15.1/bin:/bin:/sbin:/usr/bin:/usr/sbin:/usr/local/bin
    PATH_WITHOUT_PERLBREW = /home/perl-smoker/Ubuntu-11.04-x86_64/perl-5.15.1/bin:/bin:/sbin:/usr/bin:/usr/sbin:/usr/local/bin
    PERL5LIB = /home/perl-smoker/Ubuntu-11.04-x86_64/perl-5.15.1/lib/perl5/x86_64-linux-gnu-thread-multi:/home/perl-smoker/Ubuntu-11.04-x86_64/perl-5.15.1/lib/perl5
    PERL5OPT = 
    PERL5_CPANPLUS_IS_RUNNING = 16115
    PERL5_CPAN_IS_RUNNING = 16115
    PERL5_CPAN_IS_RUNNING_IN_RECURSION = 28174,16115
    PERLBREW_HOME = /home/natty/.perlbrew
    PERLBREW_PATH = /home/install/Ubuntu-11.04-x86_64/perlbrew/bin:/home/install/Ubuntu-11.04-x86_64/perlbrew/perls/perl-5.15.1/bin
    PERLBREW_PERL = perl-5.15.1
    PERLBREW_ROOT = /home/install/Ubuntu-11.04-x86_64/perlbrew
    PERLBREW_VERSION = 0.28
    PERL_CR_SMOKER_CURRENT = Project-Euler-0.20
    PERL_EXTUTILS_AUTOINSTALL = --defaultdeps
    PERL_MB_OPT = --install_base /home/perl-smoker/Ubuntu-11.04-x86_64/perl-5.15.1
    PERL_MM_OPT = INSTALL_BASE=/home/perl-smoker/Ubuntu-11.04-x86_64/perl-5.15.1
    PERL_MM_USE_DEFAULT = 1
    SHELL = /bin/bash
    TERM = xterm

Perl special variables (and OS-specific diagnostics, for MSWin32):

    $^X = /home/install/Ubuntu-11.04-x86_64/perlbrew/perls/perl-5.15.1/bin/perl5.15.1
    $UID/$EUID = 1000 / 1000
    $GID = 1000 4 20 24 46 112 120 122 1000 1001
    $EGID = 1000 4 20 24 46 112 120 122 1000 1001

Perl module toolchain versions installed:

    Module              Have    
    ------------------- --------
    CPAN                1.9800  
    CPAN::Meta          2.112150
    Cwd                 3.33    
    ExtUtils::CBuilder  0.280202
    ExtUtils::Command   1.17    
    ExtUtils::Install   1.56    
    ExtUtils::MakeMaker 6.58    
    ExtUtils::Manifest  1.60    
    ExtUtils::ParseXS   3.03    
    File::Spec          3.33    
    JSON                2.27    
    JSON::PP            2.27008 
    Module::Build       0.3800  
    Module::Signature   0.68    
    Parse::CPAN::Meta   1.4401  
    Test::Harness       3.23    
    Test::More          0.98    
    YAML                0.73    
    YAML::Syck          n/a     
    version             0.93    


--

Summary of my perl5 (revision 5 version 15 subversion 1) configuration:
   
  Platform:
    osname=linux, osvers=2.6.38-11-generic, archname=x86_64-linux-thread-multi
    uname='linux mbp-natty 2.6.38-11-generic #48-ubuntu smp fri jul 29 19:02:55 utc 2011 x86_64 x86_64 x86_64 gnulinux '
    config_args='-de -Dprefix=/home/install/Ubuntu-11.04-x86_64/perlbrew/perls/perl-5.15.1 -Dusethreads -Dusedevel'
    hint=recommended, useposix=true, d_sigaction=define
    useithreads=define, usemultiplicity=define
    useperlio=define, d_sfio=undef, uselargefiles=define, usesocks=undef
    use64bitint=define, use64bitall=define, uselongdouble=undef
    usemymalloc=n, bincompat5005=undef
  Compiler:
    cc='cc', ccflags ='-D_REENTRANT -D_GNU_SOURCE -fno-strict-aliasing -pipe -fstack-protector -I/usr/local/include -D_LARGEFILE_SOURCE -D_FILE_OFFSET_BITS=64',
    optimize='-O2',
    cppflags='-D_REENTRANT -D_GNU_SOURCE -fno-strict-aliasing -pipe -fstack-protector -I/usr/local/include'
    ccversion='', gccversion='4.5.2', gccosandvers=''
    intsize=4, longsize=8, ptrsize=8, doublesize=8, byteorder=12345678
    d_longlong=define, longlongsize=8, d_longdbl=define, longdblsize=16
    ivtype='long', ivsize=8, nvtype='double', nvsize=8, Off_t='off_t', lseeksize=8
    alignbytes=8, prototype=define
  Linker and Libraries:
    ld='cc', ldflags =' -fstack-protector -L/usr/local/lib'
    libpth=/usr/local/lib /lib /usr/lib /usr/lib/x86_64-linux-gnu /lib64 /usr/lib64
    libs=-lnsl -ldb -ldl -lm -lcrypt -lutil -lpthread -lc
    perllibs=-lnsl -ldl -lm -lcrypt -lutil -lpthread -lc
    libc=, so=so, useshrplib=false, libperl=libperl.a
    gnulibc_version='2.13'
  Dynamic Linking:
    dlsrc=dl_dlopen.xs, dlext=so, d_dlsymun=undef, ccdlflags='-Wl,-E'
    cccdlflags='-fPIC', lddlflags='-shared -O2 -L/usr/local/lib -fstack-protector'


Characteristics of this binary (from libperl): 
  Compile-time options: HAS_TIMES MULTIPLICITY PERLIO_LAYERS
                        PERL_DONT_CREATE_GVSV PERL_IMPLICIT_CONTEXT
                        PERL_MALLOC_WRAP PERL_PRESERVE_IVUV PERL_USE_DEVEL
                        USE_64_BIT_ALL USE_64_BIT_INT USE_ITHREADS
                        USE_LARGE_FILES USE_LOCALE USE_LOCALE_COLLATE
                        USE_LOCALE_CTYPE USE_LOCALE_NUMERIC USE_PERLIO
                        USE_PERL_ATOF USE_REENTRANT_API
  Built under linux
  Compiled at Aug 11 2011 09:14:27
  %ENV:
    PERL5LIB="/home/perl-smoker/Ubuntu-11.04-x86_64/perl-5.15.1/lib/perl5/x86_64-linux-gnu-thread-multi:/home/perl-smoker/Ubuntu-11.04-x86_64/perl-5.15.1/lib/perl5"
    PERL5OPT=""
    PERL5_CPANPLUS_IS_RUNNING="16115"
    PERL5_CPAN_IS_RUNNING="16115"
    PERL5_CPAN_IS_RUNNING_IN_RECURSION="28174,16115"
    PERLBREW_HOME="/home/natty/.perlbrew"
    PERLBREW_PATH="/home/install/Ubuntu-11.04-x86_64/perlbrew/bin:/home/install/Ubuntu-11.04-x86_64/perlbrew/perls/perl-5.15.1/bin"
    PERLBREW_PERL="perl-5.15.1"
    PERLBREW_ROOT="/home/install/Ubuntu-11.04-x86_64/perlbrew"
    PERLBREW_VERSION="0.28"
    PERL_CR_SMOKER_CURRENT="Project-Euler-0.20"
    PERL_EXTUTILS_AUTOINSTALL="--defaultdeps"
    PERL_MB_OPT="--install_base /home/perl-smoker/Ubuntu-11.04-x86_64/perl-5.15.1"
    PERL_MM_OPT="INSTALL_BASE=/home/perl-smoker/Ubuntu-11.04-x86_64/perl-5.15.1"
    PERL_MM_USE_DEFAULT="1"
  @INC:
    /home/perl-smoker/Ubuntu-11.04-x86_64/perl-5.15.1/lib/perl5/x86_64-linux-gnu-thread-multi
    /home/perl-smoker/Ubuntu-11.04-x86_64/perl-5.15.1/lib/perl5/x86_64-linux-thread-multi
    /home/perl-smoker/Ubuntu-11.04-x86_64/perl-5.15.1/lib/perl5
    /home/install/Ubuntu-11.04-x86_64/perlbrew/perls/perl-5.15.1/lib/site_perl/5.15.1/x86_64-linux-thread-multi
    /home/install/Ubuntu-11.04-x86_64/perlbrew/perls/perl-5.15.1/lib/site_perl/5.15.1
    /home/install/Ubuntu-11.04-x86_64/perlbrew/perls/perl-5.15.1/lib/5.15.1/x86_64-linux-thread-multi
    /home/install/Ubuntu-11.04-x86_64/perlbrew/perls/perl-5.15.1/lib/5.15.1
    .