Perl-Critic v1.156 Perl 5 v5.41.10 amd64-midnightbsd-thread-multi
- Status
- Pass
- From
- Carlos Guevara
- Dist
-
Perl-Critic v1.156
- Platform
- Perl 5 v5.41.10 amd64-midnightbsd-thread-multi
- Date
- 2025-03-20 04:58:21
- ID
- f2477dd2-0547-11f0-b585-b8e5bfb7e6b4
This distribution has been tested as part of the CPAN Testers
project, supporting the Perl programming language. See
http://wiki.cpantesters.org/ for more information or email
questions to cpan-testers-discuss@perl.org
--
Dear Andy Lester,
This is a computer-generated report for Perl-Critic-1.156
on perl 5.41.10, created by CPAN-Reporter-1.2020.
Thank you for uploading your work to CPAN. Congratulations!
All tests were successful.
Sections of this report:
* Tester comments
* Program output
* Prerequisites
* Environment and other context
------------------------------
TESTER COMMENTS
------------------------------
Additional comments from tester:
this report is from an automated smoke testing program
and was not reviewed by a human for accuracy
------------------------------
PROGRAM OUTPUT
------------------------------
Output from './Build test':
# Testing Perl::Critic 1.156 with PPI 1.281 under Perl 5.041010, /usr/home/cpan/bin/perl/bin/perl5.41.10
t/00_modules.t ................................ ok
t/00_versions.t ............................... ok
t/01_config.t ................................. ok
t/01_config_bad_perlcriticrc.t ................ ok
t/01_policy_config.t .......................... ok
t/02_policy.t ................................. ok
t/03_annotations.t ............................ ok
t/03_pragmas.t ................................ ok
t/04_options_processor.t ...................... ok
t/05_utils.t .................................. ok
t/05_utils_perl.t ............................. ok
t/05_utils_pod.t .............................. ok
t/05_utils_ppi.t .............................. ok
t/06_violation.t .............................. ok
t/07_command.t ................................ ok
t/07_perlcritic.t ............................. ok
t/08_document.t ............................... ok
t/09_theme.t .................................. ok
t/10_user_profile.t ........................... ok
t/11_policy_factory.t ......................... ok
t/12_policy_listing.t ......................... ok
t/12_theme_listing.t .......................... ok
t/13_bundled_policies.t ....................... ok
t/14_policy_parameter_behavior_boolean.t ...... ok
t/14_policy_parameter_behavior_enumeration.t .. ok
t/14_policy_parameter_behavior_integer.t ...... ok
t/14_policy_parameter_behavior_list_string.t .. ok
t/14_policy_parameter_behavior_string.t ....... ok
t/14_policy_parameters.t ...................... ok
t/15_statistics.t ............................. ok
t/16_roundtrip_defaults.t ..................... ok
t/20_policies.t ............................... skipped: Test::Perl::Critic required to test Perl::Critic itself
t/20_policy_pod_spelling.t .................... ok
t/20_policy_prohibit_evil_modules.t ........... ok
t/20_policy_prohibit_hard_tabs.t .............. ok
t/20_policy_prohibit_trailing_whitespace.t .... ok
t/20_policy_require_consistent_newlines.t ..... ok
t/20_policy_require_tidy_code.t ............... ok
Unhandled type: REGEXP at /home/cpan/bin/perl/lib/site_perl/5.41.10/Devel/Cycle.pm line 107.
t/92_memory_leaks.t ........................... ok
t/gh-734.t .................................... ok
All tests successful.
Files=40, Tests=5417, 29 wallclock secs ( 0.30 usr 0.06 sys + 26.62 cusr 2.19 csys = 29.17 CPU)
Result: PASS
------------------------------
PREREQUISITES
------------------------------
Prerequisite modules loaded:
requires:
Module Need Have
------------------------- -------- --------
B::Keywords 1.23 1.27
Carp 0 1.54
charnames 0 1.50
Config::Tiny 2 2.30
English 0 1.11
Exception::Class 1.23 1.45
Exporter 5.63 5.79
File::Basename 0 2.86
File::Find 0 1.44
File::Path 0 2.18
File::Spec 0 3.93
File::Spec::Unix 0 3.93
File::Temp 0 0.2311
File::Which 0 1.27
Getopt::Long 0 2.58
List::SomeUtils 0.55 0.59
List::Util 0 1.68_01
Module::Pluggable 3.1 6.3
overload 0 1.40
parent 0 0.244
perl 5.010001 5.041010
Perl::Tidy 0 20250311
Pod::PlainText 0 2.07
Pod::Select 0 1.67
Pod::Spell 1 1.27
Pod::Usage 0 2.03
PPI 1.277 1.281
PPI::Document 1.277 1.281
PPI::Document::File 1.277 1.281
PPI::Node 1.277 1.281
PPI::Token::Quote::Single 1.277 1.281
PPI::Token::Whitespace 1.277 1.281
PPIx::QuoteLike 0 0.023
PPIx::Regexp 0.027 0.088
PPIx::Regexp::Util 0.068 0.088
PPIx::Utils::Traversal 0.003 0.003
Readonly 2 2.05
Scalar::Util 0 1.68_01
strict 0 1.13
String::Format 1.18 1.18
Term::ANSIColor 2.02 5.01
Test::Builder 0.92 1.302209
Text::ParseWords 3 3.31
version 0.77 0.9933
warnings 0 1.74
build_requires:
Module Need Have
------------------------- -------- --------
lib 0 0.65
Test::More 0 1.302209
configure_requires:
Module Need Have
------------------------- -------- --------
B::Keywords 1.23 1.27
base 0 2.27
Carp 0 1.54
English 0 1.11
Exporter 5.63 5.79
lib 0 0.65
List::SomeUtils 0.55 0.59
Module::Build 0.4204 0.4234
------------------------------
ENVIRONMENT AND OTHER CONTEXT
------------------------------
Environment variables:
AUTOMATED_TESTING = 1
DATE_MANIP_TEST_DM5 = 1
LC_ALL = C
NONINTERACTIVE_TESTING = 1
NO_NETWORK_TESTING = 1
PATH = /home/cpan/bin/perl/bin:/home/cpan/bin:/sbin:/bin:/usr/sbin:/usr/bin:/usr/games:/usr/local/sbin:/usr/local/bin:/home/cpan/bin
PERL5LIB =
PERL5OPT =
PERL5_CPANPLUS_IS_RUNNING = 73061
PERL5_CPAN_IS_RUNNING = 73061
PERL_MM_USE_DEFAULT = 1
PERL_USE_UNSAFE_INC = 1
SHELL = /usr/local/bin/bash
TERM = screen
TMPDIR = /home/cpan/tmp
Perl special variables (and OS-specific diagnostics, for MSWin32):
$^X = /usr/home/cpan/bin/perl/bin/perl5.41.10
$UID/$EUID = 1002 / 1002
$GID = 1002 1002
$EGID = 1002 1002
Perl module toolchain versions installed:
Module Have
------------------- --------
CPAN 2.38
CPAN::Meta 2.150010
Cwd 3.92
ExtUtils::CBuilder 0.280240
ExtUtils::Command 7.72
ExtUtils::Install 2.22
ExtUtils::MakeMaker 7.72
ExtUtils::Manifest 1.75
ExtUtils::ParseXS 3.57
File::Spec 3.93
JSON n/a
JSON::PP 4.16
Module::Build 0.4234
Module::Signature n/a
Parse::CPAN::Meta 2.150010
Test2 1.302209
Test::Harness 3.50
Test::More 1.302209
YAML n/a
YAML::Syck n/a
version 0.9933
--
Summary of my perl5 (revision 5 version 41 subversion 10) configuration:
Commit id: abaee7c6ca652e5e74f8bc3ebffc49a92341bd65
Platform:
osname=midnightbsd
osvers=3.2.1
archname=amd64-midnightbsd-thread-multi
uname='midnightbsd cjg-midnightbsd3 3.2.1 midnightbsd 3.2.1 #15n13132-0869ed7092(stable3.2)-dirty: wed nov 6 12:53:25 est 2024 root@m3264:usrobjusrsrcamd64.amd64sysgeneric amd64 '
config_args='-des -Dprefix=/home/cpan/bin/perl -Dscriptdir=/home/cpan/bin/perl/bin -Dusedevel -Duse64bitall -Duseithreads'
hint=recommended
useposix=true
d_sigaction=define
useithreads=define
usemultiplicity=define
use64bitint=define
use64bitall=define
uselongdouble=undef
usemymalloc=n
default_inc_excludes_dot=define
Compiler:
cc='cc'
ccflags ='-DHAS_FPSETMASK -DHAS_FLOATINGPOINT_H -fno-strict-aliasing -pipe -fstack-protector-strong -I/usr/local/include'
optimize='-O'
cppflags='-DHAS_FPSETMASK -DHAS_FLOATINGPOINT_H -fno-strict-aliasing -pipe -fstack-protector-strong -I/usr/local/include'
ccversion=''
gccversion='MidnightBSD Clang 13.0.0 (git@github.com:llvm/llvm-project.git llvmorg-13.0.0-0-gd7b669b3a303)'
gccosandvers=''
intsize=4
longsize=8
ptrsize=8
doublesize=8
byteorder=12345678
doublekind=3
d_longlong=define
longlongsize=8
d_longdbl=define
longdblsize=16
longdblkind=3
ivtype='long'
ivsize=8
nvtype='double'
nvsize=8
Off_t='off_t'
lseeksize=8
alignbytes=8
prototype=define
Linker and Libraries:
ld='cc'
ldflags ='-pthread -Wl,-E -fstack-protector-strong -L/usr/local/lib'
libpth=/usr/lib /usr/local/lib /usr/lib/clang/13.0.0/lib
libs=-lpthread -lgdbm -ldl -lm -lcrypt
perllibs=-lpthread -ldl -lm -lcrypt
libc=
so=so
useshrplib=false
libperl=libperl.a
gnulibc_version=''
Dynamic Linking:
dlsrc=dl_dlopen.xs
dlext=so
d_dlsymun=undef
ccdlflags=' '
cccdlflags='-DPIC -fPIC'
lddlflags='-shared -L/usr/local/lib -fstack-protector-strong'
Characteristics of this binary (from libperl):
Compile-time options:
HAS_LONG_DOUBLE
HAS_STRTOLD
HAS_TIMES
MULTIPLICITY
PERLIO_LAYERS
PERL_COPY_ON_WRITE
PERL_DONT_CREATE_GVSV
PERL_HASH_FUNC_SIPHASH13
PERL_HASH_USE_SBOX32
PERL_MALLOC_WRAP
PERL_OP_PARENT
PERL_PRESERVE_IVUV
PERL_USE_DEVEL
PERL_USE_SAFE_PUTENV
USE_64_BIT_ALL
USE_64_BIT_INT
USE_ITHREADS
USE_LARGE_FILES
USE_LOCALE
USE_LOCALE_COLLATE
USE_LOCALE_CTYPE
USE_LOCALE_NUMERIC
USE_LOCALE_TIME
USE_PERLIO
USE_PERL_ATOF
USE_REENTRANT_API
USE_THREAD_SAFE_LOCALE
Built under midnightbsd
Compiled at Mar 19 2025 23:54:58
%ENV:
PERL5LIB=""
PERL5OPT=""
PERL5_CPANPLUS_IS_RUNNING="73061"
PERL5_CPAN_IS_RUNNING="73061"
PERL_MM_USE_DEFAULT="1"
PERL_USE_UNSAFE_INC="1"
@INC:
/home/cpan/bin/perl/lib/site_perl/5.41.10/amd64-midnightbsd-thread-multi
/home/cpan/bin/perl/lib/site_perl/5.41.10
/home/cpan/bin/perl/lib/5.41.10/amd64-midnightbsd-thread-multi
/home/cpan/bin/perl/lib/5.41.10
.