Report for Catalyst-DispatchType-Regex-5.90033

Back
From: metabase:user:243d49fc-866b-11e2-aa44-71bf72408ccb
Subject: PASS Catalyst-DispatchType-Regex-5.90033 v5.16.3 GNU/Linux
Date: 2013-06-22T21:30:23Z

This distribution has been tested as part of the CPAN Testers
project, supporting the Perl programming language.  See
http://wiki.cpantesters.org/ for more information or email
questions to cpan-testers-discuss@perl.org


--
Dear Mark Grimes,

This is a computer-generated report for Catalyst-DispatchType-Regex-5.90033
on perl 5.16.3, created by CPAN-Reporter-1.2010.

Thank you for uploading your work to CPAN.  Congratulations!
All tests were successful.

Sections of this report:

    * Tester comments
    * Program output
    * Prerequisites
    * Environment and other context

------------------------------
TESTER COMMENTS
------------------------------

Additional comments from tester:

none provided

------------------------------
PROGRAM OUTPUT
------------------------------

Output from './Build test':

# Testing Catalyst::DispatchType::Regex 5.90033
t/01use.t .............................................. ok
DEPRECATION WARNING: The Regex dispatch type is deprecated.
  The standalone Catalyst::DispatchType::Regex distribution
  has been temporarily included as a prerequisite of
  Catalyst::Runtime, but will be dropped in the future. Convert
  to Chained methods or include Catalyst::DispatchType::Regex
  as a prerequisite for your application.
t/aggregate/live_component_controller_action_regexp.t .. ok
DEPRECATION WARNING: The Regex dispatch type is deprecated.
  The standalone Catalyst::DispatchType::Regex distribution
  has been temporarily included as a prerequisite of
  Catalyst::Runtime, but will be dropped in the future. Convert
  to Chained methods or include Catalyst::DispatchType::Regex
  as a prerequisite for your application.
t/aggregate/live_priorities.t .......................... ok
DEPRECATION WARNING: The Regex dispatch type is deprecated.
  The standalone Catalyst::DispatchType::Regex distribution
  has been temporarily included as a prerequisite of
  Catalyst::Runtime, but will be dropped in the future. Convert
  to Chained methods or include Catalyst::DispatchType::Regex
  as a prerequisite for your application.
t/aggregate/unit_core_uri_for_action.t ................. ok
All tests successful.
Files=4, Tests=60,  4 wallclock secs ( 0.04 usr  0.01 sys +  3.17 cusr  0.15 csys =  3.37 CPU)
Result: PASS

------------------------------
PREREQUISITES
------------------------------

Prerequisite modules loaded:

requires:

    Module               Need   Have  
    -------------------- ------ ------
    Moose                0      2.0802
    Text::Balanced       0      2.02  
    Text::SimpleTable    0      2.03  

build_requires:

    Module               Need   Have  
    -------------------- ------ ------
    Data::Dumper         0      2.145 
    MRO::Compat          0      0.12  
    namespace::autoclean 0      0.13  
    Scalar::Util         0      1.27  
    Test::More           0      0.98  

configure_requires:

    Module               Need   Have  
    -------------------- ------ ------
    Module::Build        0.4004 0.4005


------------------------------
ENVIRONMENT AND OTHER CONTEXT
------------------------------

Environment variables:

    LANG = en_GB.UTF-8
    PATH = /usr/local/apache/bin:/usr/local/bin:/usr/local/sbin:/usr/local/bin:/sbin:/bin:/usr/sbin:/usr/bin:/root/bin
    PERL5LIB = 
    PERL5OPT = 
    PERL5_CPANPLUS_IS_RUNNING = 12564
    PERL5_CPAN_IS_RUNNING = 12564
    PERL5_CPAN_IS_RUNNING_IN_RECURSION = 32208,12564
    SHELL = /bin/bash
    TERM = xterm

Perl special variables (and OS-specific diagnostics, for MSWin32):

    $^X = /usr/local/bin/perl
    $UID/$EUID = 0 / 0
    $GID = 0 0 1 2 3 4 6 10
    $EGID = 0 0 1 2 3 4 6 10

Perl module toolchain versions installed:

    Module              Have    
    ------------------- --------
    CPAN                2.00    
    CPAN::Meta          2.131560
    Cwd                 3.40    
    ExtUtils::CBuilder  0.280206
    ExtUtils::Command   1.17    
    ExtUtils::Install   1.58    
    ExtUtils::MakeMaker 6.68    
    ExtUtils::Manifest  1.61    
    ExtUtils::ParseXS   3.18    
    File::Spec          3.40    
    JSON                2.59    
    JSON::PP            2.27200 
    Module::Build       0.4005  
    Module::Signature   0.73    
    Parse::CPAN::Meta   1.4404  
    Test::Harness       3.28    
    Test::More          0.98    
    YAML                0.84    
    YAML::Syck          1.25    
    version             0.9902  


--

Summary of my perl5 (revision 5 version 16 subversion 3) configuration:
   
  Platform:
    osname=linux, osvers=2.6.32-220.2.1.el6.x86_64, archname=x86_64-linux
    uname='linux cogendo1.dh.bytemark.co.uk 2.6.32-220.2.1.el6.x86_64 #1 smp fri dec 23 02:21:33 cst 2011 x86_64 x86_64 x86_64 gnulinux '
    config_args='-Dprefix=/usr/local'
    hint=recommended, useposix=true, d_sigaction=define
    useithreads=undef, usemultiplicity=undef
    useperlio=define, d_sfio=undef, uselargefiles=define, usesocks=undef
    use64bitint=define, use64bitall=define, uselongdouble=undef
    usemymalloc=n, bincompat5005=undef
  Compiler:
    cc='gcc', ccflags ='-m64 -mtune=nocona -fPIC -fno-strict-aliasing -pipe -fstack-protector -I/usr/local/include -D_LARGEFILE_SOURCE -D_FILE_OFFSET_BITS=64',
    optimize='-O2',
    cppflags='-m64 -mtune=nocona -fPIC -fno-strict-aliasing -pipe -fstack-protector -I/usr/local/include'
    ccversion='', gccversion='4.4.6 20120305 (Red Hat 4.4.6-4)', gccosandvers=''
    intsize=4, longsize=8, ptrsize=8, doublesize=8, byteorder=12345678
    d_longlong=define, longlongsize=8, d_longdbl=define, longdblsize=16
    ivtype='long', ivsize=8, nvtype='double', nvsize=8, Off_t='off_t', lseeksize=8
    alignbytes=8, prototype=define
  Linker and Libraries:
    ld='gcc', ldflags ='-m64 -mtune=nocona -fPIC -fno-strict-aliasing -pipe -fstack-protector -L/usr/local/lib'
    libpth=/usr/local/lib /lib/../lib64 /usr/lib/../lib64 /lib /usr/lib /lib64 /usr/lib64 /usr/local/lib64
    libs=-lnsl -ldl -lm -lcrypt -lutil -lc
    perllibs=-lnsl -ldl -lm -lcrypt -lutil -lc
    libc=/lib/libc-2.12.so, so=so, useshrplib=false, libperl=libperl.a
    gnulibc_version='2.12'
  Dynamic Linking:
    dlsrc=dl_dlopen.xs, dlext=so, d_dlsymun=undef, ccdlflags='-Wl,-E'
    cccdlflags='-m64 -mtune=nocona -fPIC -fno-strict-aliasing -pipe -fstack-protector -I/usr/local/include', lddlflags='-shared -O2 -L/usr/local/lib -fstack-protector  -m64 -mtune=nocona -fPIC -fno-strict-aliasing -pipe'


Characteristics of this binary (from libperl): 
  Compile-time options: HAS_TIMES PERLIO_LAYERS PERL_DONT_CREATE_GVSV
                        PERL_MALLOC_WRAP PERL_PRESERVE_IVUV USE_64_BIT_ALL
                        USE_64_BIT_INT USE_LARGE_FILES USE_LOCALE
                        USE_LOCALE_COLLATE USE_LOCALE_CTYPE
                        USE_LOCALE_NUMERIC USE_PERLIO USE_PERL_ATOF
  Built under linux
  Compiled at Mar 15 2013 20:52:34
  %ENV:
    PERL5LIB=""
    PERL5OPT=""
    PERL5_CPANPLUS_IS_RUNNING="12564"
    PERL5_CPAN_IS_RUNNING="12564"
    PERL5_CPAN_IS_RUNNING_IN_RECURSION="32208,12564"
  @INC:
    /usr/local/lib/perl5/site_perl/5.16.3/x86_64-linux
    /usr/local/lib/perl5/site_perl/5.16.3
    /usr/local/lib/perl5/5.16.3/x86_64-linux
    /usr/local/lib/perl5/5.16.3
    .