Pod-Weaver-PluginBundle-Apocalyptic v0.004 Perl 5 v5.29.8 x86_64-linux-thread-multi

Status
Pass
From
Andreas J. König (ANDK)
Dist
Pod-Weaver-PluginBundle-Apocalyptic v0.004
Platform
Perl 5 v5.29.8 x86_64-linux-thread-multi
Date
2019-01-23 14:41:19
ID
f26654a4-1f1c-11e9-96d4-b11fd29d5eae
This distribution has been tested as part of the CPAN Testers
project, supporting the Perl programming language.  See
http://wiki.cpantesters.org/ for more information or email
questions to cpan-testers-discuss@perl.org


--
Dear Apocalypse,

This is a computer-generated report for Pod-Weaver-PluginBundle-Apocalyptic-0.004
on perl 5.29.8, created by CPAN-Reporter-1.2018.

Thank you for uploading your work to CPAN.  Congratulations!
All tests were successful.

Sections of this report:

    * Tester comments
    * Program output
    * Prerequisites
    * Environment and other context

------------------------------
TESTER COMMENTS
------------------------------

Additional comments from tester:

this report is from an automated smoke testing program
and was not reviewed by a human for accuracy

------------------------------
PROGRAM OUTPUT
------------------------------

Output from './Build test':

t/00-compile.t ................ ok
# 
# 
# Generated by Dist::Zilla::Plugin::ReportVersions::Tiny v1.10
# perl: 5.029008 (wanted 5.006) on linux from /tmp/basesmoker-reloperl-2kc5/bin/perl
# 
# File::Spec                                    => 3.77       (want any version)
# File::Temp                                    => 0.2309     (want any version)
# IO::Handle                                    => 1.39       (want any version)
# IPC::Open3                                    => 1.20       (want any version)
# Module::Build                                 => 0.4224     (want 0.28)   
# Pod::Elemental::Transformer::List             => 0.102000   (want 0.101620)
# Pod::Weaver::Config::Assembler                => 4.015      (want 4.001)  
# Pod::Weaver::Plugin::EnsureUniqueSections     => 0.163250   (want 0.103531)
# Pod::Weaver::Plugin::StopWords                => 1.010      (want 1.001005)
# Pod::Weaver::Section::Contributors            => 0.009      (want 0.008)  
# Pod::Weaver::Section::SeeAlso                 => 1.003      (want 1.002)  
# Pod::Weaver::Section::Support                 => 1.010      (want 1.003)  
# Pod::Weaver::Section::WarrantyDisclaimer      => 0.121290   (want 0.111290)
# Test::More                                    => 1.302160   (want 0.88)   
# strict                                        => 1.11       (want any version)
# warnings                                      => 1.43       (want any version)
# 
# Thanks for using my code.  I hope it works for you.
# If not, please try and include this output in the bug report.
# That will help me reproduce the issue and solve your problem.
# 
t/000-report-versions-tiny.t .. ok
t/apocalypse.t ................ skipped: Test::Apocalypse required for validating the distribution
All tests successful.
Files=3, Tests=2,  2 wallclock secs ( 0.03 usr  0.03 sys +  1.44 cusr  0.29 csys =  1.79 CPU)
Result: PASS

------------------------------
PREREQUISITES
------------------------------

Prerequisite modules loaded:

requires:

    Module                                    Need     Have    
    ----------------------------------------- -------- --------
    perl                                      5.006    5.029008
    Pod::Elemental::Transformer::List         0.101620 0.102000
    Pod::Weaver::Config::Assembler            4.001    4.015   
    Pod::Weaver::Plugin::EnsureUniqueSections 0.103531 0.163250
    Pod::Weaver::Plugin::StopWords            1.001005 1.010   
    Pod::Weaver::Section::Contributors        0.008    0.009   
    Pod::Weaver::Section::SeeAlso             1.002    1.003   
    Pod::Weaver::Section::Support             1.003    1.010   
    Pod::Weaver::Section::WarrantyDisclaimer  0.111290 0.121290
    strict                                    0        1.11    
    warnings                                  0        1.43    

build_requires:

    Module                                    Need     Have    
    ----------------------------------------- -------- --------
    File::Spec                                0        3.77    
    File::Temp                                0        0.2309  
    IO::Handle                                0        1.39    
    IPC::Open3                                0        1.20    
    Module::Build                             0.28     0.4224  
    perl                                      5.006    5.029008
    Test::More                                0.88     1.302160

configure_requires:

    Module                                    Need     Have    
    ----------------------------------------- -------- --------
    Module::Build                             0.28     0.4224  


------------------------------
ENVIRONMENT AND OTHER CONTEXT
------------------------------

Environment variables:

    AUTOMATED_TESTING = 1
    LANG = en_US.UTF-8
    PATH = /home/sand/bin:/usr/local/bin:/usr/local/sbin:/usr/sbin:/usr/bin:/sbin:/bin:/usr/games:/usr/local/games:/usr/local/perl/bin:/usr/X11/bin
    PERL5LIB = /tmp/loop_over_bdir-13238-W6NZa1/C-Scan-Constants-1.020-0/blib/arch:/tmp/loop_over_bdir-13238-W6NZa1/C-Scan-Constants-1.020-0/blib/lib:/tmp/loop_over_bdir-13238-W6NZa1/XML-SimpleObject0.53-0/blib/arch:/tmp/loop_over_bdir-13238-W6NZa1/XML-SimpleObject0.53-0/blib/lib:/tmp/loop_over_bdir-13238-W6NZa1/DBIx-DBSchema-0.40-0/blib/arch:/tmp/loop_over_bdir-13238-W6NZa1/DBIx-DBSchema-0.40-0/blib/lib:/tmp/loop_over_bdir-13238-W6NZa1/DBIx-DBHResolver-0.17-0/blib/arch:/tmp/loop_over_bdir-13238-W6NZa1/DBIx-DBHResolver-0.17-0/blib/lib:/tmp/loop_over_bdir-13238-W6NZa1/Test-WWW-Mechanize-1.52-0/blib/arch:/tmp/loop_over_bdir-13238-W6NZa1/Test-WWW-Mechanize-1.52-0/blib/lib:/tmp/loop_over_bdir-13238-W6NZa1/IO-Async-SSL-0.22-0/blib/arch:/tmp/loop_over_bdir-13238-W6NZa1/IO-Async-SSL-0.22-0/blib/lib:/tmp/loop_over_bdir-13238-W6NZa1/Test-Run-0.0302-0/blib/arch:/tmp/loop_over_bdir-13238-W6NZa1/Test-Run-0.0302-0/blib/lib:/tmp/loop_over_bdir-13238-W6NZa1/URI-Title-1.900-0/blib/arch:/tmp/loop_over_bdir-13238-W6NZa1/URI-Title-1.900-0/blib/lib:/tmp/loop_over_bdir-13238-W6NZa1/TeX-Hyphen-Pattern-0.04-0/blib/arch:/tmp/loop_over_bdir-13238-W6NZa1/TeX-Hyphen-Pattern-0.04-0/blib/lib
    PERL5OPT = 
    PERL5_CPANPLUS_IS_RUNNING = 30171
    PERL5_CPAN_IS_RUNNING = 30171
    PERL_CANARY_STABILITY_NOPROMPT = 1
    PERL_MM_USE_DEFAULT = 1
    PERL_USE_UNSAFE_INC = 1
    SHELL = /usr/bin/zsh
    TERM = screen

Perl special variables (and OS-specific diagnostics, for MSWin32):

    $^X = /tmp/basesmoker-reloperl-2kc5/bin/perl
    $UID/$EUID = 1005 / 1005
    $GID = 1005 1005
    $EGID = 1005 1005

Perl module toolchain versions installed:

    Module              Have    
    ------------------- --------
    CPAN                2.22    
    CPAN::Meta          2.150010
    Cwd                 3.77    
    ExtUtils::CBuilder  0.280230
    ExtUtils::Command   7.34    
    ExtUtils::Install   2.14    
    ExtUtils::MakeMaker 7.34    
    ExtUtils::Manifest  1.71    
    ExtUtils::ParseXS   3.40    
    File::Spec          3.77    
    JSON                4.01    
    JSON::PP            4.00    
    Module::Build       0.4224  
    Module::Signature   0.83    
    Parse::CPAN::Meta   2.150010
    Test::Harness       3.42    
    Test::More          1.302160
    YAML                1.27    
    YAML::Syck          1.31    
    version             0.9924  


--

Summary of my perl5 (revision 5 version 29 subversion 8) configuration:
  Commit id: ca152fd8207cf53816b1407d5f54f6ea160a3ef8
  Platform:
    osname=linux
    osvers=4.15.0-43-generic
    archname=x86_64-linux-thread-multi
    uname='linux k93bionic 4.15.0-43-generic #46-ubuntu smp thu dec 6 14:45:28 utc 2018 x86_64 x86_64 x86_64 gnulinux '
    config_args='-Dprefix=/home/sand/src/perl/repoperls/installed-perls/host/k93bionic/v5.29.7-18-gca152fd820/7ee9 -Dmyhostname=k93bionic -Dinstallusrbinperl=n -Uversiononly -Dusedevel -des -Ui_db -Dlibswanted=cl pthread socket inet nsl gdbm dbm malloc dl ld sun m crypt sec util c cposix posix ucb BSD gdbm_compat -Duseithreads -Uuselongdouble -DEBUGGING=-g'
    hint=recommended
    useposix=true
    d_sigaction=define
    useithreads=define
    usemultiplicity=define
    use64bitint=define
    use64bitall=define
    uselongdouble=undef
    usemymalloc=n
    default_inc_excludes_dot=define
    bincompat5005=undef
  Compiler:
    cc='cc'
    ccflags ='-D_REENTRANT -D_GNU_SOURCE -fwrapv -fno-strict-aliasing -pipe -fstack-protector-strong -I/usr/local/include -D_LARGEFILE_SOURCE -D_FILE_OFFSET_BITS=64'
    optimize='-O2 -g'
    cppflags='-D_REENTRANT -D_GNU_SOURCE -fwrapv -fno-strict-aliasing -pipe -fstack-protector-strong -I/usr/local/include'
    ccversion=''
    gccversion='7.3.0'
    gccosandvers=''
    intsize=4
    longsize=8
    ptrsize=8
    doublesize=8
    byteorder=12345678
    doublekind=3
    d_longlong=define
    longlongsize=8
    d_longdbl=define
    longdblsize=16
    longdblkind=3
    ivtype='long'
    ivsize=8
    nvtype='double'
    nvsize=8
    Off_t='off_t'
    lseeksize=8
    alignbytes=8
    prototype=define
  Linker and Libraries:
    ld='cc'
    ldflags =' -fstack-protector-strong -L/usr/local/lib'
    libpth=/usr/local/lib /usr/lib/gcc/x86_64-linux-gnu/7/include-fixed /usr/include/x86_64-linux-gnu /usr/lib /lib/x86_64-linux-gnu /lib/../lib /usr/lib/x86_64-linux-gnu /usr/lib/../lib /lib
    libs=-lpthread -lnsl -ldl -lm -lcrypt -lutil -lc
    perllibs=-lpthread -lnsl -ldl -lm -lcrypt -lutil -lc
    libc=libc-2.27.so
    so=so
    useshrplib=false
    libperl=libperl.a
    gnulibc_version='2.27'
  Dynamic Linking:
    dlsrc=dl_dlopen.xs
    dlext=so
    d_dlsymun=undef
    ccdlflags='-Wl,-E'
    cccdlflags='-fPIC'
    lddlflags='-shared -O2 -g -L/usr/local/lib -fstack-protector-strong'


Characteristics of this binary (from libperl): 
  Compile-time options:
    HAS_TIMES
    MULTIPLICITY
    PERLIO_LAYERS
    PERL_COPY_ON_WRITE
    PERL_DONT_CREATE_GVSV
    PERL_IMPLICIT_CONTEXT
    PERL_MALLOC_WRAP
    PERL_OP_PARENT
    PERL_PRESERVE_IVUV
    PERL_USE_DEVEL
    USE_64_BIT_ALL
    USE_64_BIT_INT
    USE_ITHREADS
    USE_LARGE_FILES
    USE_LOCALE
    USE_LOCALE_COLLATE
    USE_LOCALE_CTYPE
    USE_LOCALE_NUMERIC
    USE_LOCALE_TIME
    USE_PERLIO
    USE_PERL_ATOF
    USE_REENTRANT_API
    USE_THREAD_SAFE_LOCALE
  Built under linux
  Compiled at Jan 22 2019 20:32:23
  %ENV:
    PERL5LIB="/tmp/loop_over_bdir-13238-W6NZa1/C-Scan-Constants-1.020-0/blib/arch:/tmp/loop_over_bdir-13238-W6NZa1/C-Scan-Constants-1.020-0/blib/lib:/tmp/loop_over_bdir-13238-W6NZa1/XML-SimpleObject0.53-0/blib/arch:/tmp/loop_over_bdir-13238-W6NZa1/XML-SimpleObject0.53-0/blib/lib:/tmp/loop_over_bdir-13238-W6NZa1/DBIx-DBSchema-0.40-0/blib/arch:/tmp/loop_over_bdir-13238-W6NZa1/DBIx-DBSchema-0.40-0/blib/lib:/tmp/loop_over_bdir-13238-W6NZa1/DBIx-DBHResolver-0.17-0/blib/arch:/tmp/loop_over_bdir-13238-W6NZa1/DBIx-DBHResolver-0.17-0/blib/lib:/tmp/loop_over_bdir-13238-W6NZa1/Test-WWW-Mechanize-1.52-0/blib/arch:/tmp/loop_over_bdir-13238-W6NZa1/Test-WWW-Mechanize-1.52-0/blib/lib:/tmp/loop_over_bdir-13238-W6NZa1/IO-Async-SSL-0.22-0/blib/arch:/tmp/loop_over_bdir-13238-W6NZa1/IO-Async-SSL-0.22-0/blib/lib:/tmp/loop_over_bdir-13238-W6NZa1/Test-Run-0.0302-0/blib/arch:/tmp/loop_over_bdir-13238-W6NZa1/Test-Run-0.0302-0/blib/lib:/tmp/loop_over_bdir-13238-W6NZa1/URI-Title-1.900-0/blib/arch:/tmp/loop_over_bdir-13238-W6NZa1/URI-Title-1.900-0/blib/lib:/tmp/loop_over_bdir-13238-W6NZa1/TeX-Hyphen-Pattern-0.04-0/blib/arch:/tmp/loop_over_bdir-13238-W6NZa1/TeX-Hyphen-Pattern-0.04-0/blib/lib"
    PERL5OPT=""
    PERL5_CPANPLUS_IS_RUNNING="30171"
    PERL5_CPAN_IS_RUNNING="30171"
    PERL_CANARY_STABILITY_NOPROMPT="1"
    PERL_MM_USE_DEFAULT="1"
    PERL_USE_UNSAFE_INC="1"
  @INC:
    /tmp/loop_over_bdir-13238-W6NZa1/C-Scan-Constants-1.020-0/blib/arch
    /tmp/loop_over_bdir-13238-W6NZa1/C-Scan-Constants-1.020-0/blib/lib
    /tmp/loop_over_bdir-13238-W6NZa1/XML-SimpleObject0.53-0/blib/arch
    /tmp/loop_over_bdir-13238-W6NZa1/XML-SimpleObject0.53-0/blib/lib
    /tmp/loop_over_bdir-13238-W6NZa1/DBIx-DBSchema-0.40-0/blib/arch
    /tmp/loop_over_bdir-13238-W6NZa1/DBIx-DBSchema-0.40-0/blib/lib
    /tmp/loop_over_bdir-13238-W6NZa1/DBIx-DBHResolver-0.17-0/blib/arch
    /tmp/loop_over_bdir-13238-W6NZa1/DBIx-DBHResolver-0.17-0/blib/lib
    /tmp/loop_over_bdir-13238-W6NZa1/Test-WWW-Mechanize-1.52-0/blib/arch
    /tmp/loop_over_bdir-13238-W6NZa1/Test-WWW-Mechanize-1.52-0/blib/lib
    /tmp/loop_over_bdir-13238-W6NZa1/IO-Async-SSL-0.22-0/blib/arch
    /tmp/loop_over_bdir-13238-W6NZa1/IO-Async-SSL-0.22-0/blib/lib
    /tmp/loop_over_bdir-13238-W6NZa1/Test-Run-0.0302-0/blib/arch
    /tmp/loop_over_bdir-13238-W6NZa1/Test-Run-0.0302-0/blib/lib
    /tmp/loop_over_bdir-13238-W6NZa1/URI-Title-1.900-0/blib/arch
    /tmp/loop_over_bdir-13238-W6NZa1/URI-Title-1.900-0/blib/lib
    /tmp/loop_over_bdir-13238-W6NZa1/TeX-Hyphen-Pattern-0.04-0/blib/arch
    /tmp/loop_over_bdir-13238-W6NZa1/TeX-Hyphen-Pattern-0.04-0/blib/lib
    /home/sand/src/perl/repoperls/installed-perls/host/k93bionic/v5.29.7-18-gca152fd820/7ee9/lib/site_perl/5.29.8/x86_64-linux-thread-multi
    /home/sand/src/perl/repoperls/installed-perls/host/k93bionic/v5.29.7-18-gca152fd820/7ee9/lib/site_perl/5.29.8
    /home/sand/src/perl/repoperls/installed-perls/host/k93bionic/v5.29.7-18-gca152fd820/7ee9/lib/5.29.8/x86_64-linux-thread-multi
    /home/sand/src/perl/repoperls/installed-perls/host/k93bionic/v5.29.7-18-gca152fd820/7ee9/lib/5.29.8
    .