Back
From: metabase:user:320bfe00-2aae-11df-837a-5e0a49663a4f
Subject: PASS Dist-Zilla-Plugin-MinimumPerl-1.003 v5.19.5 GNU/Linux
Date: 2013-10-07T06:59:02Z
This distribution has been tested as part of the CPAN Testers
project, supporting the Perl programming language. See
http://wiki.cpantesters.org/ for more information or email
questions to cpan-testers-discuss@perl.org
--
Dear Apocalypse,
This is a computer-generated report for Dist-Zilla-Plugin-MinimumPerl-1.003
on perl 5.19.5, created by CPAN-Reporter-1.2010.
Thank you for uploading your work to CPAN. Congratulations!
All tests were successful.
Sections of this report:
* Tester comments
* Program output
* Prerequisites
* Environment and other context
------------------------------
TESTER COMMENTS
------------------------------
Additional comments from tester:
this report is from an automated smoke testing program
and was not reviewed by a human for accuracy
------------------------------
PROGRAM OUTPUT
------------------------------
Output from './Build test':
Possible precedence issue with control flow operator at /home/sand/src/perl/repoperls/installed-perls/perl/v5.19.4-167-g4387bc3/a2da/lib/site_perl/5.19.5/Perl/Critic/Utils.pm line 334.
t/00-compile.t ................ ok
#
Possible precedence issue with control flow operator at /home/sand/src/perl/repoperls/installed-perls/perl/v5.19.4-167-g4387bc3/a2da/lib/site_perl/5.19.5/Perl/Critic/Utils.pm line 334.
#
# Generated by Dist::Zilla::Plugin::ReportVersions::Tiny v1.03
# perl: v5.19.5 (wanted 5.006) on linux from /tmp/basesmoker-reloperl-6y4n/bin/perl
#
# Dist::Zilla::Role::FileFinderUser => 4.300039 (want 4.102345)
# Dist::Zilla::Role::PrereqSource => 4.300039 (want 4.102345)
# File::Find => 1.25 (want any version)
# File::Temp => 0.2302 (want any version)
# Module::Build => 0.4007 (want 0.3601)
# Moose => 2.1005 (want 1.03)
# Moose::Util::TypeConstraints => 2.1005 (want 1.01)
# MooseX::Types::Perl => 0.101342 (want 0.101340)
# Perl::MinimumVersion => 1.32 (want 1.26)
# Test::More => 0.9806 (want 0.88)
#
# Thanks for using my code. I hope it works for you.
# If not, please try and include this output in the bug report.
# That will help me reproduce the issue and solve your problem.
#
t/000-report-versions-tiny.t .. ok
t/apocalypse.t ................ skipped: Test::Apocalypse required for validating the distribution
All tests successful.
Files=3, Tests=2, 1 wallclock secs ( 0.02 usr 0.00 sys + 0.76 cusr 0.06 csys = 0.84 CPU)
Result: PASS
------------------------------
PREREQUISITES
------------------------------
Prerequisite modules loaded:
requires:
Module Need Have
--------------------------------- -------- --------
Dist::Zilla::Role::FileFinderUser 4.102345 4.300039
Dist::Zilla::Role::PrereqSource 4.102345 4.300039
Moose 1.03 2.1005
Moose::Util::TypeConstraints 1.01 2.1005
MooseX::Types::Perl 0.101340 0.101342
perl 5.006 5.019005
Perl::MinimumVersion 1.26 1.32
build_requires:
Module Need Have
--------------------------------- -------- --------
File::Find 0 1.25
File::Temp 0 0.2302
Module::Build 0.3601 0.4007
Test::More 0.88 0.98_06
configure_requires:
Module Need Have
--------------------------------- -------- --------
Module::Build 0.3601 0.4007
------------------------------
ENVIRONMENT AND OTHER CONTEXT
------------------------------
Environment variables:
AUTOMATED_TESTING = 1
LANG = en_US.UTF-8
LANGUAGE = en_US:en
PATH = /usr/lib/ccache:/home/sand/bin:/usr/local/bin:/usr/bin:/bin:/usr/bin/X11:/usr/games:/usr/local/perl/bin:/usr/X11/bin:/sbin:/usr/sbin
PERL = /tmp/basesmoker-reloperl-6y4n/bin/perl
PERL5LIB =
PERL5OPT =
PERL5_CPANPLUS_IS_RUNNING = 12836
PERL5_CPAN_IS_RUNNING = 12836
PERL_MM_USE_DEFAULT = 1
SHELL = /usr/bin/zsh
TERM = screen
Perl special variables (and OS-specific diagnostics, for MSWin32):
$^X = /tmp/basesmoker-reloperl-6y4n/bin/perl
$UID/$EUID = 1005 / 1005
$GID = 1005 1005
$EGID = 1005 1005
Perl module toolchain versions installed:
Module Have
------------------- ----------
CPAN 2.00
CPAN::Meta 2.132661
Cwd 3.45
ExtUtils::CBuilder 0.280212
ExtUtils::Command 1.18
ExtUtils::Install 1.60
ExtUtils::MakeMaker 6.78
ExtUtils::Manifest 1.63
ExtUtils::ParseXS 3.23
File::Spec 3.45
JSON 2.59
JSON::PP 2.27202_01
Module::Build 0.4007
Module::Signature 0.73
Parse::CPAN::Meta 1.4409
Test::Harness 3.28
Test::More 0.98_06
YAML 0.84
YAML::Syck 1.27
version 0.9904
--
Summary of my perl5 (revision 5 version 19 subversion 5) configuration:
Commit id: 4387bc3c6899993ec4504edc3be8b5440ea61521
Platform:
osname=linux, osvers=3.10-2-amd64, archname=x86_64-linux-thread-multi-ld
uname='linux k83 3.10-2-amd64 #1 smp debian 3.10.7-1 (2013-08-17) x86_64 gnulinux '
config_args='-Dprefix=/home/sand/src/perl/repoperls/installed-perls/perl/v5.19.4-167-g4387bc3/a2da -Dmyhostname=k83 -Dinstallusrbinperl=n -Uversiononly -Dusedevel -des -Ui_db -Duseithreads -Duselongdouble -DDEBUGGING=-g'
hint=recommended, useposix=true, d_sigaction=define
useithreads=define, usemultiplicity=define
useperlio=define, d_sfio=undef, uselargefiles=define, usesocks=undef
use64bitint=define, use64bitall=define, uselongdouble=define
usemymalloc=n, bincompat5005=undef
Compiler:
cc='cc', ccflags ='-D_REENTRANT -D_GNU_SOURCE -fno-strict-aliasing -pipe -fstack-protector -I/usr/local/include -D_LARGEFILE_SOURCE -D_FILE_OFFSET_BITS=64',
optimize='-O2 -g',
cppflags='-D_REENTRANT -D_GNU_SOURCE -fno-strict-aliasing -pipe -fstack-protector -I/usr/local/include'
ccversion='', gccversion='4.8.1', gccosandvers=''
intsize=4, longsize=8, ptrsize=8, doublesize=8, byteorder=12345678
d_longlong=define, longlongsize=8, d_longdbl=define, longdblsize=16
ivtype='long', ivsize=8, nvtype='long double', nvsize=16, Off_t='off_t', lseeksize=8
alignbytes=16, prototype=define
Linker and Libraries:
ld='cc', ldflags =' -fstack-protector -L/usr/local/lib'
libpth=/usr/local/lib /lib/x86_64-linux-gnu /lib/../lib /usr/lib/x86_64-linux-gnu /usr/lib/../lib /lib /usr/lib
libs=-lnsl -lgdbm -ldb -ldl -lm -lcrypt -lutil -lpthread -lc -lgdbm_compat
perllibs=-lnsl -ldl -lm -lcrypt -lutil -lpthread -lc
libc=, so=so, useshrplib=false, libperl=libperl.a
gnulibc_version='2.17'
Dynamic Linking:
dlsrc=dl_dlopen.xs, dlext=so, d_dlsymun=undef, ccdlflags='-Wl,-E'
cccdlflags='-fPIC', lddlflags='-shared -O2 -g -L/usr/local/lib -fstack-protector'
Characteristics of this binary (from libperl):
Compile-time options: HAS_TIMES MULTIPLICITY PERLIO_LAYERS
PERL_DONT_CREATE_GVSV
PERL_HASH_FUNC_ONE_AT_A_TIME_HARD
PERL_IMPLICIT_CONTEXT PERL_MALLOC_WRAP
PERL_NEW_COPY_ON_WRITE PERL_PRESERVE_IVUV
PERL_USE_DEVEL USE_64_BIT_ALL USE_64_BIT_INT
USE_ITHREADS USE_LARGE_FILES USE_LOCALE
USE_LOCALE_COLLATE USE_LOCALE_CTYPE
USE_LOCALE_NUMERIC USE_LONG_DOUBLE USE_PERLIO
USE_PERL_ATOF USE_REENTRANT_API
Built under linux
Compiled at Oct 6 2013 21:34:19
%ENV:
PERL="/tmp/basesmoker-reloperl-6y4n/bin/perl"
PERL5LIB=""
PERL5OPT=""
PERL5_CPANPLUS_IS_RUNNING="12836"
PERL5_CPAN_IS_RUNNING="12836"
PERL_MM_USE_DEFAULT="1"
@INC:
/home/sand/src/perl/repoperls/installed-perls/perl/v5.19.4-167-g4387bc3/a2da/lib/site_perl/5.19.5/x86_64-linux-thread-multi-ld
/home/sand/src/perl/repoperls/installed-perls/perl/v5.19.4-167-g4387bc3/a2da/lib/site_perl/5.19.5
/home/sand/src/perl/repoperls/installed-perls/perl/v5.19.4-167-g4387bc3/a2da/lib/5.19.5/x86_64-linux-thread-multi-ld
/home/sand/src/perl/repoperls/installed-perls/perl/v5.19.4-167-g4387bc3/a2da/lib/5.19.5
.