Report for B-Utils-0.21

Back
From: metabase:user:323dcade-2aae-11df-837a-5e0a49663a4f
Subject: PASS B-Utils-0.21 v5.17.8 GNU/Linux
Date: 2013-01-12T17:17:31Z

This distribution has been tested as part of the CPAN Testers
project, supporting the Perl programming language.  See
http://wiki.cpantesters.org/ for more information or email
questions to cpan-testers-discuss@perl.org


--
Dear Joshua ben Jore,

This is a computer-generated report for B-Utils-0.21
on perl 5.17.8, created by CPAN-Reporter-1.2009.

Thank you for uploading your work to CPAN.  Congratulations!
All tests were successful.

Sections of this report:

    * Tester comments
    * Program output
    * Prerequisites
    * Environment and other context

------------------------------
TESTER COMMENTS
------------------------------

Additional comments from tester:

none provided

------------------------------
PROGRAM OUTPUT
------------------------------

Output from '/usr/bin/make test':

PERL_DL_NONLAZY=1 /usr/local/bin/perl5.17.8d-nt-asan@8ec4ed08 "-MExtUtils::Command::MM" "-e" "test_harness(0, 'blib/lib', 'blib/arch')" t/*.t t/*/*.t
t/10use.t ........................... ok
t/11export.t ........................ ok
t/regression_walkallops_filtered.t .. ok
t/release-pod-syntax.t .............. skipped: these tests are for release candidate testing
t/utils/20all_starts.t .............. ok
t/utils/21all_roots.t ............... ok
t/utils/22anon_subs.t ............... ok
t/utils/30parent.t .................. ok
t/utils/31oldname.t ................. skipped: No tests written yet.
t/utils/32kids.t .................... skipped: No tests written yet.
t/utils/33ancestors.t ............... skipped: No tests written yet.
t/utils/34descendants.t ............. skipped: No tests written yet.
t/utils/35siblings.t ................ skipped: No tests written yet.
t/utils/36previous.t ................ skipped: No tests written yet.
t/utils/37stringify.t ............... skipped: No tests written yet.
t/utils/40walk.t .................... skipped: No tests written yet.
t/utils/41walkfilt.t ................ skipped: No tests written yet.
t/utils/42all.t ..................... skipped: No tests written yet.
t/utils/43allfilt.t ................. skipped: No tests written yet.
t/utils/44optrep.t .................. skipped: No tests written yet.
t/utils/50carp.t .................... skipped: No tests written yet.
t/utils/51croak.t ................... skipped: No tests written yet.
All tests successful.
Files=22, Tests=130,  3 wallclock secs ( 0.23 usr  0.06 sys +  2.43 cusr  0.68 csys =  3.40 CPU)
Result: PASS

------------------------------
PREREQUISITES
------------------------------

Prerequisite modules loaded:

requires:

    Module              Need  Have    
    ------------------- ----- --------
    Exporter            0     5.67    
    ExtUtils::CBuilder  0     0.280209
    perl                5.006 5.017008
    Scalar::Util        0     1.27    
    Task::Weaken        0     1.04    
    Test::More          0     0.98    

build_requires:

    Module              Need  Have    
    ------------------- ----- --------
    ExtUtils::MakeMaker 0     6.64    

configure_requires:

    Module              Need  Have    
    ------------------- ----- --------
    ExtUtils::CBuilder  0     0.280209
    ExtUtils::Depends   0.301 0.304   


------------------------------
ENVIRONMENT AND OTHER CONTEXT
------------------------------

Environment variables:

    LANG = en_US.UTF-8
    PATH = /home/rurban/bin:/usr/local/bin:/usr/bin:/bin:/usr/local/games:/usr/games
    PERL5LIB = 
    PERL5OPT = 
    PERL5_CPANPLUS_IS_RUNNING = 5130
    PERL5_CPAN_IS_RUNNING = 5130
    SHELL = /bin/bash
    TERM = xterm-256color

Perl special variables (and OS-specific diagnostics, for MSWin32):

    $^X = /usr/local/bin/perl5.17.8d-nt-asan@8ec4ed08
    $UID/$EUID = 1000 / 1000
    $GID = 1000 27 124 125 1000
    $EGID = 1000 27 124 125 1000

Perl module toolchain versions installed:

    Module              Have    
    ------------------- --------
    CPAN                1.99_51 
    CPAN::Meta          2.120921
    Cwd                 3.39_03 
    ExtUtils::CBuilder  0.280209
    ExtUtils::Command   1.17    
    ExtUtils::Install   1.58    
    ExtUtils::MakeMaker 6.64    
    ExtUtils::Manifest  1.62    
    ExtUtils::ParseXS   3.18    
    File::Spec          3.39_02 
    JSON                2.53    
    JSON::PP            2.27200 
    Module::Build       0.4003  
    Module::Signature   0.70    
    Parse::CPAN::Meta   1.4404  
    Test::Harness       3.25_01 
    Test::More          0.98    
    YAML                0.84    
    YAML::Syck          n/a     
    version             0.9901  


--

Summary of my perl5 (revision 5 version 17 subversion 8) configuration:
  Commit id: 8ec4ed08a39f899ec6c7eed67a0a0ab42ae08fd5
  Platform:
    osname=linux, osvers=3.2.0-4-amd64, archname=x86_64-linux-debug-asan@8ec4ed08
    uname='linux reini 3.2.0-4-amd64 #1 smp debian 3.2.32-1 x86_64 gnulinux '
    config_args='-de -Dusedevel -Uversiononly -Dinstallman1dir=none -Dinstallman3dir=none -Dinstallsiteman1dir=none -Dinstallsiteman3dir=none -DEBUGGING -Uuseithreads -D'cc=clang2' -D'ld=clang2' -D'optimize=-g\ -O1' -A'ccflags=-fsanitize=address' -A'ldflags=-fsanitize=address' -A'lddlflags=-shared\ -fsanitize=address' -Duseshrplib -Dcf_email='rurban@cpanel.net' -Dperladmin='rurban@cpanel.net' -Duseshrplib -Accflags=-Wno-unused-value'
    hint=recommended, useposix=true, d_sigaction=define
    useithreads=undef, usemultiplicity=undef
    useperlio=define, d_sfio=undef, uselargefiles=define, usesocks=undef
    use64bitint=define, use64bitall=define, uselongdouble=undef
    usemymalloc=n, bincompat5005=undef
  Compiler:
    cc='clang2', ccflags ='-fsanitize=address -Wno-unused-value -DDEBUGGING -fno-strict-aliasing -pipe  -I/usr/local/include -D_LARGEFILE_SOURCE -D_FILE_OFFSET_BITS=64',
    optimize='-g -O1',
    cppflags='-fsanitize=address -Wno-unused-value -DDEBUGGING -fno-strict-aliasing -pipe  -I/usr/local/include'
    ccversion='', gccversion='4.2.1 Compatible Clang 3.3 (trunk 171459)', gccosandvers=''
    intsize=4, longsize=8, ptrsize=8, doublesize=8, byteorder=12345678
    d_longlong=define, longlongsize=8, d_longdbl=define, longdblsize=16
    ivtype='long', ivsize=8, nvtype='double', nvsize=8, Off_t='off_t', lseeksize=8
    alignbytes=8, prototype=define
  Linker and Libraries:
    ld='clang2', ldflags =' -fsanitize=address  -L/usr/local/lib'
    libpth=/usr/local/lib /lib/x86_64-linux-gnu /lib/../lib /usr/lib/x86_64-linux-gnu /usr/lib/../lib /lib /usr/lib
    libs=-lnsl -lgdbm -ldb -ldl -lm -lcrypt -lutil -lc -lgdbm_compat
    perllibs=-lnsl -ldl -lm -lcrypt -lutil -lc
    libc=, so=so, useshrplib=true, libperl=libperl.so
    gnulibc_version='2.13'
  Dynamic Linking:
    dlsrc=dl_dlopen.xs, dlext=so, d_dlsymun=undef, ccdlflags='-Wl,-E -Wl,-rpath,/usr/local/lib/perl5/5.17.8/x86_64-linux-debug-asan@8ec4ed08/CORE'
    cccdlflags='-fPIC', lddlflags=' -shared -fsanitize=address -L/usr/local/lib '


Characteristics of this binary (from libperl): 
  Compile-time options: DEBUGGING HAS_TIMES PERLIO_LAYERS
                        PERL_DONT_CREATE_GVSV PERL_MALLOC_WRAP
                        PERL_NEW_COPY_ON_WRITE PERL_PRESERVE_IVUV
                        PERL_USE_DEVEL USE_64_BIT_ALL USE_64_BIT_INT
                        USE_LARGE_FILES USE_LOCALE USE_LOCALE_COLLATE
                        USE_LOCALE_CTYPE USE_LOCALE_NUMERIC USE_PERLIO
                        USE_PERL_ATOF
  Built under linux
  Compiled at Jan 12 2013 09:28:51
  %ENV:
    PERL5LIB=""
    PERL5OPT=""
    PERL5_CPANPLUS_IS_RUNNING="5130"
    PERL5_CPAN_IS_RUNNING="5130"
  @INC:
    /usr/local/lib/perl5/site_perl/5.17.8/x86_64-linux-debug-asan@8ec4ed08
    /usr/local/lib/perl5/site_perl/5.17.8
    /usr/local/lib/perl5/5.17.8/x86_64-linux-debug-asan@8ec4ed08
    /usr/local/lib/perl5/5.17.8
    /usr/local/lib/perl5/site_perl/5.17.7
    /usr/local/lib/perl5/site_perl/5.17.6
    /usr/local/lib/perl5/site_perl/5.17.5
    /usr/local/lib/perl5/site_perl/5.17.4
    /usr/local/lib/perl5/site_perl/5.17.3
    /usr/local/lib/perl5/site_perl/5.17.2
    /usr/local/lib/perl5/site_perl/5.17.1
    /usr/local/lib/perl5/site_perl/5.17.0
    /usr/local/lib/perl5/site_perl/5.17
    /usr/local/lib/perl5/site_perl/5.16.2
    /usr/local/lib/perl5/site_perl/5.16.1
    /usr/local/lib/perl5/site_perl/5.16.0
    /usr/local/lib/perl5/site_perl/5.15.9
    /usr/local/lib/perl5/site_perl/5.15.8
    /usr/local/lib/perl5/site_perl/5.15.7
    /usr/local/lib/perl5/site_perl/5.15.6
    /usr/local/lib/perl5/site_perl/5.15.5
    /usr/local/lib/perl5/site_perl/5.15.4
    /usr/local/lib/perl5/site_perl/5.14.3
    /usr/local/lib/perl5/site_perl/5.14.2
    /usr/local/lib/perl5/site_perl/5.14.1
    /usr/local/lib/perl5/site_perl/5.12.4
    /usr/local/lib/perl5/site_perl/5.10.1
    /usr/local/lib/perl5/site_perl/5.8.9
    /usr/local/lib/perl5/site_perl/5.8.8
    /usr/local/lib/perl5/site_perl/5.8.7
    /usr/local/lib/perl5/site_perl/5.8.6
    /usr/local/lib/perl5/site_perl/5.8.5
    /usr/local/lib/perl5/site_perl/5.8.4
    /usr/local/lib/perl5/site_perl/5.8.3
    /usr/local/lib/perl5/site_perl/5.8.2
    /usr/local/lib/perl5/site_perl/5.8.1
    /usr/local/lib/perl5/site_perl/5.6.2
    /usr/local/lib/perl5/site_perl
    .