Test-File-Content v1.0.2 Perl 5 v5.26.3 RC1 x86_64-linux-ld
- Status
- Pass
- From
- Andreas J. König (ANDK)
- Dist
-
Test-File-Content v1.0.2
- Platform
- Perl 5 v5.26.3 RC1 x86_64-linux-ld
- Date
- 2018-11-20 20:50:43
- ID
- f2853ffc-ed05-11e8-919c-a1925a2f7173
This distribution has been tested as part of the CPAN Testers
project, supporting the Perl programming language. See
http://wiki.cpantesters.org/ for more information or email
questions to cpan-testers-discuss@perl.org
--
Dear Moritz Onken,
This is a computer-generated report for Test-File-Content-1.0.2
on perl 5.26.3, created by CPAN-Reporter-1.2018.
Thank you for uploading your work to CPAN. Congratulations!
All tests were successful.
Sections of this report:
* Tester comments
* Program output
* Prerequisites
* Environment and other context
------------------------------
TESTER COMMENTS
------------------------------
Additional comments from tester:
this report is from an automated smoke testing program
and was not reviewed by a human for accuracy
------------------------------
PROGRAM OUTPUT
------------------------------
Output from './Build test':
t/00-compile.t ................ ok
#
#
# perl: v5.26.3 (wanted any version) on linux from /tmp/basesmoker-reloperl-f6tL/bin/perl
#
# Exporter => 5.72 (want any version)
# File::Find => 1.34 (want any version)
# File::Temp => 0.2308 (want any version)
# Module::Build => 0.4224 (want 0.3601)
# Path::Class::File => 0.37 (want 0.23)
# Test::Harness => 3.42 (want 3.22)
# Test::More => 1.302140 (want 0.96)
# strict => 1.11 (want any version)
# warnings => 1.37 (want any version)
#
# Thanks for using my code. I hope it works for you.
# If not, please try and include this output in the bug report.
# That will help me reproduce the issue and solve you problem.
#
t/000-report-versions-tiny.t .. ok
# Failed test 't/code/test.js'
# at /tmp/loop_over_bdir-7631-6dcQjc/Test-File-Content-1.0.2-0/blib/lib/Test/File/Content.pm line 100.
# console.log found in t/code/test.js line 1
# console.log found in t/code/test.js line 2
# Failed test 't/code/test.pm'
# at /tmp/loop_over_bdir-7631-6dcQjc/Test-File-Content-1.0.2-0/blib/lib/Test/File/Content.pm line 100.
# make_immutable found in t/code/test.pm line 10
# Failed test 't/code/test.js'
# at /tmp/loop_over_bdir-7631-6dcQjc/Test-File-Content-1.0.2-0/blib/lib/Test/File/Content.pm line 100.
# file t/code/test.js does not contain make_immutable
# Failed test 't/code/test.js'
# at /tmp/loop_over_bdir-7631-6dcQjc/Test-File-Content-1.0.2-0/blib/lib/Test/File/Content.pm line 100.
# file t/code/test.js does not contain make_immutable
# Failed test 't/code/test.tt'
# at /tmp/loop_over_bdir-7631-6dcQjc/Test-File-Content-1.0.2-0/blib/lib/Test/File/Content.pm line 100.
# file t/code/test.tt does not contain make_immutable
# Looks like you failed 5 tests of 15.
t/output.t .................... ok
t/release-has-version.t ....... skipped: these tests are for release candidate testing
t/release-kwalitee.t .......... skipped: these tests are for release candidate testing
t/release-minimum-version.t ... skipped: these tests are for release candidate testing
t/release-pod-coverage.t ...... skipped: these tests are for release candidate testing
t/release-pod-syntax.t ........ skipped: these tests are for release candidate testing
All tests successful.
Files=8, Tests=6, 1 wallclock secs ( 0.01 usr 0.07 sys + 0.60 cusr 0.16 csys = 0.84 CPU)
Result: PASS
------------------------------
PREREQUISITES
------------------------------
Prerequisite modules loaded:
requires:
Module Need Have
----------------- ------ --------
Exporter 0 5.72
File::Find 0 1.34
Path::Class::File 0.23 0.37
strict 0 1.11
Test::Harness 3.22 3.42
Test::More 0.96 1.302140
warnings 0 1.37
build_requires:
Module Need Have
----------------- ------ --------
File::Temp 0 0.2308
Module::Build 0.3601 0.4224
Test::Harness 0 3.42
Test::More 0.88 1.302140
configure_requires:
Module Need Have
----------------- ------ --------
Module::Build 0.3601 0.4224
------------------------------
ENVIRONMENT AND OTHER CONTEXT
------------------------------
Environment variables:
AUTOMATED_TESTING = 1
LANG = C
PATH = /home/sand/bin:/usr/local/bin:/usr/bin:/bin:/usr/games:/usr/local/perl/bin:/usr/X11/bin:/sbin:/usr/sbin
PERL5LIB = /tmp/loop_over_bdir-7631-6dcQjc/Asm-X86-0.26-0/blib/arch:/tmp/loop_over_bdir-7631-6dcQjc/Asm-X86-0.26-0/blib/lib
PERL5OPT =
PERL5_CPANPLUS_IS_RUNNING = 29107
PERL5_CPAN_IS_RUNNING = 29107
PERL_CANARY_STABILITY_NOPROMPT = 1
PERL_MM_USE_DEFAULT = 1
PERL_USE_UNSAFE_INC = 1
SHELL = /usr/bin/zsh
TERM = screen
Perl special variables (and OS-specific diagnostics, for MSWin32):
$^X = /tmp/basesmoker-reloperl-f6tL/bin/perl
$UID/$EUID = 1005 / 1005
$GID = 1005 1005
$EGID = 1005 1005
Perl module toolchain versions installed:
Module Have
------------------- --------
CPAN 2.21
CPAN::Meta 2.150010
Cwd 3.75
ExtUtils::CBuilder 0.280230
ExtUtils::Command 7.34
ExtUtils::Install 2.06
ExtUtils::MakeMaker 7.34
ExtUtils::Manifest 1.70
ExtUtils::ParseXS 3.34
File::Spec 3.75
JSON 2.97001
JSON::PP 2.97001
Module::Build 0.4224
Module::Signature 0.83
Parse::CPAN::Meta 2.150010
Test::Harness 3.42
Test::More 1.302140
YAML 1.27
YAML::Syck 1.31
version 0.9917
--
Summary of my perl5 (revision 5 version 26 subversion 3) configuration:
Platform:
osname=linux
osvers=4.9.0-2-amd64
archname=x86_64-linux-ld
uname='linux k93jessie 4.9.0-2-amd64 #1 smp debian 4.9.18-1 (2017-03-30) x86_64 gnulinux '
config_args='-Dprefix=/home/sand/src/perl/repoperls/installed-perls/host/k93jessie/perl-5.26.3-RC1/e76a -Dmyhostname=k93jessie -Dinstallusrbinperl=n -Uversiononly -Dusedevel -des -Ui_db -Dlibswanted=cl pthread socket inet nsl gdbm dbm malloc dl ld sun m crypt sec util c cposix posix ucb BSD gdbm_compat -Uuseithreads -Duselongdouble -DEBUGGING=-g'
hint=recommended
useposix=true
d_sigaction=define
useithreads=undef
usemultiplicity=undef
use64bitint=define
use64bitall=define
uselongdouble=define
usemymalloc=n
default_inc_excludes_dot=define
bincompat5005=undef
Compiler:
cc='cc'
ccflags ='-fwrapv -fno-strict-aliasing -pipe -fstack-protector-strong -I/usr/local/include -D_LARGEFILE_SOURCE -D_FILE_OFFSET_BITS=64 -D_FORTIFY_SOURCE=2'
optimize='-O2 -g'
cppflags='-fwrapv -fno-strict-aliasing -pipe -fstack-protector-strong -I/usr/local/include'
ccversion=''
gccversion='4.9.2'
gccosandvers=''
intsize=4
longsize=8
ptrsize=8
doublesize=8
byteorder=12345678
doublekind=3
d_longlong=define
longlongsize=8
d_longdbl=define
longdblsize=16
longdblkind=3
ivtype='long'
ivsize=8
nvtype='long double'
nvsize=16
Off_t='off_t'
lseeksize=8
alignbytes=16
prototype=define
Linker and Libraries:
ld='cc'
ldflags =' -fstack-protector-strong -L/usr/local/lib'
libpth=/usr/local/lib /usr/lib/gcc/x86_64-linux-gnu/4.9/include-fixed /usr/include/x86_64-linux-gnu /usr/lib /lib/x86_64-linux-gnu /lib/../lib /usr/lib/x86_64-linux-gnu /usr/lib/../lib /lib
libs=-lpthread -lnsl -ldl -lm -lcrypt -lutil -lc
perllibs=-lpthread -lnsl -ldl -lm -lcrypt -lutil -lc
libc=libc-2.19.so
so=so
useshrplib=false
libperl=libperl.a
gnulibc_version='2.19'
Dynamic Linking:
dlsrc=dl_dlopen.xs
dlext=so
d_dlsymun=undef
ccdlflags='-Wl,-E'
cccdlflags='-fPIC'
lddlflags='-shared -O2 -g -L/usr/local/lib -fstack-protector-strong'
Characteristics of this binary (from libperl):
Compile-time options:
HAS_TIMES
PERLIO_LAYERS
PERL_COPY_ON_WRITE
PERL_DONT_CREATE_GVSV
PERL_MALLOC_WRAP
PERL_OP_PARENT
PERL_PRESERVE_IVUV
PERL_USE_DEVEL
USE_64_BIT_ALL
USE_64_BIT_INT
USE_LARGE_FILES
USE_LOCALE
USE_LOCALE_COLLATE
USE_LOCALE_CTYPE
USE_LOCALE_NUMERIC
USE_LOCALE_TIME
USE_LONG_DOUBLE
USE_PERLIO
USE_PERL_ATOF
Locally applied patches:
RC1
Devel::PatchPerl 1.52
Built under linux
Compiled at Nov 18 2018 16:02:11
%ENV:
PERL5LIB="/tmp/loop_over_bdir-7631-6dcQjc/Asm-X86-0.26-0/blib/arch:/tmp/loop_over_bdir-7631-6dcQjc/Asm-X86-0.26-0/blib/lib"
PERL5OPT=""
PERL5_CPANPLUS_IS_RUNNING="29107"
PERL5_CPAN_IS_RUNNING="29107"
PERL_CANARY_STABILITY_NOPROMPT="1"
PERL_MM_USE_DEFAULT="1"
PERL_USE_UNSAFE_INC="1"
@INC:
/tmp/loop_over_bdir-7631-6dcQjc/Asm-X86-0.26-0/blib/arch
/tmp/loop_over_bdir-7631-6dcQjc/Asm-X86-0.26-0/blib/lib
/home/sand/src/perl/repoperls/installed-perls/host/k93jessie/perl-5.26.3-RC1/e76a/lib/site_perl/5.26.3/x86_64-linux-ld
/home/sand/src/perl/repoperls/installed-perls/host/k93jessie/perl-5.26.3-RC1/e76a/lib/site_perl/5.26.3
/home/sand/src/perl/repoperls/installed-perls/host/k93jessie/perl-5.26.3-RC1/e76a/lib/5.26.3/x86_64-linux-ld
/home/sand/src/perl/repoperls/installed-perls/host/k93jessie/perl-5.26.3-RC1/e76a/lib/5.26.3
.