Qiime2-Reader v0.10.1 Perl 5 v5.30.0 x86_64-linux

Status
Pass
From
Chris Williams (BINGOS)
Dist
Qiime2-Reader v0.10.1
Platform
Perl 5 v5.30.0 x86_64-linux
Date
2020-01-26T19:35:02
ID
f2877c9c-4072-11ea-9066-e374b0ba08e8
This distribution has been tested as part of the CPAN Testers
project, supporting the Perl programming language.  See
http://wiki.cpantesters.org/ for more information or email
questions to cpan-testers-discuss@perl.org


--

Dear PROCH,

This is a computer-generated error report created automatically by
CPANPLUS, version 0.9904. Testers personal comments may appear
at the end of this report.


Thank you for uploading your work to CPAN.  Congratulations!
All tests were successful.

TEST RESULTS:

Below is the error stack from stage 'make test':

PERL_DL_NONLAZY=1 "/home/cpan/pit/bare/perl-5.30.0/bin/perl" "-MExtUtils::Command::MM" "-MTest::Harness" "-e" "undef *Test::Harness::Switches; test_harness(0, 'blib/lib', 'blib/arch')" t/*.t
t/10_basic_test.t ................. ok
t/11_load.t ....................... ok
Not a valid artifact /home/cpan/pit/bare/conf/perl-5.30.0/.cpanplus/5.30.0/build/JF2jLlJp9R/Qiime2-Reader-0.10.1/t/../data/bad_artifact.zip:
 [Qiime2::Reader ERROR]
 /home/cpan/pit/bare/conf/perl-5.30.0/.cpanplus/5.30.0/build/JF2jLlJp9R/Qiime2-Reader-0.10.1/data/bad_artifact.zip is not a valid artifact:
  "{id}/directory/data" structure expected, found:
  "d27b6a68-5c6e-46d9-9866-7b4d46cca533/"
 ------------------------------------------------------------
t/11_not_a_valid_artifact.t ....... ok
Raise exception:
 [Qiime2::Reader ERROR]
 /home/cpan/pit/bare/conf/perl-5.30.0/.cpanplus/5.30.0/build/JF2jLlJp9R/Qiime2-Reader-0.10.1/data/sample_metadata.tsv is not a ZIP file
 ------------------------------------------------------------
t/11_not_a_zip.t .................. ok
Not a valid artifact /home/cpan/pit/bare/conf/perl-5.30.0/.cpanplus/5.30.0/build/JF2jLlJp9R/Qiime2-Reader-0.10.1/t/../data/non_artifact.zip:
t/11_not_an_artifact.t ............ ok
 [Qiime2::Reader ERROR]
 /home/cpan/pit/bare/conf/perl-5.30.0/.cpanplus/5.30.0/build/JF2jLlJp9R/Qiime2-Reader-0.10.1/data/non_artifact.zip is not a valid artifact:
  "{id}/directory/data" structure expected, found:
  "README.md"
 ------------------------------------------------------------
t/release-00-pod.t ................ skipped: these tests are for release candidate testing
t/release-03-minimum-standards.t .. skipped: these tests are for release candidate testing
t/release-05-changes.t ............ skipped: these tests are for release candidate testing
All tests successful.
Files=8, Tests=10,  0 wallclock secs ( 0.02 usr  0.00 sys +  0.48 cusr  0.06 csys =  0.56 CPU)
Result: PASS


PREREQUISITES:

Here is a list of prerequisites you specified and versions we
managed to load:

	  Module Name                        Have     Want
	  Capture::Tiny                      0.48     0.48
	  Carp                               1.50      1.2
	  Data::Dumper                      2.174      2.1
	  ExtUtils::MakeMaker                7.44        0
	  FindBin                            1.51      1.3
	  YAML::PP                          0.018    0.018

Perl module toolchain versions installed:
	Module Name                        Have
	CPANPLUS                         0.9904
	CPANPLUS::Dist::Build              0.90
	Cwd                                3.78
	ExtUtils::CBuilder             0.280231
	ExtUtils::Command                  7.44
	ExtUtils::Install                  2.14
	ExtUtils::MakeMaker                7.44
	ExtUtils::Manifest                 1.72
	ExtUtils::ParseXS                  3.40
	File::Spec                         3.78
	Module::Build                    0.4229
	Pod::Parser                        1.63
	Pod::Simple                        3.35
	Test2                          1.302171
	Test::Harness                      3.42
	Test::More                     1.302171
	version                          0.9924

******************************** NOTE ********************************
The comments above are created mechanically, possibly without manual
checking by the sender.  As there are many people performing automatic
tests on each upload to CPAN, it is likely that you will receive
identical messages about the same problem.

If you believe that the message is mistaken, please reply to the first
one with correction and/or additional informations, and do not take
it personally.  We appreciate your patience. :)
**********************************************************************

Additional comments:


This report was machine-generated by CPANPLUS::Dist::YACSmoke 1.08.
Powered by minismokebox version 0.68

CPANPLUS is prefering Build.PL

------------------------------
ENVIRONMENT AND OTHER CONTEXT
------------------------------

Environment variables:

    AUTOMATED_TESTING = 1
    LANG = en_GB.UTF-8
    LANGUAGE = en_GB:en
    NONINTERACTIVE_TESTING = 1
    PATH = /usr/local/sbin:/usr/local/bin:/usr/sbin:/usr/bin:/sbin:/bin:/usr/games:/usr/local/games:/snap/bin
    PERL5LIB = /home/cpan/pit/jail/Er9trh4197/lib/perl5:/home/cpan/pit/bare/conf/perl-5.30.0/.cpanplus/5.30.0/build/JF2jLlJp9R/Qiime2-Reader-0.10.1/blib/lib:/home/cpan/pit/bare/conf/perl-5.30.0/.cpanplus/5.30.0/build/JF2jLlJp9R/Qiime2-Reader-0.10.1/blib/arch
    PERL5_CPANPLUS_IS_RUNNING = 29186
    PERL5_CPANPLUS_IS_VERSION = 0.9904
    PERL5_MINISMOKEBOX = 0.68
    PERL5_YACSMOKE_BASE = /home/cpan/pit/bare/conf/perl-5.30.0
    PERL_EXTUTILS_AUTOINSTALL = --defaultdeps
    PERL_LOCAL_LIB_ROOT = /home/cpan/pit/jail/Er9trh4197
    PERL_MB_OPT = --install_base "/home/cpan/pit/jail/Er9trh4197"
    PERL_MM_OPT = INSTALL_BASE=/home/cpan/pit/jail/Er9trh4197
    PERL_MM_USE_DEFAULT = 1
    SHELL = /bin/bash
    TERM = screen

Perl special variables (and OS-specific diagnostics, for MSWin32):

    Perl: $^X = /home/cpan/pit/bare/perl-5.30.0/bin/perl
    UID:  $<  = 1001
    EUID: $>  = 1001
    GID:  $(  = 1001 1001
    EGID: $)  = 1001 1001


-------------------------------


--

Summary of my perl5 (revision 5 version 30 subversion 0) configuration:
   
  Platform:
    osname=linux
    osvers=4.15.0-54-generic
    archname=x86_64-linux
    uname='linux uchder 4.15.0-54-generic #58-ubuntu smp mon jun 24 10:55:24 utc 2019 x86_64 x86_64 x86_64 gnulinux '
    config_args='-des -Dprefix=/home/cpan/pit/bare/perl-5.30.0'
    hint=recommended
    useposix=true
    d_sigaction=define
    useithreads=undef
    usemultiplicity=undef
    use64bitint=define
    use64bitall=define
    uselongdouble=undef
    usemymalloc=n
    default_inc_excludes_dot=define
    bincompat5005=undef
  Compiler:
    cc='cc'
    ccflags ='-fwrapv -fno-strict-aliasing -pipe -fstack-protector-strong -I/usr/local/include -D_LARGEFILE_SOURCE -D_FILE_OFFSET_BITS=64'
    optimize='-O2'
    cppflags='-fwrapv -fno-strict-aliasing -pipe -fstack-protector-strong -I/usr/local/include'
    ccversion=''
    gccversion='7.4.0'
    gccosandvers=''
    intsize=4
    longsize=8
    ptrsize=8
    doublesize=8
    byteorder=12345678
    doublekind=3
    d_longlong=define
    longlongsize=8
    d_longdbl=define
    longdblsize=16
    longdblkind=3
    ivtype='long'
    ivsize=8
    nvtype='double'
    nvsize=8
    Off_t='off_t'
    lseeksize=8
    alignbytes=8
    prototype=define
  Linker and Libraries:
    ld='cc'
    ldflags =' -fstack-protector-strong -L/usr/local/lib'
    libpth=/usr/local/lib /usr/lib/gcc/x86_64-linux-gnu/7/include-fixed /usr/include/x86_64-linux-gnu /usr/lib /lib/x86_64-linux-gnu /lib/../lib /usr/lib/x86_64-linux-gnu /usr/lib/../lib /lib
    libs=-lpthread -lnsl -lgdbm -ldl -lm -lcrypt -lutil -lc
    perllibs=-lpthread -lnsl -ldl -lm -lcrypt -lutil -lc
    libc=libc-2.27.so
    so=so
    useshrplib=false
    libperl=libperl.a
    gnulibc_version='2.27'
  Dynamic Linking:
    dlsrc=dl_dlopen.xs
    dlext=so
    d_dlsymun=undef
    ccdlflags='-Wl,-E'
    cccdlflags='-fPIC'
    lddlflags='-shared -O2 -L/usr/local/lib -fstack-protector-strong'


Characteristics of this binary (from libperl): 
  Compile-time options:
    HAS_TIMES
    PERLIO_LAYERS
    PERL_COPY_ON_WRITE
    PERL_DONT_CREATE_GVSV
    PERL_MALLOC_WRAP
    PERL_OP_PARENT
    PERL_PRESERVE_IVUV
    USE_64_BIT_ALL
    USE_64_BIT_INT
    USE_LARGE_FILES
    USE_LOCALE
    USE_LOCALE_COLLATE
    USE_LOCALE_CTYPE
    USE_LOCALE_NUMERIC
    USE_LOCALE_TIME
    USE_PERLIO
    USE_PERL_ATOF
  Built under linux
  Compiled at Jul 18 2019 18:48:11
  %ENV:
    PERL5LIB="/home/cpan/pit/jail/Er9trh4197/lib/perl5:/home/cpan/pit/bare/conf/perl-5.30.0/.cpanplus/5.30.0/build/JF2jLlJp9R/Qiime2-Reader-0.10.1/blib/lib:/home/cpan/pit/bare/conf/perl-5.30.0/.cpanplus/5.30.0/build/JF2jLlJp9R/Qiime2-Reader-0.10.1/blib/arch"
    PERL5_CPANPLUS_IS_RUNNING="29186"
    PERL5_CPANPLUS_IS_VERSION="0.9904"
    PERL5_MINISMOKEBOX="0.68"
    PERL5_YACSMOKE_BASE="/home/cpan/pit/bare/conf/perl-5.30.0"
    PERL_EXTUTILS_AUTOINSTALL="--defaultdeps"
    PERL_LOCAL_LIB_ROOT="/home/cpan/pit/jail/Er9trh4197"
    PERL_MB_OPT="--install_base "/home/cpan/pit/jail/Er9trh4197""
    PERL_MM_OPT="INSTALL_BASE=/home/cpan/pit/jail/Er9trh4197"
    PERL_MM_USE_DEFAULT="1"
  @INC:
    /home/cpan/pit/jail/Er9trh4197/lib/perl5/5.30.0/x86_64-linux
    /home/cpan/pit/jail/Er9trh4197/lib/perl5/5.30.0
    /home/cpan/pit/jail/Er9trh4197/lib/perl5/x86_64-linux
    /home/cpan/pit/jail/Er9trh4197/lib/perl5
    /home/cpan/pit/bare/conf/perl-5.30.0/.cpanplus/5.30.0/build/JF2jLlJp9R/Qiime2-Reader-0.10.1/blib/lib
    /home/cpan/pit/bare/conf/perl-5.30.0/.cpanplus/5.30.0/build/JF2jLlJp9R/Qiime2-Reader-0.10.1/blib/arch
    /home/cpan/pit/bare/perl-5.30.0/lib/site_perl/5.30.0/x86_64-linux
    /home/cpan/pit/bare/perl-5.30.0/lib/site_perl/5.30.0
    /home/cpan/pit/bare/perl-5.30.0/lib/5.30.0/x86_64-linux
    /home/cpan/pit/bare/perl-5.30.0/lib/5.30.0