Report for MooseX-Types-Structured-0.34

Back
From: metabase:user:314402c4-2aae-11df-837a-5e0a49663a4f
Subject: PASS MooseX-Types-Structured-0.34 v5.18.2 GNU/Linux
Date: 2015-08-16T07:25:19Z

This distribution has been tested as part of the CPAN Testers
project, supporting the Perl programming language.  See
http://wiki.cpantesters.org/ for more information or email
questions to cpan-testers-discuss@perl.org


--
Dear Karen Etheridge,

This is a computer-generated report for MooseX-Types-Structured-0.34
on perl 5.18.2, created by CPAN-Reporter-1.2011.

Thank you for uploading your work to CPAN.  Congratulations!
All tests were successful.

Sections of this report:

    * Tester comments
    * Program output
    * Prerequisites
    * Environment and other context

------------------------------
TESTER COMMENTS
------------------------------

Additional comments from tester:

none provided

------------------------------
PROGRAM OUTPUT
------------------------------

Output from './Build test':

t/00-load.t .................... ok
# 
# Versions for all modules listed in MYMETA.json (including optional ones):
# 
# === Configure Requires ===
# 
#     Module               Want  Have
#     ------------------- ----- -----
#     Module::Build::Tiny 0.007 0.039
# 
# === Test Requires ===
# 
#     Module                  Want     Have
#     ----------------------- ---- --------
#     Data::Dumper             any    2.151
#     DateTime                 any     1.18
#     ExtUtils::MakeMaker      any     7.04
#     File::Spec               any     3.47
#     MooseX::Types::DateTime  any     0.10
#     MooseX::Types::Moose     any     0.45
#     Test::Fatal              any    0.014
#     Test::More              0.88 1.001014
#     Test::Requires           any     0.10
#     strict                   any     1.07
#     warnings                 any     1.18
# 
# === Test Recommends ===
# 
#     Module         Want     Have
#     ---------- -------- --------
#     CPAN::Meta 2.120900 2.150005
# 
# === Runtime Requires ===
# 
#     Module                                        Want   Have
#     -------------------------------------------- ----- ------
#     Devel::PartialDump                            0.13   0.17
#     Moose                                          any 2.1600
#     Moose::Meta::TypeCoercion                      any 2.1600
#     Moose::Meta::TypeConstraint                    any 2.1600
#     Moose::Meta::TypeConstraint::Parameterizable   any 2.1600
#     Moose::Util::TypeConstraints                  1.06 2.1600
#     MooseX::Types                                 0.22   0.45
#     Scalar::Util                                   any   1.42
#     Sub::Exporter                                0.982  0.987
#     if                                             any 0.0602
#     namespace::clean                              0.19   0.25
#     overload                                       any   1.22
# 
t/00-report-prereqs.t .......... ok
t/01-basic.t ................... ok
t/02-tuple.t ................... ok
t/03-dict.t .................... ok
t/04-combined.t ................ ok
t/04-map.t ..................... ok
t/05-advanced.t ................ ok
t/06-api.t ..................... ok
t/07-coerce.t .................. ok
t/08-examples.t ................ ok
t/09-optional.t ................ ok
t/10-recursion.t ............... ok
t/11-overflow.t ................ ok
t/12-error.t ................... ok
t/13-deeper_error.t ............ ok
t/14-fully-qualified.t ......... ok
t/bug-incorrect-message.t ...... ok
t/bug-is-subtype.t ............. ok
t/bug-mixed-stringy.t .......... ok
t/bug-optional.t ............... ok
t/regressions/01-is_type_of.t .. ok
t/zzz-check-breaks.t ........... ok
All tests successful.
Files=23, Tests=359, 12 wallclock secs ( 0.07 usr  0.14 sys +  7.14 cusr  0.86 csys =  8.21 CPU)
Result: PASS

------------------------------
PREREQUISITES
------------------------------

Prerequisite modules loaded:

requires:

    Module                                       Need  Have    
    -------------------------------------------- ----- --------
    Devel::PartialDump                           0.13  0.17    
    if                                           0     0.0602  
    Moose                                        0     2.1600  
    Moose::Meta::TypeCoercion                    0     2.1600  
    Moose::Meta::TypeConstraint                  0     2.1600  
    Moose::Meta::TypeConstraint::Parameterizable 0     2.1600  
    Moose::Util::TypeConstraints                 1.06  2.1600  
    MooseX::Types                                0.22  0.45    
    namespace::clean                             0.19  0.25    
    overload                                     0     1.22    
    perl                                         5.008 5.018002
    Scalar::Util                                 0     1.42    
    Sub::Exporter                                0.982 0.987   

build_requires:

    Module                                       Need  Have    
    -------------------------------------------- ----- --------
    Data::Dumper                                 0     2.151   
    DateTime                                     0     1.18    
    ExtUtils::MakeMaker                          0     7.04    
    File::Spec                                   0     3.47    
    MooseX::Types::DateTime                      0     0.10    
    MooseX::Types::Moose                         0     0.45    
    perl                                         5.008 5.018002
    strict                                       0     1.07    
    Test::Fatal                                  0     0.014   
    Test::More                                   0.88  1.001014
    Test::Requires                               0     0.10    
    warnings                                     0     1.18    

configure_requires:

    Module                                       Need  Have    
    -------------------------------------------- ----- --------
    Module::Build::Tiny                          0.007 0.039   
    perl                                         5.008 5.018002


------------------------------
ENVIRONMENT AND OTHER CONTEXT
------------------------------

Environment variables:

    DBIC_NO_WARN_BAD_PERL = 1
    LANG = C
    LC_ALL = de_DE.UTF-8
    PATH = /usr/local/bin:/usr/bin:/bin:/usr/local/sbin:/usr/sbin:/sbin:/home/eserte/bin/linux-gnu:/home/eserte/bin/sh:/home/eserte/bin:/usr/games:/home/eserte/devel:/home/eserte/src/srezic-misc/scripts
    PERL5LIB = 
    PERL5OPT = 
    PERL5_CPANPLUS_IS_RUNNING = 4679
    PERL5_CPAN_IS_RUNNING = 4679
    PERL5_CPAN_IS_RUNNING_IN_RECURSION = 4612,4679
    PERLDOC = -MPod::Perldoc::ToTextOverstrike
    PERL_BATCH = yes
    PERL_CANARY_STABILITY_NOPROMPT = 1
    PERL_CPAN_REPORTER_CONFIG = /var/tmp/cpansmoker-1001/2015081606/cpanreporter_000_config.ini
    PERL_EXTUTILS_AUTOINSTALL = --defaultdeps
    PERL_HTML_DISPLAY_CLASS = HTML::Display::Mozilla
    PERL_PARALLEL_SMOKER = yes
    SHELL = /bin/zsh
    TERM = screen
    TMPDIR = /var/tmp/cpansmoker-1001/2015081606

Perl special variables (and OS-specific diagnostics, for MSWin32):

    $^X = /bbbike/perl-5.18.2/bin/perl5.18.2
    $UID/$EUID = 1001 / 1001
    $GID = 1001 109 1001
    $EGID = 1001 109 1001

Perl module toolchain versions installed:

    Module              Have    
    ------------------- --------
    CPAN                2.05    
    CPAN::Meta          2.150005
    Cwd                 3.47    
    ExtUtils::CBuilder  0.280223
    ExtUtils::Command   1.18    
    ExtUtils::Install   2.04    
    ExtUtils::MakeMaker 7.04    
    ExtUtils::Manifest  1.68    
    ExtUtils::ParseXS   3.24    
    File::Spec          3.47    
    JSON                2.90    
    JSON::PP            2.27203 
    Module::Build       0.4214  
    Module::Signature   0.78    
    Parse::CPAN::Meta   1.4414  
    Test::Harness       3.35    
    Test::More          1.001014
    YAML                1.15    
    YAML::Syck          1.29    
    version             0.9912  


--

Summary of my perl5 (revision 5 version 18 subversion 2) configuration:
   
  Platform:
    osname=linux, osvers=3.2.0-4-amd64, archname=x86_64-linux
    uname='linux eserte 3.2.0-4-amd64 #1 smp debian 3.2.57-3 x86_64 gnulinux '
    config_args='-ds -e -Dprefix=/opt/perl-5.18.2'
    hint=recommended, useposix=true, d_sigaction=define
    useithreads=undef, usemultiplicity=undef
    useperlio=define, d_sfio=undef, uselargefiles=define, usesocks=undef
    use64bitint=define, use64bitall=define, uselongdouble=undef
    usemymalloc=n, bincompat5005=undef
  Compiler:
    cc='cc', ccflags ='-fno-strict-aliasing -pipe -fstack-protector -I/usr/local/include -D_LARGEFILE_SOURCE -D_FILE_OFFSET_BITS=64',
    optimize='-O2',
    cppflags='-fno-strict-aliasing -pipe -fstack-protector -I/usr/local/include'
    ccversion='', gccversion='4.7.2', gccosandvers=''
    intsize=4, longsize=8, ptrsize=8, doublesize=8, byteorder=12345678
    d_longlong=define, longlongsize=8, d_longdbl=define, longdblsize=16
    ivtype='long', ivsize=8, nvtype='double', nvsize=8, Off_t='off_t', lseeksize=8
    alignbytes=8, prototype=define
  Linker and Libraries:
    ld='cc', ldflags =' -fstack-protector -L/usr/local/lib'
    libpth=/usr/local/lib /lib/x86_64-linux-gnu /lib/../lib /usr/lib/x86_64-linux-gnu /usr/lib/../lib /lib /usr/lib
    libs=-lnsl -ldb -ldl -lm -lcrypt -lutil -lc
    perllibs=-lnsl -ldl -lm -lcrypt -lutil -lc
    libc=, so=so, useshrplib=false, libperl=libperl.a
    gnulibc_version='2.13'
  Dynamic Linking:
    dlsrc=dl_dlopen.xs, dlext=so, d_dlsymun=undef, ccdlflags='-Wl,-E'
    cccdlflags='-fPIC', lddlflags='-shared -O2 -L/usr/local/lib -fstack-protector'


Characteristics of this binary (from libperl): 
  Compile-time options: HAS_TIMES PERLIO_LAYERS PERL_DONT_CREATE_GVSV
                        PERL_HASH_FUNC_ONE_AT_A_TIME_HARD PERL_MALLOC_WRAP
                        PERL_PRESERVE_IVUV PERL_SAWAMPERSAND USE_64_BIT_ALL
                        USE_64_BIT_INT USE_LARGE_FILES USE_LOCALE
                        USE_LOCALE_COLLATE USE_LOCALE_CTYPE
                        USE_LOCALE_NUMERIC USE_PERLIO USE_PERL_ATOF
  Built under linux
  Compiled at May  7 2014 07:25:45
  %ENV:
    PERL5LIB=""
    PERL5OPT=""
    PERL5_CPANPLUS_IS_RUNNING="4679"
    PERL5_CPAN_IS_RUNNING="4679"
    PERL5_CPAN_IS_RUNNING_IN_RECURSION="4612,4679"
    PERLDOC="-MPod::Perldoc::ToTextOverstrike"
    PERL_BATCH="yes"
    PERL_CANARY_STABILITY_NOPROMPT="1"
    PERL_CPAN_REPORTER_CONFIG="/var/tmp/cpansmoker-1001/2015081606/cpanreporter_000_config.ini"
    PERL_EXTUTILS_AUTOINSTALL="--defaultdeps"
    PERL_HTML_DISPLAY_CLASS="HTML::Display::Mozilla"
    PERL_PARALLEL_SMOKER="yes"
  @INC:
    /opt/perl-5.18.2/lib/site_perl/5.18.2/x86_64-linux
    /opt/perl-5.18.2/lib/site_perl/5.18.2
    /opt/perl-5.18.2/lib/5.18.2/x86_64-linux
    /opt/perl-5.18.2/lib/5.18.2
    .