OpenGL v0.70 Perl 5 v5.20.1 cygwin-thread-ld

Status
Fail
From
Peter John Acklam (PJACKLAM)
Dist
OpenGL v0.70
Platform
Perl 5 v5.20.1 cygwin-thread-ld
Date
2024-08-05 08:40:54
ID
f29e7c32-800c-1014-9712-fa2ee2ab45e8
This distribution has been tested as part of the CPAN Testers
project, supporting the Perl programming language.  See
http://wiki.cpantesters.org/ for more information or email
questions to cpan-testers-discuss@perl.org


--
Dear Chris Marshall,

This is a computer-generated report for OpenGL-0.70
on perl 5.20.1, created by CPAN-Reporter-1.2019.

Thank you for uploading your work to CPAN.  However, there was a problem
testing your distribution.

If you think this report is invalid, please consult the CPAN Testers Wiki
for suggestions on how to avoid getting FAIL reports for missing library
or binary dependencies, unsupported operating systems, and so on:

http://wiki.cpantesters.org/wiki/CPANAuthorNotes

Sections of this report:

    * Tester comments
    * Program output
    * Prerequisites
    * Environment and other context

------------------------------
TESTER COMMENTS
------------------------------

Additional comments from tester:

this report is from an automated smoke testing program
and was not reviewed by a human for accuracy

------------------------------
PROGRAM OUTPUT
------------------------------

Output from '/usr/bin/make test':

Running Mkbootstrap for OpenGL ()
chmod 644 OpenGL.bs
PERL_DL_NONLAZY=1 /cygdrive/h/opt/perl5/cygwin_nt-10.0/3.5.3/x86_64/perl/5.20.1/x86_64-cygwin-thread-ld/bin/perl5.20.1.exe "-MExtUtils::Command::MM" "-MTest::Harness" "-e" "undef *Test::Harness::Switches; test_harness(0, 'blib/lib', 'blib/arch')" t/*.t
t/00_require.t ....... ok
t/01_use.t ........... ok
t/10_opengl_array.t .. ok
All tests successful.

Test Summary Report
-------------------
t/10_opengl_array.t (Wstat: 0 Tests: 141 Failed: 0)
  TODO passed:   83-84, 103
Files=3, Tests=143, 19 wallclock secs ( 0.20 usr  0.61 sys +  0.97 cusr  3.92 csys =  5.70 CPU)
Result: PASS
PERL_DL_NONLAZY=1 /cygdrive/h/opt/perl5/cygwin_nt-10.0/3.5.3/x86_64/perl/5.20.1/x86_64-cygwin-thread-ld/bin/perl5.20.1.exe "-Iblib/lib" "-Iblib/arch" test.pl

OpenGL Test App (using hires timer)

Using POGL v0.70
OpenGL installation: 4.6.0 NVIDIA 456.71
NVIDIA Corporation
GeForce GT 730/PCIe/SSE2

Installed extensions (* implemented in the module):
  GL_AMD_multi_draw_indirect
  GL_AMD_seamless_cubemap_per_texture
  GL_ARB_ES2_compatibility
  GL_ARB_ES3_1_compatibility
  GL_ARB_ES3_2_compatibility
  GL_ARB_ES3_compatibility
  GL_ARB_arrays_of_arrays
  GL_ARB_base_instance
  GL_ARB_bindless_texture
  GL_ARB_blend_func_extended
  GL_ARB_buffer_storage
  GL_ARB_clear_buffer_object
  GL_ARB_clear_texture
  GL_ARB_clip_control
* GL_ARB_color_buffer_float
  GL_ARB_compatibility
  GL_ARB_compressed_texture_pixel_storage
  GL_ARB_compute_shader
  GL_ARB_compute_variable_group_size
  GL_ARB_conditional_render_inverted
  GL_ARB_conservative_depth
  GL_ARB_copy_buffer
  GL_ARB_copy_image
  GL_ARB_cull_distance
  GL_ARB_debug_output
  GL_ARB_depth_buffer_float
  GL_ARB_depth_clamp
* GL_ARB_depth_texture
  GL_ARB_derivative_control
  GL_ARB_direct_state_access
* GL_ARB_draw_buffers
  GL_ARB_draw_buffers_blend
  GL_ARB_draw_elements_base_vertex
  GL_ARB_draw_indirect
  GL_ARB_draw_instanced
  GL_ARB_enhanced_layouts
  GL_ARB_explicit_attrib_location
  GL_ARB_explicit_uniform_location
  GL_ARB_fragment_coord_conventions
  GL_ARB_fragment_layer_viewport
* GL_ARB_fragment_program
* GL_ARB_fragment_program_shadow
* GL_ARB_fragment_shader
  GL_ARB_framebuffer_no_attachments
  GL_ARB_framebuffer_object
  GL_ARB_framebuffer_sRGB
  GL_ARB_geometry_shader4
  GL_ARB_get_program_binary
  GL_ARB_get_texture_sub_image
  GL_ARB_gl_spirv
  GL_ARB_gpu_shader5
  GL_ARB_gpu_shader_fp64
  GL_ARB_gpu_shader_int64
* GL_ARB_half_float_pixel
  GL_ARB_half_float_vertex
  GL_ARB_imaging
  GL_ARB_indirect_parameters
  GL_ARB_instanced_arrays
  GL_ARB_internalformat_query
  GL_ARB_internalformat_query2
  GL_ARB_invalidate_subdata
  GL_ARB_map_buffer_alignment
  GL_ARB_map_buffer_range
  GL_ARB_multi_bind
  GL_ARB_multi_draw_indirect
* GL_ARB_multisample
* GL_ARB_multitexture
  GL_ARB_occlusion_query
  GL_ARB_occlusion_query2
  GL_ARB_parallel_shader_compile
  GL_ARB_pipeline_statistics_query
* GL_ARB_pixel_buffer_object
* GL_ARB_point_parameters
* GL_ARB_point_sprite
  GL_ARB_polygon_offset_clamp
  GL_ARB_program_interface_query
  GL_ARB_provoking_vertex
  GL_ARB_query_buffer_object
  GL_ARB_robust_buffer_access_behavior
  GL_ARB_robustness
  GL_ARB_sample_shading
  GL_ARB_sampler_objects
  GL_ARB_seamless_cube_map
  GL_ARB_seamless_cubemap_per_texture
  GL_ARB_separate_shader_objects
  GL_ARB_shader_atomic_counter_ops
  GL_ARB_shader_atomic_counters
  GL_ARB_shader_ballot
  GL_ARB_shader_bit_encoding
  GL_ARB_shader_clock
  GL_ARB_shader_draw_parameters
  GL_ARB_shader_group_vote
  GL_ARB_shader_image_load_store
  GL_ARB_shader_image_size
* GL_ARB_shader_objects
  GL_ARB_shader_precision
  GL_ARB_shader_storage_buffer_object
  GL_ARB_shader_subroutine
  GL_ARB_shader_texture_image_samples
  GL_ARB_shader_texture_lod
* GL_ARB_shading_language_100
  GL_ARB_shading_language_420pack
  GL_ARB_shading_language_include
  GL_ARB_shading_language_packing
* GL_ARB_shadow
  GL_ARB_sparse_buffer
  GL_ARB_sparse_texture
  GL_ARB_spirv_extensions
  GL_ARB_stencil_texturing
  GL_ARB_sync
  GL_ARB_tessellation_shader
  GL_ARB_texture_barrier
* GL_ARB_texture_border_clamp
  GL_ARB_texture_buffer_object
  GL_ARB_texture_buffer_object_rgb32
  GL_ARB_texture_buffer_range
  GL_ARB_texture_compression
  GL_ARB_texture_compression_bptc
  GL_ARB_texture_compression_rgtc
* GL_ARB_texture_cube_map
  GL_ARB_texture_cube_map_array
* GL_ARB_texture_env_add
* GL_ARB_texture_env_combine
  GL_ARB_texture_env_crossbar
* GL_ARB_texture_env_dot3
  GL_ARB_texture_filter_anisotropic
* GL_ARB_texture_float
  GL_ARB_texture_gather
  GL_ARB_texture_mirror_clamp_to_edge
* GL_ARB_texture_mirrored_repeat
  GL_ARB_texture_multisample
* GL_ARB_texture_non_power_of_two
  GL_ARB_texture_query_levels
  GL_ARB_texture_query_lod
* GL_ARB_texture_rectangle
  GL_ARB_texture_rg
  GL_ARB_texture_rgb10_a2ui
  GL_ARB_texture_stencil8
  GL_ARB_texture_storage
  GL_ARB_texture_storage_multisample
  GL_ARB_texture_swizzle
  GL_ARB_texture_view
  GL_ARB_timer_query
  GL_ARB_transform_feedback2
  GL_ARB_transform_feedback3
  GL_ARB_transform_feedback_instanced
  GL_ARB_transform_feedback_overflow_query
  GL_ARB_transpose_matrix
  GL_ARB_uniform_buffer_object
  GL_ARB_vertex_array_bgra
  GL_ARB_vertex_array_object
  GL_ARB_vertex_attrib_64bit
  GL_ARB_vertex_attrib_binding
* GL_ARB_vertex_buffer_object
* GL_ARB_vertex_program
* GL_ARB_vertex_shader
  GL_ARB_vertex_type_10f_11f_11f_rev
  GL_ARB_vertex_type_2_10_10_10_rev
  GL_ARB_viewport_array
  GL_ARB_window_pos
  GL_ATI_draw_buffers
* GL_ATI_texture_float
* GL_ATI_texture_mirror_once
  GL_EXTX_framebuffer_mixed_formats
* GL_EXT_Cg_shader
* GL_EXT_abgr
* GL_EXT_bgra
  GL_EXT_bindable_uniform
* GL_EXT_blend_color
  GL_EXT_blend_equation_separate
  GL_EXT_blend_func_separate
  GL_EXT_blend_minmax
* GL_EXT_blend_subtract
  GL_EXT_compiled_vertex_array
  GL_EXT_depth_bounds_test
  GL_EXT_direct_state_access
  GL_EXT_draw_buffers2
  GL_EXT_draw_instanced
  GL_EXT_draw_range_elements
  GL_EXT_fog_coord
  GL_EXT_framebuffer_blit
  GL_EXT_framebuffer_multisample
  GL_EXT_framebuffer_multisample_blit_scaled
* GL_EXT_framebuffer_object
  GL_EXT_framebuffer_sRGB
  GL_EXT_geometry_shader4
  GL_EXT_gpu_program_parameters
  GL_EXT_gpu_shader4
  GL_EXT_import_sync_object
  GL_EXT_memory_object
  GL_EXT_memory_object_win32
  GL_EXT_multi_draw_arrays
  GL_EXT_multiview_texture_multisample
  GL_EXT_multiview_timer_query
  GL_EXT_packed_depth_stencil
  GL_EXT_packed_float
* GL_EXT_packed_pixels
* GL_EXT_pixel_buffer_object
  GL_EXT_point_parameters
  GL_EXT_polygon_offset_clamp
  GL_EXT_provoking_vertex
* GL_EXT_rescale_normal
  GL_EXT_secondary_color
  GL_EXT_semaphore
  GL_EXT_semaphore_win32
  GL_EXT_separate_shader_objects
* GL_EXT_separate_specular_color
  GL_EXT_shader_image_load_store
  GL_EXT_shader_integer_mix
* GL_EXT_shadow_funcs
  GL_EXT_stencil_two_side
* GL_EXT_stencil_wrap
* GL_EXT_texture3D
  GL_EXT_texture_array
  GL_EXT_texture_buffer_object
  GL_EXT_texture_compression_dxt1
  GL_EXT_texture_compression_latc
  GL_EXT_texture_compression_rgtc
  GL_EXT_texture_compression_s3tc
* GL_EXT_texture_cube_map
  GL_EXT_texture_edge_clamp
  GL_EXT_texture_env_add
* GL_EXT_texture_env_combine
* GL_EXT_texture_env_dot3
* GL_EXT_texture_filter_anisotropic
  GL_EXT_texture_integer
  GL_EXT_texture_lod
* GL_EXT_texture_lod_bias
* GL_EXT_texture_mirror_clamp
  GL_EXT_texture_object
  GL_EXT_texture_sRGB
  GL_EXT_texture_sRGB_R8
  GL_EXT_texture_sRGB_decode
  GL_EXT_texture_shadow_lod
  GL_EXT_texture_shared_exponent
  GL_EXT_texture_storage
  GL_EXT_texture_swizzle
  GL_EXT_timer_query
  GL_EXT_transform_feedback2
* GL_EXT_vertex_array
  GL_EXT_vertex_array_bgra
  GL_EXT_vertex_attrib_64bit
  GL_EXT_win32_keyed_mutex
  GL_EXT_window_rectangles
* GL_IBM_rasterpos_clip
  GL_IBM_texture_mirrored_repeat
  GL_KHR_blend_equation_advanced
  GL_KHR_context_flush_control
  GL_KHR_debug
  GL_KHR_no_error
  GL_KHR_parallel_shader_compile
  GL_KHR_robust_buffer_access_behavior
  GL_KHR_robustness
  GL_KHR_shader_subgroup
  GL_KTX_buffer_region
  GL_NVX_conditional_render
  GL_NVX_gpu_memory_info
  GL_NVX_gpu_multicast2
  GL_NVX_linked_gpu_multicast
  GL_NVX_multigpu_info
  GL_NVX_nvenc_interop
  GL_NVX_progress_fence
  GL_NV_ES1_1_compatibility
  GL_NV_ES3_1_compatibility
  GL_NV_alpha_to_coverage_dither_control
  GL_NV_bindless_multi_draw_indirect
  GL_NV_bindless_multi_draw_indirect_count
  GL_NV_bindless_texture
  GL_NV_blend_equation_advanced
* GL_NV_blend_square
  GL_NV_command_list
  GL_NV_compute_program5
  GL_NV_conditional_render
* GL_NV_copy_depth_to_color
  GL_NV_copy_image
  GL_NV_depth_buffer_float
* GL_NV_depth_clamp
  GL_NV_draw_texture
  GL_NV_draw_vulkan_image
  GL_NV_explicit_multisample
  GL_NV_feature_query
  GL_NV_fence
  GL_NV_float_buffer
* GL_NV_fog_distance
  GL_NV_fragment_program
* GL_NV_fragment_program2
* GL_NV_fragment_program_option
  GL_NV_framebuffer_multisample_coverage
  GL_NV_geometry_shader4
  GL_NV_gpu_multicast
  GL_NV_gpu_program4
  GL_NV_gpu_program4_1
  GL_NV_gpu_program5
  GL_NV_gpu_program5_mem_extended
  GL_NV_gpu_program_fp64
  GL_NV_gpu_shader5
  GL_NV_half_float
  GL_NV_internalformat_sample_query
* GL_NV_light_max_exponent
  GL_NV_multisample_coverage
* GL_NV_multisample_filter_hint
  GL_NV_occlusion_query
* GL_NV_packed_depth_stencil
  GL_NV_parameter_buffer_object
  GL_NV_parameter_buffer_object2
  GL_NV_path_rendering
  GL_NV_pixel_data_range
  GL_NV_point_sprite
  GL_NV_primitive_restart
  GL_NV_query_resource
  GL_NV_query_resource_tag
  GL_NV_register_combiners
  GL_NV_register_combiners2
  GL_NV_shader_atomic_counters
  GL_NV_shader_atomic_float
  GL_NV_shader_atomic_int64
  GL_NV_shader_buffer_load
  GL_NV_shader_storage_buffer_object
  GL_NV_shader_subgroup_partitioned
  GL_NV_shader_thread_group
  GL_NV_shader_thread_shuffle
* GL_NV_texgen_reflection
  GL_NV_texture_barrier
  GL_NV_texture_compression_vtc
    Depends on ARB_texture_compression,EXT_texture_compression_s3tc,ARB_texture_non_power_of_two
  GL_NV_texture_env_combine4
  GL_NV_texture_multisample
* GL_NV_texture_rectangle
  GL_NV_texture_rectangle_compressed
* GL_NV_texture_shader
* GL_NV_texture_shader2
* GL_NV_texture_shader3
  GL_NV_transform_feedback
  GL_NV_transform_feedback2
  GL_NV_uniform_buffer_unified_memory
  GL_NV_vertex_array_range
  GL_NV_vertex_array_range2
  GL_NV_vertex_attrib_integer_64bit
  GL_NV_vertex_buffer_unified_memory
  GL_NV_vertex_program
  GL_NV_vertex_program1_1
    Depends on NV_vertex_program
  GL_NV_vertex_program2
    Depends on NV_vertex_program
* GL_NV_vertex_program2_option
* GL_NV_vertex_program3
  GL_OVR_multiview
  GL_OVR_multiview2
* GL_S3_s3tc
* GL_SGIS_generate_mipmap
* GL_SGIS_texture_lod
* GL_SGIX_depth_texture
* GL_SGIX_shadow
* GL_SUN_slice_accum
  GL_WIN_swap_hint
  WGL_EXT_swap_control
glutCloseFunc: not implemented

Using POGL v0.7
Using Mipmap
Using FBOs
Using native OpenGL ARB Shader functions
Using VBOs
-- done

Hold down arrow keys to rotate, 'r' to reverse, 's' to stop.
Page up/down will move cube away from/towards camera.
Use first letter of shown display mode settings to alter.
Press 'g' to toggle fullscreen mode (not supported on all platforms).
Press 'c' to capture/save a RGBA targa file.
'q' or [Esc] to quit; OpenGL window must have focus for input.

Setting window close to trigger return from mainloop (freeglut).
Entering glutMainLoop
make: *** [Makefile:1117: test_dynamic] Segmentation fault

------------------------------
PREREQUISITES
------------------------------

Prerequisite modules loaded:

requires:

    Module              Need Have    
    ------------------- ---- --------
    Test::More          0    1.302199

build_requires:

    Module              Need Have    
    ------------------- ---- --------
    ExtUtils::MakeMaker 0    6.98    

configure_requires:

    Module              Need Have    
    ------------------- ---- --------
    ExtUtils::MakeMaker 0    6.98    


------------------------------
ENVIRONMENT AND OTHER CONTEXT
------------------------------

Environment variables:

    AUTOMATED_TESTING = 1
    COMSPEC = C:\WINDOWS\system32\cmd.exe
    NUMBER_OF_PROCESSORS = 8
    PATH = /opt/perl5/cygwin_nt-10.0/3.5.3/x86_64/perl/5.20.1/x86_64-cygwin-thread-ld/bin:/opt/perl5/cygwin_nt-10.0/3.5.3/x86_64/perl/5.20.1/x86_64-cygwin-thread-ld/local/bin:/usr/lib/lapack:/usr/local/bin:/usr/bin:/bin
    PERL5LIB = /opt/perl5/cygwin_nt-10.0/3.5.3/x86_64/perl/5.20.1/x86_64-cygwin-thread-ld/local/lib/perl5:/opt/perl5/cygwin_nt-10.0/3.5.3/x86_64/perl/5.20.1/x86_64-cygwin-thread-ld/local/lib/site_perl:/opt/perl5/cygwin_nt-10.0/3.5.3/x86_64/perl/5.20.1/x86_64-cygwin-thread-ld/local/lib
    PERL5OPT = 
    PERL5_CPANPLUS_IS_RUNNING = 50879
    PERL5_CPAN_IS_RUNNING = 50879
    PERL_CANARY_STABILITY_NOPROMPT = 1
    PERL_CPAN_REPORTER_CONFIG = /cygdrive/d/home/peter/.cpanreporter/config-cygwin-rigel.ini
    PERL_EXTUTILS_AUTOINSTALL = 1
    PERL_MB_OPT = --install_base /opt/perl5/cygwin_nt-10.0/3.5.3/x86_64/perl/5.20.1/x86_64-cygwin-thread-ld/local
    PERL_MM_OPT = INSTALL_BASE=/opt/perl5/cygwin_nt-10.0/3.5.3/x86_64/perl/5.20.1/x86_64-cygwin-thread-ld/local
    PERL_MM_USE_DEFAULT = 1
    PERL_TEST_CRITIC = 1
    PERL_TEST_CRITIC = 1
    PERL_TEST_POD = 1
    PERL_TEST_POD = 1
    PERL_USE_UNSAFE_INC = 1
    POD_TESTING = 1
    POD_TESTS = 1
    PROCESSOR_IDENTIFIER = Intel64 Family 6 Model 42 Stepping 7, GenuineIntel
    SHELL = /bin/bash
    TEMP = /tmp
    TERM = xterm-direct

Perl special variables (and OS-specific diagnostics, for MSWin32):

    $^X = /cygdrive/h/opt/perl5/cygwin_nt-10.0/3.5.3/x86_64/perl/5.20.1/x86_64-cygwin-thread-ld/bin/perl5.20.1
    $UID/$EUID = 197609 / 197609
    $GID = 197609 401408 545 4 66049 11 15 68380 113 4095 66048 262180
    $EGID = 197609 401408 545 4 66049 11 15 68380 113 4095 66048 262180

Perl module toolchain versions installed:

    Module              Have    
    ------------------- --------
    CPAN                2.36    
    CPAN::Meta          2.150010
    Cwd                 3.48    
    ExtUtils::CBuilder  0.280217
    ExtUtils::Command   1.18    
    ExtUtils::Install   1.67    
    ExtUtils::MakeMaker 6.98    
    ExtUtils::Manifest  1.63    
    ExtUtils::ParseXS   3.24    
    File::Spec          3.48    
    JSON                n/a     
    JSON::PP            4.16    
    Module::Build       0.4234  
    Module::Signature   n/a     
    Parse::CPAN::Meta   2.150010
    Test2               1.302199
    Test::Harness       3.30    
    Test::More          1.302199
    YAML                1.31    
    YAML::Syck          n/a     
    version             0.9909  


--

Summary of my perl5 (revision 5 version 20 subversion 1) configuration:
   
  Platform:
    osname=cygwin, osvers=3.5.3-1.x86_64, archname=cygwin-thread-ld
    uname='cygwin_nt-10.0-19045 rigel 3.5.3-1.x86_64 2024-04-03 17:25 utc x86_64 cygwin '
    config_args='-de -Dmksymlinks -Uinc_version_list -Uinstallusrbinperl -Dusethreads -Uusemultiplicity -Duselongdouble -Dprefix=/opt/perl5/cygwin_nt-10.0/3.5.3/x86_64/perl/5.20.1/x86_64-cygwin-thread-ld -Darchname=x86_64-cygwin-thread-ld'
    hint=recommended, useposix=true, d_sigaction=define
    useithreads=define, usemultiplicity=undef
    use64bitint=define, use64bitall=define, uselongdouble=define
    usemymalloc=n, bincompat5005=undef
  Compiler:
    cc='gcc', ccflags ='-U__STRICT_ANSI__ -D_GNU_SOURCE -fwrapv -fpcc-struct-return -pipe -fstack-protector',
    optimize='-O3',
    cppflags='-U__STRICT_ANSI__ -D_GNU_SOURCE -fwrapv -fpcc-struct-return -pipe -fstack-protector -D__GNUC__'
    ccversion='', gccversion='11.4.0', gccosandvers=''
    intsize=4, longsize=8, ptrsize=8, doublesize=8, byteorder=12345678
    d_longlong=define, longlongsize=8, d_longdbl=define, longdblsize=16
    ivtype='long', ivsize=8, nvtype='long double', nvsize=16, Off_t='off_t', lseeksize=8
    alignbytes=16, prototype=define
  Linker and Libraries:
    ld='g++', ldflags =' -Wl,--enable-auto-import -Wl,--export-all-symbols -Wl,--enable-auto-image-base -fstack-protector -L/usr/local/lib'
    libpth=/usr/lib /usr/lib/gcc/x86_64-pc-cygwin/11/../../../../lib/../include/w32api /usr/local/lib /lib
    libs=-ldl
    perllibs=-ldl
    libc=/usr/lib/libcygwin.a, so=dll, useshrplib=true, libperl=cygperl5_20_1.dll
    gnulibc_version=''
  Dynamic Linking:
    dlsrc=dl_dlopen.xs, dlext=dll, d_dlsymun=undef, ccdlflags=' '
    cccdlflags=' ', lddlflags=' --shared  -Wl,--enable-auto-import -Wl,--export-all-symbols -Wl,--enable-auto-image-base -L/usr/local/lib -fstack-protector'


Characteristics of this binary (from libperl): 
  Compile-time options: HAS_TIMES MULTIPLICITY PERLIO_LAYERS
                        PERL_DONT_CREATE_GVSV
                        PERL_HASH_FUNC_ONE_AT_A_TIME_HARD
                        PERL_IMPLICIT_CONTEXT PERL_NEW_COPY_ON_WRITE
                        PERL_PRESERVE_IVUV USE_64_BIT_ALL USE_64_BIT_INT
                        USE_ITHREADS USE_LARGE_FILES USE_LOCALE
                        USE_LOCALE_COLLATE USE_LOCALE_CTYPE
                        USE_LOCALE_NUMERIC USE_LONG_DOUBLE USE_PERLIO
                        USE_PERL_ATOF USE_REENTRANT_API
  Built under cygwin
  Compiled at Jul 13 2024 22:48:34
  %ENV:
    PERL5LIB="/opt/perl5/cygwin_nt-10.0/3.5.3/x86_64/perl/5.20.1/x86_64-cygwin-thread-ld/local/lib/perl5:/opt/perl5/cygwin_nt-10.0/3.5.3/x86_64/perl/5.20.1/x86_64-cygwin-thread-ld/local/lib/site_perl:/opt/perl5/cygwin_nt-10.0/3.5.3/x86_64/perl/5.20.1/x86_64-cygwin-thread-ld/local/lib"
    PERL5OPT=""
    PERL5_CPANPLUS_IS_RUNNING="50879"
    PERL5_CPAN_IS_RUNNING="50879"
    PERL_CANARY_STABILITY_NOPROMPT="1"
    PERL_CPAN_REPORTER_CONFIG="/cygdrive/d/home/peter/.cpanreporter/config-cygwin-rigel.ini"
    PERL_EXTUTILS_AUTOINSTALL="1"
    PERL_MB_OPT="--install_base /opt/perl5/cygwin_nt-10.0/3.5.3/x86_64/perl/5.20.1/x86_64-cygwin-thread-ld/local"
    PERL_MM_OPT="INSTALL_BASE=/opt/perl5/cygwin_nt-10.0/3.5.3/x86_64/perl/5.20.1/x86_64-cygwin-thread-ld/local"
    PERL_MM_USE_DEFAULT="1"
    PERL_TEST_CRITIC="1"
    PERL_TEST_POD="1"
    PERL_USE_UNSAFE_INC="1"
  @INC:
    /opt/perl5/cygwin_nt-10.0/3.5.3/x86_64/perl/5.20.1/x86_64-cygwin-thread-ld/local/lib/perl5/cygwin-thread-ld
    /opt/perl5/cygwin_nt-10.0/3.5.3/x86_64/perl/5.20.1/x86_64-cygwin-thread-ld/local/lib/perl5
    /opt/perl5/cygwin_nt-10.0/3.5.3/x86_64/perl/5.20.1/x86_64-cygwin-thread-ld/local/lib/site_perl
    /opt/perl5/cygwin_nt-10.0/3.5.3/x86_64/perl/5.20.1/x86_64-cygwin-thread-ld/local/lib
    /opt/perl5/cygwin_nt-10.0/3.5.3/x86_64/perl/5.20.1/x86_64-cygwin-thread-ld/lib/site_perl/5.20.1/cygwin-thread-ld
    /opt/perl5/cygwin_nt-10.0/3.5.3/x86_64/perl/5.20.1/x86_64-cygwin-thread-ld/lib/site_perl/5.20.1
    /opt/perl5/cygwin_nt-10.0/3.5.3/x86_64/perl/5.20.1/x86_64-cygwin-thread-ld/lib/5.20.1/cygwin-thread-ld
    /opt/perl5/cygwin_nt-10.0/3.5.3/x86_64/perl/5.20.1/x86_64-cygwin-thread-ld/lib/5.20.1
    .