Report for AnyEvent-Curl-Multi-1.1

Back
From: metabase:user:1eed3a18-483e-11e2-a87b-a3931c712682
Subject: PASS AnyEvent-Curl-Multi-1.1 v5.16.3 GNU/Linux
Date: 2013-05-24T17:04:08Z

This distribution has been tested as part of the CPAN Testers
project, supporting the Perl programming language.  See
http://wiki.cpantesters.org/ for more information or email
questions to cpan-testers-discuss@perl.org


--
Dear OTTERLEY,

This is a computer-generated report for AnyEvent-Curl-Multi-1.1
on perl 5.16.3, created by App::cpanminus::reporter 0.09 (1.6914).

Thank you for uploading your work to CPAN.  Congratulations!
All tests were successful.

Sections of this report:

    * Tester comments
    * Program output
    * Prerequisites
    * Environment and other context

------------------------------
TESTER COMMENTS
------------------------------

Additional comments from tester:

none provided

------------------------------
PROGRAM OUTPUT
------------------------------

Output from '':

Building and testing AnyEvent-Curl-Multi-1.1
cp lib/AnyEvent/Curl/Multi.pm blib/lib/AnyEvent/Curl/Multi.pm
Manifying blib/man3/AnyEvent::Curl::Multi.3
PERL_DL_NONLAZY=1 /home/perlbrew/perl5/perlbrew/perls/perl-5.16.3/bin/perl "-MExtUtils::Command::MM" "-e" "test_harness(0, 'blib/lib', 'blib/arch')" t/*.t
# Testing AnyEvent::Curl::Multi 1.1, Perl 5.016003, /home/perlbrew/perl5/perlbrew/perls/perl-5.16.3/bin/perl
t/00-load.t ...... ok
t/boilerplate.t .. ok
t/manifest.t ..... skipped: Author tests not required for installation
t/pod.t .......... ok
Too late to run CHECK block at /home/perlbrew/perl5/perlbrew/perls/perl-5.16.3/lib/site_perl/5.16.3/x86_64-linux/EV.pm line 123.
t/simple.t ....... ok
All tests successful.

Test Summary Report
-------------------
t/boilerplate.t (Wstat: 0 Tests: 3 Failed: 0)
  TODO passed:   1-3
Files=5, Tests=14,  2 wallclock secs ( 0.04 usr  0.04 sys +  0.29 cusr  0.12 csys =  0.49 CPU)
Result: PASS

------------------------------
PREREQUISITES
------------------------------

Prerequisite modules loaded:

runtime:

    Module         Need Have
    -------------- ---- ----
    AnyEvent       5    7.04
    HTTP::Request  0    6.00
    HTTP::Response 0    6.04
    Object::Event  1    1.23
    Test::More     0    0.98
    WWW::Curl      4.14 4.15


------------------------------
ENVIRONMENT AND OTHER CONTEXT
------------------------------

Environment variables:

    LANG = en_US.UTF-8
    LC_ALL = en_US.UTF-8
    PATH = /home/perlbrew/perl5/perlbrew/bin:/home/perlbrew/perl5/perlbrew/perls/perl-5.16.3/bin:/usr/local/bin:/usr/bin:/bin:/usr/local/games:/usr/games:/opt/vagrant_ruby/bin
    PERLBREW_BASHRC_VERSION = 0.63
    PERLBREW_HOME = /home/perlbrew/.perlbrew
    PERLBREW_MANPATH = /home/perlbrew/perl5/perlbrew/perls/perl-5.16.3/man
    PERLBREW_PATH = /home/perlbrew/perl5/perlbrew/bin:/home/perlbrew/perl5/perlbrew/perls/perl-5.16.3/bin
    PERLBREW_PERL = perl-5.16.3
    PERLBREW_ROOT = /home/perlbrew/perl5/perlbrew
    PERLBREW_VERSION = 0.63
    PERL_MM_USE_DEFAULT = 1
    SHELL = /bin/bash
    TERM = screen

Perl special variables (and OS-specific diagnostics, for MSWin32):

    EGID = 1003 1003
    EUID = 1001
    EXECUTABLE_NAME = /home/perlbrew/perl5/perlbrew/perls/perl-5.16.3/bin/perl
    GID = 1003 1003
    UID = 1001

Perl module toolchain versions installed:

    Module              Have    
    ------------------- --------
    CPAN                2.00    
    CPAN::Meta          2.130880
    Cwd                 3.40    
    ExtUtils::CBuilder  0.280206
    ExtUtils::Command   1.17    
    ExtUtils::Install   1.58    
    ExtUtils::MakeMaker 6.66    
    ExtUtils::Manifest  1.61    
    ExtUtils::ParseXS   3.18    
    File::Spec          3.40    
    JSON                2.58    
    JSON::PP            2.27202 
    Module::Build       0.4005  
    Module::Signature   0.70    
    Parse::CPAN::Meta   1.4404  
    Test::Harness       3.28    
    Test::More          0.98    
    YAML                0.84    
    YAML::Syck          1.27    
    version             0.9902  


--

Summary of my perl5 (revision 5 version 16 subversion 3) configuration:
   
  Platform:
    osname=linux, osvers=3.2.0-23-generic, archname=x86_64-linux
    uname='linux precise64 3.2.0-23-generic #36-ubuntu smp tue apr 10 20:39:51 utc 2012 x86_64 x86_64 x86_64 gnulinux '
    config_args='-de -Dprefix=/home/perlbrew/perl5/perlbrew/perls/perl-5.16.3 -Aeval:scriptdir=/home/perlbrew/perl5/perlbrew/perls/perl-5.16.3/bin'
    hint=recommended, useposix=true, d_sigaction=define
    useithreads=undef, usemultiplicity=undef
    useperlio=define, d_sfio=undef, uselargefiles=define, usesocks=undef
    use64bitint=define, use64bitall=define, uselongdouble=undef
    usemymalloc=n, bincompat5005=undef
  Compiler:
    cc='cc', ccflags ='-fno-strict-aliasing -pipe -fstack-protector -I/usr/local/include -D_LARGEFILE_SOURCE -D_FILE_OFFSET_BITS=64',
    optimize='-O2',
    cppflags='-fno-strict-aliasing -pipe -fstack-protector -I/usr/local/include'
    ccversion='', gccversion='4.6.3', gccosandvers=''
    intsize=4, longsize=8, ptrsize=8, doublesize=8, byteorder=12345678
    d_longlong=define, longlongsize=8, d_longdbl=define, longdblsize=16
    ivtype='long', ivsize=8, nvtype='double', nvsize=8, Off_t='off_t', lseeksize=8
    alignbytes=8, prototype=define
  Linker and Libraries:
    ld='cc', ldflags =' -fstack-protector -L/usr/local/lib'
    libpth=/usr/local/lib /lib/x86_64-linux-gnu /lib/../lib /usr/lib/x86_64-linux-gnu /usr/lib/../lib /lib /usr/lib
    libs=-lnsl -ldb -ldl -lm -lcrypt -lutil -lc
    perllibs=-lnsl -ldl -lm -lcrypt -lutil -lc
    libc=, so=so, useshrplib=false, libperl=libperl.a
    gnulibc_version='2.15'
  Dynamic Linking:
    dlsrc=dl_dlopen.xs, dlext=so, d_dlsymun=undef, ccdlflags='-Wl,-E'
    cccdlflags='-fPIC', lddlflags='-shared -O2 -L/usr/local/lib -fstack-protector'


Characteristics of this binary (from libperl): 
  Compile-time options: HAS_TIMES PERLIO_LAYERS PERL_DONT_CREATE_GVSV
                        PERL_MALLOC_WRAP PERL_PRESERVE_IVUV USE_64_BIT_ALL
                        USE_64_BIT_INT USE_LARGE_FILES USE_LOCALE
                        USE_LOCALE_COLLATE USE_LOCALE_CTYPE
                        USE_LOCALE_NUMERIC USE_PERLIO USE_PERL_ATOF
  Built under linux
  Compiled at May 23 2013 09:38:43
  %ENV:
    PERLBREW_BASHRC_VERSION="0.63"
    PERLBREW_HOME="/home/perlbrew/.perlbrew"
    PERLBREW_MANPATH="/home/perlbrew/perl5/perlbrew/perls/perl-5.16.3/man"
    PERLBREW_PATH="/home/perlbrew/perl5/perlbrew/bin:/home/perlbrew/perl5/perlbrew/perls/perl-5.16.3/bin"
    PERLBREW_PERL="perl-5.16.3"
    PERLBREW_ROOT="/home/perlbrew/perl5/perlbrew"
    PERLBREW_VERSION="0.63"
    PERL_MM_USE_DEFAULT="1"
  @INC:
    /home/perlbrew/perl5/perlbrew/perls/perl-5.16.3/lib/site_perl/5.16.3/x86_64-linux
    /home/perlbrew/perl5/perlbrew/perls/perl-5.16.3/lib/site_perl/5.16.3
    /home/perlbrew/perl5/perlbrew/perls/perl-5.16.3/lib/5.16.3/x86_64-linux
    /home/perlbrew/perl5/perlbrew/perls/perl-5.16.3/lib/5.16.3
    .